Workbook
Name kat: #REF!
Name kat_a_prepocet: kat_akce!$G$1:$M$25
Name kateg: Kategorie!$A$4:$L$35
Name KATEG_2: Kateg_2!$B$61:$B$87
Name kateg2: Kateg_2!$B$61:$K$89
Name popisky: Kateg_2!$B$61:$K$87
Name Sez_kat: NASTAVENÍ!$AX$14:$BF$38
Name vse: #REF!

Sheet oddíly
E1: =MAX(D4:D153) -> 31
A3: Popisky řádků | B3: Počet z Jednota - bydliště
A4: Vyškov | B4: 26 | D4: 1 | E4: =A4 -> Vyškov | F4: =B4 -> 26 | M4: Vnorovy
A5: Obřany | B5: 15 | D5: =IF(ISNUMBER(B5),MAX(D4:D4)+1,"") -> 2 | E5: =A5 -> Obřany | F5: =B5 -> 15 | M5: Hranice
A6: Domanín | B6: 14 | D6: =IF(ISNUMBER(B6),MAX(D5:D5)+1,"") -> 3 | E6: =A6 -> Domanín | F6: =B6 -> 14 | M6: Šitbořice
A7: Židenice | B7: 6 | D7: =IF(ISNUMBER(B7),MAX(D6:D6)+1,"") -> 4 | E7: =A7 -> Židenice | F7: =B7 -> 6 | M7: Polešovice
A8: Silůvky | B8: 5 | D8: =IF(ISNUMBER(B8),MAX(D7:D7)+1,"") -> 5 | E8: =A8 -> Silůvky | F8: =B8 -> 5 | M8: Domažlice
A9: Hranice | B9: 4 | D9: =IF(ISNUMBER(B9),MAX(D8:D8)+1,"") -> 6 | E9: =A9 -> Hranice | F9: =B9 -> 4 | M9: Vizovice
A10: Stará-Bělá | B10: 4 | D10: =IF(ISNUMBER(B10),MAX(D9:D9)+1,"") -> 7 | E10: =A10 -> Stará-Bělá | F10: =B10 -> 4 | M10: Zlín - Malenovice
A11: Šitbořice | B11: 4 | D11: =IF(ISNUMBER(B11),MAX(D10:D10)+1,"") -> 8 | E11: =A11 -> Šitbořice | F11: =B11 -> 4 | M11: Kunovice
A12: Polešovice | B12: 4 | D12: =IF(ISNUMBER(B12),MAX(D11:D11)+1,"") -> 9 | E12: =A12 -> Polešovice | F12: =B12 -> 4 | M12: Klimkovice
A13: Vnorovy | B13: 4 | D13: =IF(ISNUMBER(B13),MAX(D12:D12)+1,"") -> 10 | E13: =A13 -> Vnorovy | F13: =B13 -> 4 | M13: Orlice
A14: Halenkov-Huslenky | B14: 3 | D14: =IF(ISNUMBER(B14),MAX(D13:D13)+1,"") -> 11 | E14: =A14 -> Halenkov-Huslenky | F14: =B14 -> 3 | M14: Drnovice
A15: Domažlice | B15: 3 | D15: =IF(ISNUMBER(B15),MAX(D14:D14)+1,"") -> 12 | E15: =A15 -> Domažlice | F15: =B15 -> 3 | M15: Mor. Budějovice
A16: Valašké klobouky | B16: 3 | D16: =IF(ISNUMBER(B16),MAX(D15:D15)+1,"") -> 13 | E16: =A16 -> Valašké klobouky | F16: =B16 -> 3 | M16: Bystřice pod hostýnem
... A34: Dolní Dobrouč | B34: 1 | D34: =IF(ISNUMBER(B34),MAX(D33:D33)+1,"") -> 31 | E34: =A34 -> Dolní Dobrouč | F34: =B34 -> 1 | M34: Dolní Dobrouč
A35: (prázdné) | D35: =IF(ISNUMBER(B35),MAX(D34:D34)+1,"") | E35: =A35 -> (prázdné) | F35: =B35 -> 0
A36: Celkový součet | B36: 128 | D36: =IF(ISNUMBER(B36),MAX(D35:D35)+1,"") -> 1 | E36: =A36 -> Celkový součet | F36: =B36 -> 128
D37: =IF(ISNUMBER(B37),MAX(D36:D36)+1,"") | E37: =A37 -> 0 | F37: =B37 -> 0
D38: =IF(ISNUMBER(B38),MAX(D37:D37)+1,"") | E38: =A38 -> 0 | F38: =B38 -> 0
D39: =IF(ISNUMBER(B39),MAX(D38:D38)+1,"") | F39: =B39 -> 0
D40: =IF(ISNUMBER(B40),MAX(D39:D39)+1,"") | F40: =B40 -> 0
D41: =IF(ISNUMBER(B41),MAX(D40:D40)+1,"") | F41: =B41 -> 0
D42: =IF(ISNUMBER(B42),MAX(D41:D41)+1,"") | F42: =B42 -> 0
D43: =IF(ISNUMBER(B43),MAX(D42:D42)+1,"") | F43: =B43 -> 0
D44: =IF(ISNUMBER(B44),MAX(D43:D43)+1,"") | F44: =B44 -> 0
D45: =IF(ISNUMBER(B45),MAX(D44:D44)+1,"") | F45: =B45 -> 0
D46: =IF(ISNUMBER(B46),MAX(D45:D45)+1,"") | F46: =B46 -> 0
D47: =IF(ISNUMBER(B47),MAX(D46:D46)+1,"") | F47: =B47 -> 0
D48: =IF(ISNUMBER(B48),MAX(D47:D47)+1,"") | F48: =B48 -> 0
D49: =IF(ISNUMBER(B49),MAX(D48:D48)+1,"") | F49: =B49 -> 0
D50: =IF(ISNUMBER(B50),MAX(D49:D49)+1,"") | F50: =B50 -> 0
... D54: =IF(ISNUMBER(B54),MAX(D53:D53)+1,"") | F54: =B54 -> 0

Sheet Kategorie
B1: Kategorie | K1: =SUM(K4:K35) -> 137 | N1: Listina | CS1: pohlaví | CT1: Naz_T_Kat
E2: 8 | F2: 7 | G2: 7 | J2: 10 | N2: =SUM(N4:N34) -> 1 | O2: =SUM(O4:O34) -> 2 | P2: =SUM(P4:P34) -> 1 | Q2: =SUM(Q4:Q34) -> 1 | R2: =SUM(R4:R34) -> 1 | S2: =SUM(S4:S34) -> 2 | T2: =SUM(T4:T34) -> 1 | U2: =SUM(U4:U34) -> 2 | ... AL2: =SUM(AL4:AL34) -> 0
G3: rok narození | H3: sk | I3: Délka tratě | J3: kat. | K3: Počet v KAT | L3: Počet SK | N3: 1 | O3: 2 | P3: 3 | Q3: 4 | R3: 5 | S3: 6 | T3: 7 | U3: 8 | V3: 9 | W3: 10 | X3: 11 | Y3: 12 | Z3: 13 | AA3: 14 | AB3: 15 | AC3: 16 | AD3: 17 | AE3: 18 | AF3: 19 | AG3: 20 | AH3: 21 | AI3: 22 | AJ3: 23 | AK3: 24 | AL3: 25 | BQ3: v listině | BS3: Skupina
A4: =J4 -> D01 | B4: =IF(A4="","",VLOOKUP(Kategorie!A4,kateg2,4,0)) -> Benjamínci D | C4: do | D4: 11 | E4: =IF($J4="",0,VLOOKUP($J4,kateg2,E$2,0)) -> 2026 | F4: =IF($J4="",0,VLOOKUP($J4,kateg2,F$2,0)) -> 2021 | G4: =IF(E4="","",VLOOKUP($J4,kateg2,G$2,0) & "-" & VLOOKUP($J4,kateg2,E$2,0)) -> 2021-2026 | H4: =IF(I4=20,1,IF(I4=40,2,IF(I4=60,3,IF(I4=80,4,5)))) -> 1 | I4: 20 | J4: =IF(ISERROR(VLOOKUP(D4,Kateg_2!$C$61:$N$89,J$2,0)),"",VLOOKUP(D4,Kateg_2!$C$61:$N$89,J$2,0)) -> D01 | K4: =IF(J4="",0,HLOOKUP(J4,Vstup!$L$1:$AN$5,5,FALSE)) -> 15 | L4: =COUNTIF(Vstup!$J$7:$J$355,H4) -> 33 | M4: =N4&O4&P4&Q4&R4&S4&T4&U4&V4&W4&X4&Y4&Z4&AA4&AB4&AC4&AH4&AI4&AJ4&AK4&AL4&AD4&AE4&AF4&AG4 -> 1 | N4: 1 | AM4: =J4 -> D01 | AN4: Chlapci - | AO4: =CONCATENATE(AN4," ročník narození ",G4," ",I4," m") -> Chlapci - ročník narození 2021-2026 20 m | BQ4: =IF(ISERROR(MATCH(1,N4:AL4)),"",MATCH(1,N4:AL4)) -> 1 | BR4: =H4 -> 1 | BS4: 1 | BT4: =COUNTIF(Vstup!$J$7:$J$148,BS4) -> 33 | BV4: =IF($K4="","",N4*$K4) -> 15 | BW4: =IF($K4="","",O4*$K4) -> 0 | BX4: =IF($K4="","",P4*$K4) -> 0 | BY4: =IF($K4="","",Q4*$K4) -> 0 | BZ4: =IF($K4="","",R4*$K4) -> 0 | CA4: =IF($K4="","",S4*$K4) -> 0 | CB4: =IF($K4="","",T4*$K4) -> 0 | CC4: =IF($K4="","",U4*$K4) -> 0 | ... CR4: =IF($K4="","",AJ4*$K4) -> 0 | CS4: =IF(MID(A4,1,1)="D",0,1) -> 0 | CT4: =IF(B4="","",CONCATENATE(B4," - ročník ",G4," ",I4," m")) -> Benjamínci D - ročník 2021-2026 20 m | CU4: =IF(CT4="",0,COUNTIF(Vysledky!$E$4:$E$491,Kategorie!A4)) -> 0
A5: =J5 -> D02 | B5: =IF(A5="","",VLOOKUP(Kategorie!A5,kateg2,4,0)) -> Atletická školka D | C5: do | D5: 12 | E5: =IF($J5="",0,VLOOKUP($J5,kateg2,E$2,0)) -> 2020 | F5: =IF($J5="",0,VLOOKUP($J5,kateg2,F$2,0)) -> 2019 | G5: =IF(E5="","",VLOOKUP($J5,kateg2,G$2,0) & "-" & VLOOKUP($J5,kateg2,E$2,0)) -> 2019-2020 | H5: =IF(I5=20,1,IF(I5=40,2,IF(I5=60,3,IF(I5=80,4,5)))) -> 1 | I5: 20 | J5: =IF(ISERROR(VLOOKUP(D5,Kateg_2!$C$61:$N$89,J$2,0)),"",VLOOKUP(D5,Kateg_2!$C$61:$N$89,J$2,0)) -> D02 | K5: =IF(J5="",0,HLOOKUP(J5,Vstup!$L$1:$AN$5,5,FALSE)) -> 4 | M5: =N5&O5&P5&Q5&R5&S5&T5&U5&V5&W5&X5&Y5&Z5&AA5&AB5&AC5&AH5&AI5&AJ5&AK5&AL5&AD5&AE5&AF5&AG5 -> 1 | O5: 1 | AM5: =J5 -> D02 | AN5: Dívky - | AO5: =CONCATENATE(AN5," ročník narození ",G5," ",I5," m") -> Dívky - ročník narození 2019-2020 20 m | BQ5: =IF(ISERROR(MATCH(1,N5:AL5)),"",MATCH(1,N5:AL5)) -> 2 | BR5: =H5 -> 1 | BV5: =IF($K5="","",N5*$K5) -> 0 | BW5: =IF($K5="","",O5*$K5) -> 4 | BX5: =IF($K5="","",P5*$K5) -> 0 | BY5: =IF($K5="","",Q5*$K5) -> 0 | BZ5: =IF($K5="","",R5*$K5) -> 0 | CA5: =IF($K5="","",S5*$K5) -> 0 | CB5: =IF($K5="","",T5*$K5) -> 0 | CC5: =IF($K5="","",U5*$K5) -> 0 | ... CR5: =IF($K5="","",AJ5*$K5) -> 0 | CS5: =IF(MID(A5,1,1)="D",0,1) -> 0 | CT5: =IF(B5="","",CONCATENATE(B5," - ročník ",G5," ",I5," m")) -> Atletická školka D - ročník 2019-2020 20 m | CU5: =IF(CT5="",0,COUNTIF(Vysledky!$E$4:$E$491,Kategorie!A5)) -> 0
A6: =J6 -> H01 | B6: =IF(A6="","",VLOOKUP(Kategorie!A6,kateg2,4,0)) -> Hendikepovaní | C6: 7 | D6: 13 | E6: =IF($J6="",0,VLOOKUP($J6,kateg2,E$2,0)) -> 2026 | F6: =IF($J6="",0,VLOOKUP($J6,kateg2,F$2,0)) -> 2026 | G6: =IF(E6="","",VLOOKUP($J6,kateg2,G$2,0) & "-" & VLOOKUP($J6,kateg2,E$2,0)) -> 2026-2026 | H6: =IF(I6=20,1,IF(I6=40,2,IF(I6=60,3,IF(I6=80,4,5)))) -> 1 | I6: 20 | J6: =IF(ISERROR(VLOOKUP(D6,Kateg_2!$C$61:$N$89,J$2,0)),"",VLOOKUP(D6,Kateg_2!$C$61:$N$89,J$2,0)) -> H01 | K6: =IF(J6="",0,HLOOKUP(J6,Vstup!$L$1:$AN$5,5,FALSE)) -> 2 | M6: =N6&O6&P6&Q6&R6&S6&T6&U6&V6&W6&X6&Y6&Z6&AA6&AB6&AC6&AH6&AI6&AJ6&AK6&AL6&AD6&AE6&AF6&AG6 -> 1 | O6: 1 | AM6: =J6 -> H01 | AN6: Chlapci - | AO6: =CONCATENATE(AN6," ročník narození ",G6," ",I6," m") -> Chlapci - ročník narození 2026-2026 20 m | BQ6: =IF(ISERROR(MATCH(1,N6:AL6)),"",MATCH(1,N6:AL6)) -> 2 | BR6: =H6 -> 1 | BS6: 2 | BT6: =COUNTIF(Vstup!$J$7:$J$148,BS6) -> 19 | BV6: =IF($K6="","",N6*$K6) -> 0 | BW6: =IF($K6="","",O6*$K6) -> 2 | BX6: =IF($K6="","",P6*$K6) -> 0 | BY6: =IF($K6="","",Q6*$K6) -> 0 | BZ6: =IF($K6="","",R6*$K6) -> 0 | CA6: =IF($K6="","",S6*$K6) -> 0 | CB6: =IF($K6="","",T6*$K6) -> 0 | CC6: =IF($K6="","",U6*$K6) -> 0 | ... CR6: =IF($K6="","",AJ6*$K6) -> 0 | CS6: =IF(MID(A6,1,1)="D",0,1) -> 1 | CT6: =IF(B6="","",CONCATENATE(B6," - ročník ",G6," ",I6," m")) -> Hendikepovaní - ročník 2026-2026 20 m | CU6: =IF(CT6="",0,COUNTIF(Vysledky!$E$4:$E$491,Kategorie!A6)) -> 0
A7: =J7 -> C01 | B7: =IF(A7="","",VLOOKUP(Kategorie!A7,kateg2,4,0)) -> Benjamínci H | D7: 14 | E7: =IF($J7="",0,VLOOKUP($J7,kateg2,E$2,0)) -> 2026 | F7: =IF($J7="",0,VLOOKUP($J7,kateg2,F$2,0)) -> 2021 | G7: =IF(E7="","",VLOOKUP($J7,kateg2,G$2,0) & "-" & VLOOKUP($J7,kateg2,E$2,0)) -> 2021-2026 | H7: =IF(I7=20,1,IF(I7=40,2,IF(I7=60,3,IF(I7=80,4,5)))) -> 1 | I7: 20 | J7: =IF(ISERROR(VLOOKUP(D7,Kateg_2!$C$61:$N$89,J$2,0)),"",VLOOKUP(D7,Kateg_2!$C$61:$N$89,J$2,0)) -> C01 | K7: =IF(J7="",0,HLOOKUP(J7,Vstup!$L$1:$AN$5,5,FALSE)) -> 7 | M7: =N7&O7&P7&Q7&R7&S7&T7&U7&V7&W7&X7&Y7&Z7&AA7&AB7&AC7&AH7&AI7&AJ7&AK7&AL7&AD7&AE7&AF7&AG7 -> 1 | P7: 1 | BQ7: =IF(ISERROR(MATCH(1,N7:AL7)),"",MATCH(1,N7:AL7)) -> 3 | BR7: =H7 -> 1 | BV7: =IF($K7="","",N7*$K7) -> 0 | BW7: =IF($K7="","",O7*$K7) -> 0 | BX7: =IF($K7="","",P7*$K7) -> 7 | BY7: =IF($K7="","",Q7*$K7) -> 0 | BZ7: =IF($K7="","",R7*$K7) -> 0 | CA7: =IF($K7="","",S7*$K7) -> 0 | CB7: =IF($K7="","",T7*$K7) -> 0 | CC7: =IF($K7="","",U7*$K7) -> 0 | ... CR7: =IF($K7="","",AJ7*$K7) -> 0 | CS7: =IF(MID(A7,1,1)="D",0,1) -> 1 | CT7: =IF(B7="","",CONCATENATE(B7," - ročník ",G7," ",I7," m")) -> Benjamínci H - ročník 2021-2026 20 m | CU7: =IF(CT7="",0,COUNTIF(Vysledky!$E$4:$E$491,Kategorie!A7)) -> 0
A8: =J8 -> C02 | B8: =IF(A8="","",VLOOKUP(Kategorie!A8,kateg2,4,0)) -> Atletická školka H | C8: 7 | D8: 15 | E8: =IF($J8="",0,VLOOKUP($J8,kateg2,E$2,0)) -> 2020 | F8: =IF($J8="",0,VLOOKUP($J8,kateg2,F$2,0)) -> 2019 | G8: =IF(E8="","",VLOOKUP($J8,kateg2,G$2,0) & "-" & VLOOKUP($J8,kateg2,E$2,0)) -> 2019-2020 | H8: =IF(I8=20,1,IF(I8=40,2,IF(I8=60,3,IF(I8=80,4,5)))) -> 1 | I8: 20 | J8: =IF(ISERROR(VLOOKUP(D8,Kateg_2!$C$61:$N$89,J$2,0)),"",VLOOKUP(D8,Kateg_2!$C$61:$N$89,J$2,0)) -> C02 | K8: =IF(J8="",0,HLOOKUP(J8,Vstup!$L$1:$AN$5,5,FALSE)) -> 5 | M8: =N8&O8&P8&Q8&R8&S8&T8&U8&V8&W8&X8&Y8&Z8&AA8&AB8&AC8&AH8&AI8&AJ8&AK8&AL8&AD8&AE8&AF8&AG8 -> 1 | Q8: 1 | AM8: =J8 -> C02 | AN8: Dívky - | AO8: =CONCATENATE(AN8," ročník narození ",G8," ",I8," m") -> Dívky - ročník narození 2019-2020 20 m | BQ8: =IF(ISERROR(MATCH(1,N8:AL8)),"",MATCH(1,N8:AL8)) -> 4 | BR8: =H8 -> 1 | BV8: =IF($K8="","",N8*$K8) -> 0 | BW8: =IF($K8="","",O8*$K8) -> 0 | BX8: =IF($K8="","",P8*$K8) -> 0 | BY8: =IF($K8="","",Q8*$K8) -> 5 | BZ8: =IF($K8="","",R8*$K8) -> 0 | CA8: =IF($K8="","",S8*$K8) -> 0 | CB8: =IF($K8="","",T8*$K8) -> 0 | CC8: =IF($K8="","",U8*$K8) -> 0 | ... CR8: =IF($K8="","",AJ8*$K8) -> 0 | CS8: =IF(MID(A8,1,1)="D",0,1) -> 1 | CT8: =IF(B8="","",CONCATENATE(B8," - ročník ",G8," ",I8," m")) -> Atletická školka H - ročník 2019-2020 20 m | CU8: =IF(CT8="",0,COUNTIF(Vysledky!$E$4:$E$491,Kategorie!A8)) -> 0
A9: =J9 -> D03 | B9: =IF(A9="","",VLOOKUP(Kategorie!A9,kateg2,4,0)) -> Minipřípravka D | C9: 9 | D9: 21 | E9: =IF($J9="",0,VLOOKUP($J9,kateg2,E$2,0)) -> 2018 | F9: =IF($J9="",0,VLOOKUP($J9,kateg2,F$2,0)) -> 2017 | G9: =IF(E9="","",VLOOKUP($J9,kateg2,G$2,0) & "-" & VLOOKUP($J9,kateg2,E$2,0)) -> 2017-2018 | H9: =IF(I9=20,1,IF(I9=40,2,IF(I9=60,3,IF(I9=80,4,5)))) -> 2 | I9: 40 | J9: =IF(ISERROR(VLOOKUP(D9,Kateg_2!$C$61:$N$89,J$2,0)),"",VLOOKUP(D9,Kateg_2!$C$61:$N$89,J$2,0)) -> D03 | K9: =IF(J9="",0,HLOOKUP(J9,Vstup!$L$1:$AN$5,5,FALSE)) -> 6 | L9: =COUNTIF(Vstup!$J$7:$J$355,H9) -> 19 | M9: =N9&O9&P9&Q9&R9&S9&T9&U9&V9&W9&X9&Y9&Z9&AA9&AB9&AC9&AH9&AI9&AJ9&AK9&AL9&AD9&AE9&AF9&AG9 -> 1 | R9: 1 | AM9: =J9 -> D03 | AN9: Chlapci - | AO9: =CONCATENATE(AN9," ročník narození ",G9," ",I9," m") -> Chlapci - ročník narození 2017-2018 40 m | BQ9: =IF(ISERROR(MATCH(1,N9:AL9)),"",MATCH(1,N9:AL9)) -> 5 | BR9: =H9 -> 2 | BS9: 3 | BT9: =COUNTIF(Vstup!$J$7:$J$148,BS9) -> 15 | BV9: =IF($K9="","",N9*$K9) -> 0 | BW9: =IF($K9="","",O9*$K9) -> 0 | BX9: =IF($K9="","",P9*$K9) -> 0 | BY9: =IF($K9="","",Q9*$K9) -> 0 | BZ9: =IF($K9="","",R9*$K9) -> 6 | CA9: =IF($K9="","",S9*$K9) -> 0 | CB9: =IF($K9="","",T9*$K9) -> 0 | CC9: =IF($K9="","",U9*$K9) -> 0 | ... CR9: =IF($K9="","",AJ9*$K9) -> 0 | CS9: =IF(MID(A9,1,1)="D",0,1) -> 0 | CT9: =IF(B9="","",CONCATENATE(B9," - ročník ",G9," ",I9," m")) -> Minipřípravka D - ročník 2017-2018 40 m | CU9: =IF(CT9="",0,COUNTIF(Vysledky!$E$4:$E$491,Kategorie!A9)) -> 0
A10: =J10 -> D04 | B10: =IF(A10="","",VLOOKUP(Kategorie!A10,kateg2,4,0)) -> Přípravka D | C10: 9 | D10: 22 | E10: =IF($J10="",0,VLOOKUP($J10,kateg2,E$2,0)) -> 2016 | F10: =IF($J10="",0,VLOOKUP($J10,kateg2,F$2,0)) -> 2015 | G10: =IF(E10="","",VLOOKUP($J10,kateg2,G$2,0) & "-" & VLOOKUP($J10,kateg2,E$2,0)) -> 2015-2016 | H10: =IF(I10=20,1,IF(I10=40,2,IF(I10=60,3,IF(I10=80,4,5)))) -> 2 | I10: 40 | J10: =IF(ISERROR(VLOOKUP(D10,Kateg_2!$C$61:$N$89,J$2,0)),"",VLOOKUP(D10,Kateg_2!$C$61:$N$89,J$2,0)) -> D04 | K10: =IF(J10="",0,HLOOKUP(J10,Vstup!$L$1:$AN$5,5,FALSE)) -> 7 | M10: =N10&O10&P10&Q10&R10&S10&T10&U10&V10&W10&X10&Y10&Z10&AA10&AB10&AC10&AH10&AI10&AJ10&AK10&AL10&AD10&AE10&AF10&AG10 -> 1 | T10: 1 | AM10: =J10 -> D04 | AN10: Dívky - | AO10: =CONCATENATE(AN10," ročník narození ",G10," ",I10," m") -> Dívky - ročník narození 2015-2016 40 m | BQ10: =IF(ISERROR(MATCH(1,N10:AL10)),"",MATCH(1,N10:AL10)) -> 7 | BR10: =H10 -> 2 | BV10: =IF($K10="","",N10*$K10) -> 0 | BW10: =IF($K10="","",O10*$K10) -> 0 | BX10: =IF($K10="","",P10*$K10) -> 0 | BY10: =IF($K10="","",Q10*$K10) -> 0 | BZ10: =IF($K10="","",R10*$K10) -> 0 | CA10: =IF($K10="","",S10*$K10) -> 0 | CB10: =IF($K10="","",T10*$K10) -> 7 | CC10: =IF($K10="","",U10*$K10) -> 0 | ... CR10: =IF($K10="","",AJ10*$K10) -> 0 | CS10: =IF(MID(A10,1,1)="D",0,1) -> 0 | CT10: =IF(B10="","",CONCATENATE(B10," - ročník ",G10," ",I10," m")) -> Přípravka D - ročník 2015-2016 40 m | CU10: =IF(CT10="",0,COUNTIF(Vysledky!$E$4:$E$491,Kategorie!A10)) -> 0
A11: =J11 -> C03 | B11: =IF(A11="","",VLOOKUP(Kategorie!A11,kateg2,4,0)) -> Minipřípravka H | D11: 23 | E11: =IF($J11="",0,VLOOKUP($J11,kateg2,E$2,0)) -> 2018 | F11: =IF($J11="",0,VLOOKUP($J11,kateg2,F$2,0)) -> 2017 | G11: =IF(E11="","",VLOOKUP($J11,kateg2,G$2,0) & "-" & VLOOKUP($J11,kateg2,E$2,0)) -> 2017-2018 | H11: =IF(I11=20,1,IF(I11=40,2,IF(I11=60,3,IF(I11=80,4,5)))) -> 2 | I11: 40 | J11: =IF(ISERROR(VLOOKUP(D11,Kateg_2!$C$61:$N$89,J$2,0)),"",VLOOKUP(D11,Kateg_2!$C$61:$N$89,J$2,0)) -> C03 | K11: =IF(J11="",0,HLOOKUP(J11,Vstup!$L$1:$AN$5,5,FALSE)) -> 5 | M11: =N11&O11&P11&Q11&R11&S11&T11&U11&V11&W11&X11&Y11&Z11&AA11&AB11&AC11&AH11&AI11&AJ11&AK11&AL11&AD11&AE11&AF11&AG11 -> 1 | S11: 1 | BQ11: =IF(ISERROR(MATCH(1,N11:AL11)),"",MATCH(1,N11:AL11)) -> 6 | BR11: =H11 -> 2 | BV11: =IF($K11="","",N11*$K11) -> 0 | BW11: =IF($K11="","",O11*$K11) -> 0 | BX11: =IF($K11="","",P11*$K11) -> 0 | BY11: =IF($K11="","",Q11*$K11) -> 0 | BZ11: =IF($K11="","",R11*$K11) -> 0 | CA11: =IF($K11="","",S11*$K11) -> 5 | CB11: =IF($K11="","",T11*$K11) -> 0 | CC11: =IF($K11="","",U11*$K11) -> 0 | ... CR11: =IF($K11="","",AJ11*$K11) -> 0 | CS11: =IF(MID(A11,1,1)="D",0,1) -> 1 | CT11: =IF(B11="","",CONCATENATE(B11," - ročník ",G11," ",I11," m")) -> Minipřípravka H - ročník 2017-2018 40 m | CU11: =IF(CT11="",0,COUNTIF(Vysledky!$E$4:$E$491,Kategorie!A11)) -> 0
A12: =J12 -> C04 | B12: =IF(A12="","",VLOOKUP(Kategorie!A12,kateg2,4,0)) -> Přípravka H | C12: 11 | D12: 24 | E12: =IF($J12="",0,VLOOKUP($J12,kateg2,E$2,0)) -> 2016 | F12: =IF($J12="",0,VLOOKUP($J12,kateg2,F$2,0)) -> 2015 | G12: =IF(E12="","",VLOOKUP($J12,kateg2,G$2,0) & "-" & VLOOKUP($J12,kateg2,E$2,0)) -> 2015-2016 | H12: =IF(I12=20,1,IF(I12=40,2,IF(I12=60,3,IF(I12=80,4,5)))) -> 2 | I12: 40 | J12: =IF(ISERROR(VLOOKUP(D12,Kateg_2!$C$61:$N$89,J$2,0)),"",VLOOKUP(D12,Kateg_2!$C$61:$N$89,J$2,0)) -> C04 | K12: =IF(J12="",0,HLOOKUP(J12,Vstup!$L$1:$AN$5,5,FALSE)) -> 1 | M12: =N12&O12&P12&Q12&R12&S12&T12&U12&V12&W12&X12&Y12&Z12&AA12&AB12&AC12&AH12&AI12&AJ12&AK12&AL12&AD12&AE12&AF12&AG12 -> 1 | S12: 1 | AM12: =J12 -> C04 | AN12: Chlapci - | AO12: =CONCATENATE(AN12," ročník narození ",G12," ",I12," m") -> Chlapci - ročník narození 2015-2016 40 m | BQ12: =IF(ISERROR(MATCH(1,N12:AL12)),"",MATCH(1,N12:AL12)) -> 6 | BR12: =H12 -> 2 | BS12: 4 | BT12: =COUNTIF(Vstup!$J$7:$J$148,BS12) -> 39 | BV12: =IF($K12="","",N12*$K12) -> 0 | BW12: =IF($K12="","",O12*$K12) -> 0 | BX12: =IF($K12="","",P12*$K12) -> 0 | BY12: =IF($K12="","",Q12*$K12) -> 0 | BZ12: =IF($K12="","",R12*$K12) -> 0 | CA12: =IF($K12="","",S12*$K12) -> 1 | CB12: =IF($K12="","",T12*$K12) -> 0 | CC12: =IF($K12="","",U12*$K12) -> 0 | ... CR12: =IF($K12="","",AJ12*$K12) -> 0 | CS12: =IF(MID(A12,1,1)="D",0,1) -> 1 | CT12: =IF(B12="","",CONCATENATE(B12," - ročník ",G12," ",I12," m")) -> Přípravka H - ročník 2015-2016 40 m | CU12: =IF(CT12="",0,COUNTIF(Vysledky!$E$4:$E$491,Kategorie!A12)) -> 0
A13: =J13 | B13: =IF(A13="","",VLOOKUP(Kategorie!A13,kateg2,4,0)) | C13: 11 | D13: 25 | E13: =IF($J13="",0,VLOOKUP($J13,kateg2,E$2,0)) -> 0 | F13: =IF($J13="",0,VLOOKUP($J13,kateg2,F$2,0)) -> 0 | G13: =IF(E13="","",VLOOKUP($J13,kateg2,G$2,0) & "-" & VLOOKUP($J13,kateg2,E$2,0)) -> - | H13: =IF(I13=20,1,IF(I13=40,2,IF(I13=60,3,IF(I13=80,4,5)))) -> 2 | I13: 40 | J13: =IF(ISERROR(VLOOKUP(D13,Kateg_2!$C$61:$N$89,J$2,0)),"",VLOOKUP(D13,Kateg_2!$C$61:$N$89,J$2,0)) | K13: =IF(J13="",0,HLOOKUP(J13,Vstup!$L$1:$AN$5,5,FALSE)) -> 0 | M13: =N13&O13&P13&Q13&R13&S13&T13&U13&V13&W13&X13&Y13&Z13&AA13&AB13&AC13&AH13&AI13&AJ13&AK13&AL13&AD13&AE13&AF13&AG13 | AM13: =J13 | AN13: Dívky - | AO13: =CONCATENATE(AN13," ročník narození ",G13," ",I13," m") -> Dívky - ročník narození - 40 m | BQ13: =IF(ISERROR(MATCH(1,N13:AL13)),"",MATCH(1,N13:AL13)) | BR13: =H13 -> 2 | BV13: =IF($K13="","",N13*$K13) -> 0 | BW13: =IF($K13="","",O13*$K13) -> 0 | BX13: =IF($K13="","",P13*$K13) -> 0 | BY13: =IF($K13="","",Q13*$K13) -> 0 | BZ13: =IF($K13="","",R13*$K13) -> 0 | CA13: =IF($K13="","",S13*$K13) -> 0 | CB13: =IF($K13="","",T13*$K13) -> 0 | CC13: =IF($K13="","",U13*$K13) -> 0 | ... CR13: =IF($K13="","",AJ13*$K13) -> 0 | CS13: =IF(MID(A13,1,1)="D",0,1) -> 1 | CT13: =IF(B13="","",CONCATENATE(B13," - ročník ",G13," ",I13," m")) | CU13: =IF(CT13="",0,COUNTIF(Vysledky!$E$4:$E$491,Kategorie!A13)) -> 0
A14: =J14 -> D05 | B14: =IF(A14="","",VLOOKUP(Kategorie!A14,kateg2,4,0)) -> Mladší žákyně | C14: 13 | D14: 31 | E14: =IF($J14="",0,VLOOKUP($J14,kateg2,E$2,0)) -> 2014 | F14: =IF($J14="",0,VLOOKUP($J14,kateg2,F$2,0)) -> 2013 | G14: =IF(E14="","",VLOOKUP($J14,kateg2,G$2,0) & "-" & VLOOKUP($J14,kateg2,E$2,0)) -> 2013-2014 | H14: =IF(I14=20,1,IF(I14=40,2,IF(I14=60,3,IF(I14=80,4,5)))) -> 3 | I14: 60 | J14: =IF(ISERROR(VLOOKUP(D14,Kateg_2!$C$61:$N$89,J$2,0)),"",VLOOKUP(D14,Kateg_2!$C$61:$N$89,J$2,0)) -> D05 | K14: =IF(J14="",0,HLOOKUP(J14,Vstup!$L$1:$AN$5,5,FALSE)) -> 2 | L14: =COUNTIF(Vstup!$J$7:$J$148,H14) -> 15 | M14: =N14&O14&P14&Q14&R14&S14&T14&U14&V14&W14&X14&Y14&Z14&AA14&AB14&AC14&AH14&AI14&AJ14&AK14&AL14&AD14&AE14&AF14&AG14 -> 1 | U14: 1 | AM14: =J14 -> D05 | AN14: Chlapci - | AO14: =CONCATENATE(AN14," ročník narození ",G14," ",I14," m") -> Chlapci - ročník narození 2013-2014 60 m | BQ14: =IF(ISERROR(MATCH(1,N14:AL14)),"",MATCH(1,N14:AL14)) -> 8 | BR14: =H14 -> 3 | BS14: 5 | BT14: =COUNTIF(Vstup!$J$7:$J$355,BS14) -> 31 | BV14: =IF($K14="","",N14*$K14) -> 0 | BW14: =IF($K14="","",O14*$K14) -> 0 | BX14: =IF($K14="","",P14*$K14) -> 0 | BY14: =IF($K14="","",Q14*$K14) -> 0 | BZ14: =IF($K14="","",R14*$K14) -> 0 | CA14: =IF($K14="","",S14*$K14) -> 0 | CB14: =IF($K14="","",T14*$K14) -> 0 | CC14: =IF($K14="","",U14*$K14) -> 2 | ... CR14: =IF($K14="","",AJ14*$K14) -> 0 | CS14: =IF(MID(A14,1,1)="D",0,1) -> 0 | CT14: =IF(B14="","",CONCATENATE(B14," - ročník ",G14," ",I14," m")) -> Mladší žákyně - ročník 2013-2014 60 m | CU14: =IF(CT14="",0,COUNTIF(Vysledky!$E$4:$E$491,Kategorie!A14)) -> 0
A15: =J15 -> D06 | B15: =IF(A15="","",VLOOKUP(Kategorie!A15,kateg2,4,0)) -> Starší žákyně | C15: 13 | D15: 32 | E15: =IF($J15="",0,VLOOKUP($J15,kateg2,E$2,0)) -> 2012 | F15: =IF($J15="",0,VLOOKUP($J15,kateg2,F$2,0)) -> 2011 | G15: =IF(E15="","",VLOOKUP($J15,kateg2,G$2,0) & "-" & VLOOKUP($J15,kateg2,E$2,0)) -> 2011-2012 | H15: =IF(I15=20,1,IF(I15=40,2,IF(I15=60,3,IF(I15=80,4,5)))) -> 3 | I15: 60 | J15: =IF(ISERROR(VLOOKUP(D15,Kateg_2!$C$61:$N$89,J$2,0)),"",VLOOKUP(D15,Kateg_2!$C$61:$N$89,J$2,0)) -> D06 | K15: =IF(J15="",0,HLOOKUP(J15,Vstup!$L$1:$AN$5,5,FALSE)) -> 5 | M15: =N15&O15&P15&Q15&R15&S15&T15&U15&V15&W15&X15&Y15&Z15&AA15&AB15&AC15&AH15&AI15&AJ15&AK15&AL15&AD15&AE15&AF15&AG15 -> 1 | U15: 1 | AM15: =J15 -> D06 | AN15: Dívky - | AO15: =CONCATENATE(AN15," ročník narození ",G15," ",I15," m") -> Dívky - ročník narození 2011-2012 60 m | BQ15: =IF(ISERROR(MATCH(1,N15:AL15)),"",MATCH(1,N15:AL15)) -> 8 | BR15: =H15 -> 3 | BV15: =IF($K15="","",N15*$K15) -> 0 | BW15: =IF($K15="","",O15*$K15) -> 0 | BX15: =IF($K15="","",P15*$K15) -> 0 | BY15: =IF($K15="","",Q15*$K15) -> 0 | BZ15: =IF($K15="","",R15*$K15) -> 0 | CA15: =IF($K15="","",S15*$K15) -> 0 | CB15: =IF($K15="","",T15*$K15) -> 0 | CC15: =IF($K15="","",U15*$K15) -> 5 | ... CR15: =IF($K15="","",AJ15*$K15) -> 0 | CS15: =IF(MID(A15,1,1)="D",0,1) -> 0 | CT15: =IF(B15="","",CONCATENATE(B15," - ročník ",G15," ",I15," m")) -> Starší žákyně - ročník 2011-2012 60 m | CU15: =IF(CT15="",0,COUNTIF(Vysledky!$E$4:$E$491,Kategorie!A15)) -> 0
A16: =J16 -> C05 | B16: =IF(A16="","",VLOOKUP(Kategorie!A16,kateg2,4,0)) -> Mladší žáci | D16: 33 | E16: =IF($J16="",0,VLOOKUP($J16,kateg2,E$2,0)) -> 2014 | F16: =IF($J16="",0,VLOOKUP($J16,kateg2,F$2,0)) -> 2013 | G16: =IF(E16="","",VLOOKUP($J16,kateg2,G$2,0) & "-" & VLOOKUP($J16,kateg2,E$2,0)) -> 2013-2014 | H16: =IF(I16=20,1,IF(I16=40,2,IF(I16=60,3,IF(I16=80,4,5)))) -> 3 | I16: 60 | J16: =IF(ISERROR(VLOOKUP(D16,Kateg_2!$C$61:$N$89,J$2,0)),"",VLOOKUP(D16,Kateg_2!$C$61:$N$89,J$2,0)) -> C05 | K16: =IF(J16="",0,HLOOKUP(J16,Vstup!$L$1:$AN$5,5,FALSE)) -> 5 | M16: =N16&O16&P16&Q16&R16&S16&T16&U16&V16&W16&X16&Y16&Z16&AA16&AB16&AC16&AH16&AI16&AJ16&AK16&AL16&AD16&AE16&AF16&AG16 -> 1 | V16: 1 | BQ16: =IF(ISERROR(MATCH(1,N16:AL16)),"",MATCH(1,N16:AL16)) -> 9 | BR16: =H16 -> 3 | BV16: =IF($K16="","",N16*$K16) -> 0 | BW16: =IF($K16="","",O16*$K16) -> 0 | BX16: =IF($K16="","",P16*$K16) -> 0 | BY16: =IF($K16="","",Q16*$K16) -> 0 | BZ16: =IF($K16="","",R16*$K16) -> 0 | CA16: =IF($K16="","",S16*$K16) -> 0 | CB16: =IF($K16="","",T16*$K16) -> 0 | CC16: =IF($K16="","",U16*$K16) -> 0 | ... CR16: =IF($K16="","",AJ16*$K16) -> 0 | CS16: =IF(MID(A16,1,1)="D",0,1) -> 1 | CT16: =IF(B16="","",CONCATENATE(B16," - ročník ",G16," ",I16," m")) -> Mladší žáci - ročník 2013-2014 60 m | CU16: =IF(CT16="",0,COUNTIF(Vysledky!$E$4:$E$491,Kategorie!A16)) -> 0
A17: =J17 -> C06 | B17: =IF(A17="","",VLOOKUP(Kategorie!A17,kateg2,4,0)) -> Starší žáci | C17: 15 | D17: 34 | E17: =IF($J17="",0,VLOOKUP($J17,kateg2,E$2,0)) -> 2012 | F17: =IF($J17="",0,VLOOKUP($J17,kateg2,F$2,0)) -> 2011 | G17: =IF(E17="","",VLOOKUP($J17,kateg2,G$2,0) & "-" & VLOOKUP($J17,kateg2,E$2,0)) -> 2011-2012 | H17: =IF(I17=20,1,IF(I17=40,2,IF(I17=60,3,IF(I17=80,4,5)))) -> 3 | I17: 60 | J17: =IF(ISERROR(VLOOKUP(D17,Kateg_2!$C$61:$N$89,J$2,0)),"",VLOOKUP(D17,Kateg_2!$C$61:$N$89,J$2,0)) -> C06 | K17: =IF(J17="",0,HLOOKUP(J17,Vstup!$L$1:$AN$5,5,FALSE)) -> 3 | M17: =N17&O17&P17&Q17&R17&S17&T17&U17&V17&W17&X17&Y17&Z17&AA17&AB17&AC17&AH17&AI17&AJ17&AK17&AL17&AD17&AE17&AF17&AG17 -> 1 | V17: 1 | AM17: =J17 -> C06 | AN17: Chlapci - | AO17: =CONCATENATE(AN17," ročník narození ",G17," ",I17," m") -> Chlapci - ročník narození 2011-2012 60 m | BQ17: =IF(ISERROR(MATCH(1,N17:AL17)),"",MATCH(1,N17:AL17)) -> 9 | BR17: =H17 -> 3 | BV17: =IF($K17="","",N17*$K17) -> 0 | BW17: =IF($K17="","",O17*$K17) -> 0 | BX17: =IF($K17="","",P17*$K17) -> 0 | BY17: =IF($K17="","",Q17*$K17) -> 0 | BZ17: =IF($K17="","",R17*$K17) -> 0 | CA17: =IF($K17="","",S17*$K17) -> 0 | CB17: =IF($K17="","",T17*$K17) -> 0 | CC17: =IF($K17="","",U17*$K17) -> 0 | ... CR17: =IF($K17="","",AJ17*$K17) -> 0 | CS17: =IF(MID(A17,1,1)="D",0,1) -> 1 | CT17: =IF(B17="","",CONCATENATE(B17," - ročník ",G17," ",I17," m")) -> Starší žáci - ročník 2011-2012 60 m | CU17: =IF(CT17="",0,COUNTIF(Vysledky!$E$4:$E$491,Kategorie!A17)) -> 0
A18: =J18 | B18: =IF(A18="","",VLOOKUP(Kategorie!A18,kateg2,4,0)) | C18: 15 | D18: 35 | E18: =IF($J18="",0,VLOOKUP($J18,kateg2,E$2,0)) -> 0 | F18: =IF($J18="",0,VLOOKUP($J18,kateg2,F$2,0)) -> 0 | G18: =IF(E18="","",VLOOKUP($J18,kateg2,G$2,0) & "-" & VLOOKUP($J18,kateg2,E$2,0)) -> - | H18: =IF(I18=20,1,IF(I18=40,2,IF(I18=60,3,IF(I18=80,4,5)))) -> 3 | I18: 60 | J18: =IF(ISERROR(VLOOKUP(D18,Kateg_2!$C$61:$N$89,J$2,0)),"",VLOOKUP(D18,Kateg_2!$C$61:$N$89,J$2,0)) | K18: =IF(J18="",0,HLOOKUP(J18,Vstup!$L$1:$AN$5,5,FALSE)) -> 0 | M18: =N18&O18&P18&Q18&R18&S18&T18&U18&V18&W18&X18&Y18&Z18&AA18&AB18&AC18&AH18&AI18&AJ18&AK18&AL18&AD18&AE18&AF18&AG18 | AM18: =J18 | AN18: Dívky - | AO18: =CONCATENATE(AN18," ročník narození ",G18," ",I18," m") -> Dívky - ročník narození - 60 m | BQ18: =IF(ISERROR(MATCH(1,N18:AL18)),"",MATCH(1,N18:AL18)) | BR18: =H18 -> 3 | BV18: =IF($K18="","",N18*$K18) -> 0 | BW18: =IF($K18="","",O18*$K18) -> 0 | BX18: =IF($K18="","",P18*$K18) -> 0 | BY18: =IF($K18="","",Q18*$K18) -> 0 | BZ18: =IF($K18="","",R18*$K18) -> 0 | CA18: =IF($K18="","",S18*$K18) -> 0 | CB18: =IF($K18="","",T18*$K18) -> 0 | CC18: =IF($K18="","",U18*$K18) -> 0 | ... CR18: =IF($K18="","",AJ18*$K18) -> 0 | CS18: =IF(MID(A18,1,1)="D",0,1) -> 1 | CT18: =IF(B18="","",CONCATENATE(B18," - ročník ",G18," ",I18," m")) | CU18: =IF(CT18="",0,COUNTIF(Vysledky!$E$4:$E$491,Kategorie!A18)) -> 0
A19: =J19 -> D07 | B19: =IF(A19="","",VLOOKUP(Kategorie!A19,kateg2,4,0)) -> Dorostenky | C19: 17 | D19: 41 | E19: =IF($J19="",0,VLOOKUP($J19,kateg2,E$2,0)) -> 2010 | F19: =IF($J19="",0,VLOOKUP($J19,kateg2,F$2,0)) -> 2009 | G19: =IF(E19="","",VLOOKUP($J19,kateg2,G$2,0) & "-" & VLOOKUP($J19,kateg2,E$2,0)) -> 2009-2010 | H19: =IF(I19=20,1,IF(I19=40,2,IF(I19=60,3,IF(I19=80,4,5)))) -> 4 | I19: 80 | J19: =IF(ISERROR(VLOOKUP(D19,Kateg_2!$C$61:$N$89,J$2,0)),"",VLOOKUP(D19,Kateg_2!$C$61:$N$89,J$2,0)) -> D07 | K19: =IF(J19="",0,HLOOKUP(J19,Vstup!$L$1:$AN$5,5,FALSE)) -> 2 | L19: =COUNTIF(Vstup!$J$7:$J$355,H19) -> 39 | M19: =N19&O19&P19&Q19&R19&S19&T19&U19&V19&W19&X19&Y19&Z19&AA19&AB19&AC19&AH19&AI19&AJ19&AK19&AL19&AD19&AE19&AF19&AG19 -> 1 | W19: 1 | AM19: =J19 -> D07 | AN19: Chlapci - | AO19: =CONCATENATE(AN19," ročník narození ",G19," ",I19," m") -> Chlapci - ročník narození 2009-2010 80 m | BQ19: =IF(ISERROR(MATCH(1,N19:AL19)),"",MATCH(1,N19:AL19)) -> 10 | BR19: =H19 -> 4 | BS19: CELKEM | BT19: =SUM(BT4:BT17) -> 137 | BV19: =IF($K19="","",N19*$K19) -> 0 | BW19: =IF($K19="","",O19*$K19) -> 0 | BX19: =IF($K19="","",P19*$K19) -> 0 | BY19: =IF($K19="","",Q19*$K19) -> 0 | BZ19: =IF($K19="","",R19*$K19) -> 0 | CA19: =IF($K19="","",S19*$K19) -> 0 | CB19: =IF($K19="","",T19*$K19) -> 0 | CC19: =IF($K19="","",U19*$K19) -> 0 | ... CR19: =IF($K19="","",AJ19*$K19) -> 0 | CS19: =IF(MID(A19,1,1)="D",0,1) -> 0 | CT19: =IF(B19="","",CONCATENATE(B19," - ročník ",G19," ",I19," m")) -> Dorostenky - ročník 2009-2010 80 m | CU19: =IF(CT19="",0,COUNTIF(Vysledky!$E$4:$E$491,Kategorie!A19)) -> 0
A20: =J20 -> D08 | B20: =IF(A20="","",VLOOKUP(Kategorie!A20,kateg2,4,0)) -> Juniorky | C20: 17 | D20: 42 | E20: =IF($J20="",0,VLOOKUP($J20,kateg2,E$2,0)) -> 2008 | F20: =IF($J20="",0,VLOOKUP($J20,kateg2,F$2,0)) -> 2007 | G20: =IF(E20="","",VLOOKUP($J20,kateg2,G$2,0) & "-" & VLOOKUP($J20,kateg2,E$2,0)) -> 2007-2008 | H20: =IF(I20=20,1,IF(I20=40,2,IF(I20=60,3,IF(I20=80,4,5)))) -> 4 | I20: 80 | J20: =IF(ISERROR(VLOOKUP(D20,Kateg_2!$C$61:$N$89,J$2,0)),"",VLOOKUP(D20,Kateg_2!$C$61:$N$89,J$2,0)) -> D08 | K20: =IF(J20="",0,HLOOKUP(J20,Vstup!$L$1:$AN$5,5,FALSE)) -> 0 | M20: =N20&O20&P20&Q20&R20&S20&T20&U20&V20&W20&X20&Y20&Z20&AA20&AB20&AC20&AH20&AI20&AJ20&AK20&AL20&AD20&AE20&AF20&AG20 | AM20: =J20 -> D08 | AN20: Dívky - | AO20: =CONCATENATE(AN20," ročník narození ",G20," ",I20," m") -> Dívky - ročník narození 2007-2008 80 m | BQ20: =IF(ISERROR(MATCH(1,N20:AL20)),"",MATCH(1,N20:AL20)) | BR20: =H20 -> 4 | BV20: =IF($K20="","",N20*$K20) -> 0 | BW20: =IF($K20="","",O20*$K20) -> 0 | BX20: =IF($K20="","",P20*$K20) -> 0 | BY20: =IF($K20="","",Q20*$K20) -> 0 | BZ20: =IF($K20="","",R20*$K20) -> 0 | CA20: =IF($K20="","",S20*$K20) -> 0 | CB20: =IF($K20="","",T20*$K20) -> 0 | CC20: =IF($K20="","",U20*$K20) -> 0 | ... CR20: =IF($K20="","",AJ20*$K20) -> 0 | CS20: =IF(MID(A20,1,1)="D",0,1) -> 0 | CT20: =IF(B20="","",CONCATENATE(B20," - ročník ",G20," ",I20," m")) -> Juniorky - ročník 2007-2008 80 m | CU20: =IF(CT20="",0,COUNTIF(Vysledky!$E$4:$E$491,Kategorie!A20)) -> 0
A21: =J21 -> D10 | B21: =IF(A21="","",VLOOKUP(Kategorie!A21,kateg2,4,0)) -> Ženy B | D21: 43 | E21: =IF($J21="",0,VLOOKUP($J21,kateg2,E$2,0)) -> 1991 | F21: =IF($J21="",0,VLOOKUP($J21,kateg2,F$2,0)) -> 1982 | G21: =IF(E21="","",VLOOKUP($J21,kateg2,G$2,0) & "-" & VLOOKUP($J21,kateg2,E$2,0)) -> 1982-1991 | H21: =IF(I21=20,1,IF(I21=40,2,IF(I21=60,3,IF(I21=80,4,5)))) -> 4 | I21: 80 | J21: =IF(ISERROR(VLOOKUP(D21,Kateg_2!$C$61:$N$89,J$2,0)),"",VLOOKUP(D21,Kateg_2!$C$61:$N$89,J$2,0)) -> D10 | K21: =IF(J21="",0,HLOOKUP(J21,Vstup!$L$1:$AN$5,5,FALSE)) -> 9 | M21: =N21&O21&P21&Q21&R21&S21&T21&U21&V21&W21&X21&Y21&Z21&AA21&AB21&AC21&AH21&AI21&AJ21&AK21&AL21&AD21&AE21&AF21&AG21 -> 1 | X21: 1 | BQ21: =IF(ISERROR(MATCH(1,N21:AL21)),"",MATCH(1,N21:AL21)) -> 11 | BR21: =H21 -> 4 | BV21: =IF($K21="","",N21*$K21) -> 0 | BW21: =IF($K21="","",O21*$K21) -> 0 | BX21: =IF($K21="","",P21*$K21) -> 0 | BY21: =IF($K21="","",Q21*$K21) -> 0 | BZ21: =IF($K21="","",R21*$K21) -> 0 | CA21: =IF($K21="","",S21*$K21) -> 0 | CB21: =IF($K21="","",T21*$K21) -> 0 | CC21: =IF($K21="","",U21*$K21) -> 0 | ... CR21: =IF($K21="","",AJ21*$K21) -> 0 | CS21: =IF(MID(A21,1,1)="D",0,1) -> 0 | CT21: =IF(B21="","",CONCATENATE(B21," - ročník ",G21," ",I21," m")) -> Ženy B - ročník 1982-1991 80 m | CU21: =IF(CT21="",0,COUNTIF(Vysledky!$E$4:$E$491,Kategorie!A21)) -> 0
A22: =J22 -> D11 | B22: =IF(A22="","",VLOOKUP(Kategorie!A22,kateg2,4,0)) -> Ženy C | D22: 44 | E22: =IF($J22="",0,VLOOKUP($J22,kateg2,E$2,0)) -> 1981 | F22: =IF($J22="",0,VLOOKUP($J22,kateg2,F$2,0)) -> 1972 | G22: =IF(E22="","",VLOOKUP($J22,kateg2,G$2,0) & "-" & VLOOKUP($J22,kateg2,E$2,0)) -> 1972-1981 | H22: =IF(I22=20,1,IF(I22=40,2,IF(I22=60,3,IF(I22=80,4,5)))) -> 4 | I22: 80 | J22: =IF(ISERROR(VLOOKUP(D22,Kateg_2!$C$61:$N$89,J$2,0)),"",VLOOKUP(D22,Kateg_2!$C$61:$N$89,J$2,0)) -> D11 | K22: =IF(J22="",0,HLOOKUP(J22,Vstup!$L$1:$AN$5,5,FALSE)) -> 9 | M22: =N22&O22&P22&Q22&R22&S22&T22&U22&V22&W22&X22&Y22&Z22&AA22&AB22&AC22&AH22&AI22&AJ22&AK22&AL22&AD22&AE22&AF22&AG22 -> 1 | Y22: 1 | BQ22: =IF(ISERROR(MATCH(1,N22:AL22)),"",MATCH(1,N22:AL22)) -> 12 | BR22: =H22 -> 4 | BV22: =IF($K22="","",N22*$K22) -> 0 | BW22: =IF($K22="","",O22*$K22) -> 0 | BX22: =IF($K22="","",P22*$K22) -> 0 | BY22: =IF($K22="","",Q22*$K22) -> 0 | BZ22: =IF($K22="","",R22*$K22) -> 0 | CA22: =IF($K22="","",S22*$K22) -> 0 | CB22: =IF($K22="","",T22*$K22) -> 0 | CC22: =IF($K22="","",U22*$K22) -> 0 | ... CR22: =IF($K22="","",AJ22*$K22) -> 0 | CS22: =IF(MID(A22,1,1)="D",0,1) -> 0 | CT22: =IF(B22="","",CONCATENATE(B22," - ročník ",G22," ",I22," m")) -> Ženy C - ročník 1972-1981 80 m | CU22: =IF(CT22="",0,COUNTIF(Vysledky!$E$4:$E$491,Kategorie!A22)) -> 0
A23: =J23 -> D12 | B23: =IF(A23="","",VLOOKUP(Kategorie!A23,kateg2,4,0)) -> Ženy D | D23: 45 | E23: =IF($J23="",0,VLOOKUP($J23,kateg2,E$2,0)) -> 1971 | F23: =IF($J23="",0,VLOOKUP($J23,kateg2,F$2,0)) -> 1926 | G23: =IF(E23="","",VLOOKUP($J23,kateg2,G$2,0) & "-" & VLOOKUP($J23,kateg2,E$2,0)) -> 1926-1971 | H23: =IF(I23=20,1,IF(I23=40,2,IF(I23=60,3,IF(I23=80,4,5)))) -> 4 | I23: 80 | J23: =IF(ISERROR(VLOOKUP(D23,Kateg_2!$C$61:$N$89,J$2,0)),"",VLOOKUP(D23,Kateg_2!$C$61:$N$89,J$2,0)) -> D12 | K23: =IF(J23="",0,HLOOKUP(J23,Vstup!$L$1:$AN$5,5,FALSE)) -> 3 | M23: =N23&O23&P23&Q23&R23&S23&T23&U23&V23&W23&X23&Y23&Z23&AA23&AB23&AC23&AH23&AI23&AJ23&AK23&AL23&AD23&AE23&AF23&AG23 -> 1 | W23: 1 | BQ23: =IF(ISERROR(MATCH(1,N23:AL23)),"",MATCH(1,N23:AL23)) -> 10 | BR23: =H23 -> 4 | BV23: =IF($K23="","",N23*$K23) -> 0 | BW23: =IF($K23="","",O23*$K23) -> 0 | BX23: =IF($K23="","",P23*$K23) -> 0 | BY23: =IF($K23="","",Q23*$K23) -> 0 | BZ23: =IF($K23="","",R23*$K23) -> 0 | CA23: =IF($K23="","",S23*$K23) -> 0 | CB23: =IF($K23="","",T23*$K23) -> 0 | CC23: =IF($K23="","",U23*$K23) -> 0 | ... CR23: =IF($K23="","",AJ23*$K23) -> 0 | CS23: =IF(MID(A23,1,1)="D",0,1) -> 0 | CT23: =IF(B23="","",CONCATENATE(B23," - ročník ",G23," ",I23," m")) -> Ženy D - ročník 1926-1971 80 m | CU23: =IF(CT23="",0,COUNTIF(Vysledky!$E$4:$E$491,Kategorie!A23)) -> 0
A24: =J24 -> K01 | B24: =IF(A24="","",VLOOKUP(Kategorie!A24,kateg2,4,0)) -> Kněží | D24: 46 | E24: =IF($J24="",0,VLOOKUP($J24,kateg2,E$2,0)) -> 2026 | F24: =IF($J24="",0,VLOOKUP($J24,kateg2,F$2,0)) -> 1926 | G24: =IF(E24="","",VLOOKUP($J24,kateg2,G$2,0) & "-" & VLOOKUP($J24,kateg2,E$2,0)) -> 1926-2026 | H24: =IF(I24=20,1,IF(I24=40,2,IF(I24=60,3,IF(I24=80,4,5)))) -> 4 | I24: 80 | J24: =IF(ISERROR(VLOOKUP(D24,Kateg_2!$C$61:$N$89,J$2,0)),"",VLOOKUP(D24,Kateg_2!$C$61:$N$89,J$2,0)) -> K01 | K24: =IF(J24="",0,HLOOKUP(J24,Vstup!$L$1:$AN$5,5,FALSE)) -> 1 | M24: =N24&O24&P24&Q24&R24&S24&T24&U24&V24&W24&X24&Y24&Z24&AA24&AB24&AC24&AH24&AI24&AJ24&AK24&AL24&AD24&AE24&AF24&AG24 -> 1 | AA24: 1 | BQ24: =IF(ISERROR(MATCH(1,N24:AL24)),"",MATCH(1,N24:AL24)) -> 14 | BR24: =H24 -> 4 | BV24: =IF($K24="","",N24*$K24) -> 0 | BW24: =IF($K24="","",O24*$K24) -> 0 | BX24: =IF($K24="","",P24*$K24) -> 0 | BY24: =IF($K24="","",Q24*$K24) -> 0 | BZ24: =IF($K24="","",R24*$K24) -> 0 | CA24: =IF($K24="","",S24*$K24) -> 0 | CB24: =IF($K24="","",T24*$K24) -> 0 | CC24: =IF($K24="","",U24*$K24) -> 0 | ... CR24: =IF($K24="","",AJ24*$K24) -> 0 | CS24: =IF(MID(A24,1,1)="D",0,1) -> 1 | CT24: =IF(B24="","",CONCATENATE(B24," - ročník ",G24," ",I24," m")) -> Kněží - ročník 1926-2026 80 m | CU24: =IF(CT24="",0,COUNTIF(Vysledky!$E$4:$E$491,Kategorie!A24)) -> 0
A25: =J25 -> C07 | B25: =IF(A25="","",VLOOKUP(Kategorie!A25,kateg2,4,0)) -> Dorostenci | C25: nad | D25: 47 | E25: =IF($J25="",0,VLOOKUP($J25,kateg2,E$2,0)) -> 2010 | F25: =IF($J25="",0,VLOOKUP($J25,kateg2,F$2,0)) -> 2009 | G25: =IF(E25="","",VLOOKUP($J25,kateg2,G$2,0) & "-" & VLOOKUP($J25,kateg2,E$2,0)) -> 2009-2010 | H25: =IF(I25=20,1,IF(I25=40,2,IF(I25=60,3,IF(I25=80,4,5)))) -> 4 | I25: 80 | J25: =IF(ISERROR(VLOOKUP(D25,Kateg_2!$C$61:$N$89,J$2,0)),"",VLOOKUP(D25,Kateg_2!$C$61:$N$89,J$2,0)) -> C07 | K25: =IF(J25="",0,HLOOKUP(J25,Vstup!$L$1:$AN$5,5,FALSE)) -> 8 | M25: =N25&O25&P25&Q25&R25&S25&T25&U25&V25&W25&X25&Y25&Z25&AA25&AB25&AC25&AH25&AI25&AJ25&AK25&AL25&AD25&AE25&AF25&AG25 -> 1 | Z25: 1 | AM25: =J25 -> C07 | AN25: Ženy - | AO25: =CONCATENATE(AN25," ročník narození ",G25," ",I25," m") -> Ženy - ročník narození 2009-2010 80 m | BQ25: =IF(ISERROR(MATCH(1,N25:AL25)),"",MATCH(1,N25:AL25)) -> 13 | BR25: =H25 -> 4 | BV25: =IF($K25="","",N25*$K25) -> 0 | BW25: =IF($K25="","",O25*$K25) -> 0 | BX25: =IF($K25="","",P25*$K25) -> 0 | BY25: =IF($K25="","",Q25*$K25) -> 0 | BZ25: =IF($K25="","",R25*$K25) -> 0 | CA25: =IF($K25="","",S25*$K25) -> 0 | CB25: =IF($K25="","",T25*$K25) -> 0 | CC25: =IF($K25="","",U25*$K25) -> 0 | ... CR25: =IF($K25="","",AJ25*$K25) -> 0 | CS25: =IF(MID(A25,1,1)="D",0,1) -> 1 | CT25: =IF(B25="","",CONCATENATE(B25," - ročník ",G25," ",I25," m")) -> Dorostenci - ročník 2009-2010 80 m | CU25: =IF(CT25="",0,COUNTIF(Vysledky!$E$4:$E$491,Kategorie!A25)) -> 8
A26: =J26 -> C08 | B26: =IF(A26="","",VLOOKUP(Kategorie!A26,kateg2,4,0)) -> Junioři | C26: 60 | D26: 48 | E26: =IF($J26="",0,VLOOKUP($J26,kateg2,E$2,0)) -> 2008 | F26: =IF($J26="",0,VLOOKUP($J26,kateg2,F$2,0)) -> 2007 | G26: =IF(E26="","",VLOOKUP($J26,kateg2,G$2,0) & "-" & VLOOKUP($J26,kateg2,E$2,0)) -> 2007-2008 | H26: =IF(I26=20,1,IF(I26=40,2,IF(I26=60,3,IF(I26=80,4,5)))) -> 4 | I26: 80 | J26: =IF(ISERROR(VLOOKUP(D26,Kateg_2!$C$61:$N$89,J$2,0)),"",VLOOKUP(D26,Kateg_2!$C$61:$N$89,J$2,0)) -> C08 | K26: =IF(J26="",0,HLOOKUP(J26,Vstup!$L$1:$AN$5,5,FALSE)) -> 1 | M26: =N26&O26&P26&Q26&R26&S26&T26&U26&V26&W26&X26&Y26&Z26&AA26&AB26&AC26&AH26&AI26&AJ26&AK26&AL26&AD26&AE26&AF26&AG26 -> 1 | Z26: 1 | AM26: =J26 -> C08 | AN26: Muži - | AO26: =CONCATENATE(AN26," ročník narození ",G26," ",I26," m") -> Muži - ročník narození 2007-2008 80 m | BQ26: =IF(ISERROR(MATCH(1,N26:AL26)),"",MATCH(1,N26:AL26)) -> 13 | BR26: =H26 -> 4 | BV26: =IF($K26="","",N26*$K26) -> 0 | BW26: =IF($K26="","",O26*$K26) -> 0 | BX26: =IF($K26="","",P26*$K26) -> 0 | BY26: =IF($K26="","",Q26*$K26) -> 0 | BZ26: =IF($K26="","",R26*$K26) -> 0 | CA26: =IF($K26="","",S26*$K26) -> 0 | CB26: =IF($K26="","",T26*$K26) -> 0 | CC26: =IF($K26="","",U26*$K26) -> 0 | ... CR26: =IF($K26="","",AJ26*$K26) -> 0 | CS26: =IF(MID(A26,1,1)="D",0,1) -> 1 | CT26: =IF(B26="","",CONCATENATE(B26," - ročník ",G26," ",I26," m")) -> Junioři - ročník 2007-2008 80 m | CU26: =IF(CT26="",0,COUNTIF(Vysledky!$E$4:$E$491,Kategorie!A26)) -> 1
A27: =J27 -> C12 | B27: =IF(A27="","",VLOOKUP(Kategorie!A27,kateg2,4,0)) -> Muži D | C27: nad | D27: 49 | E27: =IF($J27="",0,VLOOKUP($J27,kateg2,E$2,0)) -> 1966 | F27: =IF($J27="",0,VLOOKUP($J27,kateg2,F$2,0)) -> 1957 | G27: =IF(E27="","",VLOOKUP($J27,kateg2,G$2,0) & "-" & VLOOKUP($J27,kateg2,E$2,0)) -> 1957-1966 | H27: =IF(I27=20,1,IF(I27=40,2,IF(I27=60,3,IF(I27=80,4,5)))) -> 4 | I27: 80 | J27: =IF(ISERROR(VLOOKUP(D27,Kateg_2!$C$61:$N$89,J$2,0)),"",VLOOKUP(D27,Kateg_2!$C$61:$N$89,J$2,0)) -> C12 | K27: =IF(J27="",0,HLOOKUP(J27,Vstup!$L$1:$AN$5,5,FALSE)) -> 6 | M27: =N27&O27&P27&Q27&R27&S27&T27&U27&V27&W27&X27&Y27&Z27&AA27&AB27&AC27&AH27&AI27&AJ27&AK27&AL27&AD27&AE27&AF27&AG27 -> 1 | AA27: 1 | AM27: =J27 -> C12 | AN27: Muži - | AO27: =CONCATENATE(AN27," ročník narození ",G27," ",I27," m") -> Muži - ročník narození 1957-1966 80 m | BQ27: =IF(ISERROR(MATCH(1,N27:AL27)),"",MATCH(1,N27:AL27)) -> 14 | BR27: =H27 -> 4 | BV27: =IF($K27="","",N27*$K27) -> 0 | BW27: =IF($K27="","",O27*$K27) -> 0 | BX27: =IF($K27="","",P27*$K27) -> 0 | BY27: =IF($K27="","",Q27*$K27) -> 0 | BZ27: =IF($K27="","",R27*$K27) -> 0 | CA27: =IF($K27="","",S27*$K27) -> 0 | CB27: =IF($K27="","",T27*$K27) -> 0 | CC27: =IF($K27="","",U27*$K27) -> 0 | ... CR27: =IF($K27="","",AJ27*$K27) -> 0 | CS27: =IF(MID(A27,1,1)="D",0,1) -> 1 | CT27: =IF(B27="","",CONCATENATE(B27," - ročník ",G27," ",I27," m")) -> Muži D - ročník 1957-1966 80 m | CU27: =IF(CT27="",0,COUNTIF(Vysledky!$E$4:$E$491,Kategorie!A27)) -> 0
A28: =J28 -> C13 | B28: =IF(A28="","",VLOOKUP(Kategorie!A28,kateg2,4,0)) -> Muži E | C28: 20 | D28: 55 | E28: =IF($J28="",0,VLOOKUP($J28,kateg2,E$2,0)) -> 1956 | F28: =IF($J28="",0,VLOOKUP($J28,kateg2,F$2,0)) -> 1926 | G28: =IF(E28="","",VLOOKUP($J28,kateg2,G$2,0) & "-" & VLOOKUP($J28,kateg2,E$2,0)) -> 1926-1956 | H28: =IF(I28=20,1,IF(I28=40,2,IF(I28=60,3,IF(I28=80,4,5)))) -> 5 | I28: 110 | J28: =IF(ISERROR(VLOOKUP(D28,Kateg_2!$C$61:$N$89,J$2,0)),"",VLOOKUP(D28,Kateg_2!$C$61:$N$89,J$2,0)) -> C13 | K28: =IF(J28="",0,HLOOKUP(J28,Vstup!$L$1:$AN$5,5,FALSE)) -> 4 | L28: =COUNTIF(Vstup!$J$7:$J$355,H28) -> 31 | M28: =N28&O28&P28&Q28&R28&S28&T28&U28&V28&W28&X28&Y28&Z28&AA28&AB28&AC28&AH28&AI28&AJ28&AK28&AL28&AD28&AE28&AF28&AG28 -> 1 | AA28: 1 | AM28: =J28 -> C13 | AN28: Chlapci - | AO28: =CONCATENATE(AN28," ročník narození ",G28," ",I28," m") -> Chlapci - ročník narození 1926-1956 110 m | BQ28: =IF(ISERROR(MATCH(1,N28:AL28)),"",MATCH(1,N28:AL28)) -> 14 | BR28: =H28 -> 5 | BV28: =IF($K28="","",N28*$K28) -> 0 | BW28: =IF($K28="","",O28*$K28) -> 0 | BX28: =IF($K28="","",P28*$K28) -> 0 | BY28: =IF($K28="","",Q28*$K28) -> 0 | BZ28: =IF($K28="","",R28*$K28) -> 0 | CA28: =IF($K28="","",S28*$K28) -> 0 | CB28: =IF($K28="","",T28*$K28) -> 0 | CC28: =IF($K28="","",U28*$K28) -> 0 | ... CR28: =IF($K28="","",AJ28*$K28) -> 0 | CS28: =IF(MID(A28,1,1)="D",0,1) -> 1 | CT28: =IF(B28="","",CONCATENATE(B28," - ročník ",G28," ",I28," m")) -> Muži E - ročník 1926-1956 110 m | CU28: =IF(CT28="",0,COUNTIF(Vysledky!$E$4:$E$491,Kategorie!A28)) -> 0
A29: =J29 -> D09 | B29: =IF(A29="","",VLOOKUP(Kategorie!A29,kateg2,4,0)) -> Ženy A | D29: 51 | E29: =IF($J29="",0,VLOOKUP($J29,kateg2,E$2,0)) -> 2006 | F29: =IF($J29="",0,VLOOKUP($J29,kateg2,F$2,0)) -> 1992 | G29: =IF(E29="","",VLOOKUP($J29,kateg2,G$2,0) & "-" & VLOOKUP($J29,kateg2,E$2,0)) -> 1992-2006 | H29: =IF(I29=20,1,IF(I29=40,2,IF(I29=60,3,IF(I29=80,4,5)))) -> 5 | I29: 110 | J29: =IF(ISERROR(VLOOKUP(D29,Kateg_2!$C$61:$N$89,J$2,0)),"",VLOOKUP(D29,Kateg_2!$C$61:$N$89,J$2,0)) -> D09 | K29: =IF(J29="",0,HLOOKUP(J29,Vstup!$L$1:$AN$5,5,FALSE)) -> 4 | M29: =N29&O29&P29&Q29&R29&S29&T29&U29&V29&W29&X29&Y29&Z29&AA29&AB29&AC29&AH29&AI29&AJ29&AK29&AL29&AD29&AE29&AF29&AG29 -> 1 | AB29: 1 | BQ29: =IF(ISERROR(MATCH(1,N29:AL29)),"",MATCH(1,N29:AL29)) -> 15 | BR29: =H29 -> 5 | BV29: =IF($K29="","",N29*$K29) -> 0 | BW29: =IF($K29="","",O29*$K29) -> 0 | BX29: =IF($K29="","",P29*$K29) -> 0 | BY29: =IF($K29="","",Q29*$K29) -> 0 | BZ29: =IF($K29="","",R29*$K29) -> 0 | CA29: =IF($K29="","",S29*$K29) -> 0 | CB29: =IF($K29="","",T29*$K29) -> 0 | CC29: =IF($K29="","",U29*$K29) -> 0 | ... CR29: =IF($K29="","",AJ29*$K29) -> 0 | CS29: =IF(MID(A29,1,1)="D",0,1) -> 0 | CT29: =IF(B29="","",CONCATENATE(B29," - ročník ",G29," ",I29," m")) -> Ženy A - ročník 1992-2006 110 m | CU29: =IF(CT29="",0,COUNTIF(Vysledky!$E$4:$E$491,Kategorie!A29)) -> 0
A30: =J30 -> C09 | B30: =IF(A30="","",VLOOKUP(Kategorie!A30,kateg2,4,0)) -> Muži A | D30: 52 | E30: =IF($J30="",0,VLOOKUP($J30,kateg2,E$2,0)) -> 2006 | F30: =IF($J30="",0,VLOOKUP($J30,kateg2,F$2,0)) -> 1987 | G30: =IF(E30="","",VLOOKUP($J30,kateg2,G$2,0) & "-" & VLOOKUP($J30,kateg2,E$2,0)) -> 1987-2006 | H30: =IF(I30=20,1,IF(I30=40,2,IF(I30=60,3,IF(I30=80,4,5)))) -> 5 | I30: 110 | J30: =IF(ISERROR(VLOOKUP(D30,Kateg_2!$C$61:$N$89,J$2,0)),"",VLOOKUP(D30,Kateg_2!$C$61:$N$89,J$2,0)) -> C09 | K30: =IF(J30="",0,HLOOKUP(J30,Vstup!$L$1:$AN$5,5,FALSE)) -> 9 | M30: =N30&O30&P30&Q30&R30&S30&T30&U30&V30&W30&X30&Y30&Z30&AA30&AB30&AC30&AH30&AI30&AJ30&AK30&AL30&AD30&AE30&AF30&AG30 -> 1 | AE30: 1 | BQ30: =IF(ISERROR(MATCH(1,N30:AL30)),"",MATCH(1,N30:AL30)) -> 18 | BR30: =H30 -> 5 | BV30: =IF($K30="","",N30*$K30) -> 0 | BW30: =IF($K30="","",O30*$K30) -> 0 | BX30: =IF($K30="","",P30*$K30) -> 0 | BY30: =IF($K30="","",Q30*$K30) -> 0 | BZ30: =IF($K30="","",R30*$K30) -> 0 | CA30: =IF($K30="","",S30*$K30) -> 0 | CB30: =IF($K30="","",T30*$K30) -> 0 | CC30: =IF($K30="","",U30*$K30) -> 0 | ... CR30: =IF($K30="","",AJ30*$K30) -> 0 | CS30: =IF(MID(A30,1,1)="D",0,1) -> 1 | CT30: =IF(B30="","",CONCATENATE(B30," - ročník ",G30," ",I30," m")) -> Muži A - ročník 1987-2006 110 m | CU30: =IF(CT30="",0,COUNTIF(Vysledky!$E$4:$E$491,Kategorie!A30)) -> 0
A31: =J31 -> C10 | B31: =IF(A31="","",VLOOKUP(Kategorie!A31,kateg2,4,0)) -> Muži B | C31: 20 | D31: 53 | E31: =IF($J31="",0,VLOOKUP($J31,kateg2,E$2,0)) -> 1986 | F31: =IF($J31="",0,VLOOKUP($J31,kateg2,F$2,0)) -> 1977 | G31: =IF(E31="","",VLOOKUP($J31,kateg2,G$2,0) & "-" & VLOOKUP($J31,kateg2,E$2,0)) -> 1977-1986 | H31: =IF(I31=20,1,IF(I31=40,2,IF(I31=60,3,IF(I31=80,4,5)))) -> 5 | I31: 110 | J31: =IF(ISERROR(VLOOKUP(D31,Kateg_2!$C$61:$N$89,J$2,0)),"",VLOOKUP(D31,Kateg_2!$C$61:$N$89,J$2,0)) -> C10 | K31: =IF(J31="",0,HLOOKUP(J31,Vstup!$L$1:$AN$5,5,FALSE)) -> 5 | M31: =N31&O31&P31&Q31&R31&S31&T31&U31&V31&W31&X31&Y31&Z31&AA31&AB31&AC31&AH31&AI31&AJ31&AK31&AL31&AD31&AE31&AF31&AG31 -> 1 | AD31: 1 | AM31: =J31 -> C10 | AN31: Ženy - | AO31: =CONCATENATE(AN31," ročník narození ",G31," ",I31," m") -> Ženy - ročník narození 1977-1986 110 m | BQ31: =IF(ISERROR(MATCH(1,N31:AL31)),"",MATCH(1,N31:AL31)) -> 17 | BR31: =H31 -> 5 | BV31: =IF($K31="","",N31*$K31) -> 0 | BW31: =IF($K31="","",O31*$K31) -> 0 | BX31: =IF($K31="","",P31*$K31) -> 0 | BY31: =IF($K31="","",Q31*$K31) -> 0 | BZ31: =IF($K31="","",R31*$K31) -> 0 | CA31: =IF($K31="","",S31*$K31) -> 0 | CB31: =IF($K31="","",T31*$K31) -> 0 | CC31: =IF($K31="","",U31*$K31) -> 0 | ... CR31: =IF($K31="","",AJ31*$K31) -> 0 | CS31: =IF(MID(A31,1,1)="D",0,1) -> 1 | CT31: =IF(B31="","",CONCATENATE(B31," - ročník ",G31," ",I31," m")) -> Muži B - ročník 1977-1986 110 m | CU31: =IF(CT31="",0,COUNTIF(Vysledky!$E$4:$E$491,Kategorie!A31)) -> 0
A32: =J32 -> C11 | B32: =IF(A32="","",VLOOKUP(Kategorie!A32,kateg2,4,0)) -> Muži C | C32: 40 | D32: 54 | E32: =IF($J32="",0,VLOOKUP($J32,kateg2,E$2,0)) -> 1976 | F32: =IF($J32="",0,VLOOKUP($J32,kateg2,F$2,0)) -> 1967 | G32: =IF(E32="","",VLOOKUP($J32,kateg2,G$2,0) & "-" & VLOOKUP($J32,kateg2,E$2,0)) -> 1967-1976 | H32: =IF(I32=20,1,IF(I32=40,2,IF(I32=60,3,IF(I32=80,4,5)))) -> 5 | I32: 110 | J32: =IF(ISERROR(VLOOKUP(D32,Kateg_2!$C$61:$N$89,J$2,0)),"",VLOOKUP(D32,Kateg_2!$C$61:$N$89,J$2,0)) -> C11 | K32: =IF(J32="",0,HLOOKUP(J32,Vstup!$L$1:$AN$5,5,FALSE)) -> 9 | M32: =N32&O32&P32&Q32&R32&S32&T32&U32&V32&W32&X32&Y32&Z32&AA32&AB32&AC32&AH32&AI32&AJ32&AK32&AL32&AD32&AE32&AF32&AG32 -> 1 | AC32: 1 | AM32: =J32 -> C11 | AN32: Muži - | AO32: =CONCATENATE(AN32," ročník narození ",G32," ",I32," m") -> Muži - ročník narození 1967-1976 110 m | BQ32: =IF(ISERROR(MATCH(1,N32:AL32)),"",MATCH(1,N32:AL32)) -> 16 | BR32: =H32 -> 5 | BV32: =IF($K32="","",N32*$K32) -> 0 | BW32: =IF($K32="","",O32*$K32) -> 0 | BX32: =IF($K32="","",P32*$K32) -> 0 | BY32: =IF($K32="","",Q32*$K32) -> 0 | BZ32: =IF($K32="","",R32*$K32) -> 0 | CA32: =IF($K32="","",S32*$K32) -> 0 | CB32: =IF($K32="","",T32*$K32) -> 0 | CC32: =IF($K32="","",U32*$K32) -> 0 | ... CR32: =IF($K32="","",AJ32*$K32) -> 0 | CS32: =IF(MID(A32,1,1)="D",0,1) -> 1 | CT32: =IF(B32="","",CONCATENATE(B32," - ročník ",G32," ",I32," m")) -> Muži C - ročník 1967-1976 110 m | CU32: =IF(CT32="",0,COUNTIF(Vysledky!$E$4:$E$491,Kategorie!A32)) -> 0
A33: =J33 | B33: =IF(A33="","",VLOOKUP(Kategorie!A33,kateg2,4,0)) | C33: 50 | D33: 56 | E33: =IF($J33="",0,VLOOKUP($J33,kateg2,E$2,0)) -> 0 | F33: =IF($J33="",0,VLOOKUP($J33,kateg2,F$2,0)) -> 0 | G33: =IF(E33="","",VLOOKUP($J33,kateg2,G$2,0) & "-" & VLOOKUP($J33,kateg2,E$2,0)) -> - | H33: =IF(I33=20,1,IF(I33=40,2,IF(I33=60,3,IF(I33=80,4,5)))) -> 5 | I33: 110 | J33: =IF(ISERROR(VLOOKUP(D33,Kateg_2!$C$61:$N$89,J$2,0)),"",VLOOKUP(D33,Kateg_2!$C$61:$N$89,J$2,0)) | K33: =IF(J33="",0,HLOOKUP(J33,Vstup!$L$1:$AN$5,5,FALSE)) -> 0 | M33: =N33&O33&P33&Q33&R33&S33&T33&U33&V33&W33&X33&Y33&Z33&AA33&AB33&AC33&AH33&AI33&AJ33&AK33&AL33&AD33&AE33&AF33&AG33 | AM33: =J33 | AN33: Muži - | AO33: =CONCATENATE(AN33," ročník narození ",G33," ",I33," m") -> Muži - ročník narození - 110 m | BQ33: =IF(ISERROR(MATCH(1,N33:AL33)),"",MATCH(1,N33:AL33)) | BR33: =H33 -> 5 | BV33: =IF($K33="","",N33*$K33) -> 0 | BW33: =IF($K33="","",O33*$K33) -> 0 | BX33: =IF($K33="","",P33*$K33) -> 0 | BY33: =IF($K33="","",Q33*$K33) -> 0 | BZ33: =IF($K33="","",R33*$K33) -> 0 | CA33: =IF($K33="","",S33*$K33) -> 0 | CB33: =IF($K33="","",T33*$K33) -> 0 | CC33: =IF($K33="","",U33*$K33) -> 0 | ... CR33: =IF($K33="","",AJ33*$K33) -> 0 | CS33: =IF(MID(A33,1,1)="D",0,1) -> 1 | CT33: =IF(B33="","",CONCATENATE(B33," - ročník ",G33," ",I33," m")) | CU33: =IF(CT33="",0,COUNTIF(Vysledky!$E$4:$E$491,Kategorie!A33)) -> 0
J34: =IF(ISERROR(VLOOKUP(D34,Kateg_2!$C$61:$N$89,J$2,0)),"",VLOOKUP(D34,Kateg_2!$C$61:$N$89,J$2,0)) | BQ34: =IF(ISERROR(MATCH(1,N34:AL34)),"",MATCH(1,N34:AL34)) | BR34: =H34 -> 0
M35: =N35&O35&P35&Q35&R35&S35&T35&U35&V35&W35&X35&Y35&Z35&AA35&AB35&AC35&AH35&AI35&AJ35&AK35&AL35 | BV35: =N35*$K35 -> 0 | BW35: =O35*$K35 -> 0 | BX35: =P35*$K35 -> 0 | BY35: =Q35*$K35 -> 0 | BZ35: =R35*$K35 -> 0 | CA35: =S35*$K35 -> 0 | CB35: =T35*$K35 -> 0 | CC35: =U35*$K35 -> 0 | ... CK35: =AC35*$K35 -> 0 | CL35: =AH35*$K35 -> 0 | CM35: =AI35*$K35 -> 0 | CN35: =AJ35*$K35 -> 0 | CO35: =AK35*$K35 -> 0 | CP35: =AL35*$K35 -> 0
K36: =SUM(K4:K33) -> 137 | N36: =BV36 -> 15 | O36: =BW36 -> 6 | P36: =BX36 -> 7 | Q36: =BY36 -> 5 | R36: =BZ36 -> 6 | S36: =CA36 -> 6 | T36: =CB36 -> 7 | U36: =CC36 -> 7 | ... AJ36: =CR36 -> 0 | AK36: =CT36 -> 0 | AL36: =CU36 -> 0 | BV36: =SUM(BV4:BV35) -> 15 | BW36: =SUM(BW4:BW35) -> 6 | BX36: =SUM(BX4:BX35) -> 7 | BY36: =SUM(BY4:BY35) -> 5 | BZ36: =SUM(BZ4:BZ35) -> 6 | CA36: =SUM(CA4:CA35) -> 6 | CB36: =SUM(CB4:CB35) -> 7 | CC36: =SUM(CC4:CC35) -> 7 | ... CR36: =SUM(CR4:CR35) -> 0
E37: + | J37: Počet cen (1 - 3 pořadí): | K37: =pocet_cen(K4:K35) -> #NAME? | M37: 1 | N37: D01 | O37: D02 | P37: C01 | Q37: C02 | R37: D03 | S37: C03 | T37: D04 | U37: D05 | V37: C05 | W37: D07 | X37: D10 | Y37: D11 | Z37: C07 | AA37: K01 | AB37: D09 | AC37: C11 | AD37: C10 | AE37: C09
M38: 2 | O38: H01 | S38: C04 | U38: D06 | V38: C06 | W38: D12 | Z38: C08 | AA38: C12
M39: 3 | AA39: C13
M40: 4
M41: 5
F42: Maximální počet závodníků v jednom běhu | K42: 20 | M42: 6
M43: 7
M44: 8
E45: - | M45: 9
N46: L1 | O46: L2 | P46: L3 | Q46: L4 | R46: L5 | S46: L6 | T46: L7 | U46: L8 | V46: L9 | W46: L10 | X46: L11 | Y46: L12 | Z46: L13 | AA46: L14 | AB46: L15 | AC46: L16 | AD46: L17 | AE46: L18 | AF46: L19 | AG46: L20 | AH46: L21 | AI46: L22 | AJ46: L23 | AK46: L24 | AL46: L25
N47: 1 | O47: 2 | P47: 3 | Q47: 4 | R47: 5 | S47: 6 | T47: 7 | U47: 8 | V47: 9 | W47: 10 | X47: 11 | Y47: 12 | Z47: 13 | AA47: 14 | AB47: 15 | AC47: 16 | AD47: 17 | AE47: 18 | AF47: 19 | AG47: 20 | AH47: 21 | AI47: 22 | AJ47: 23 | AK47: 24 | AL47: 25
F48: * | I48: Vyber sloupec(přesuň kurzor) --> | N48: N | O48: O | P48: P | Q48: Q | R48: R | S48: S | T48: T | U48: U | V48: V | W48: W | X48: X | Y48: Y | Z48: Z | AA48: AA | AB48: AB | AC48: AC | AD48: AD | AE48: AE | AF48: AF | AG48: AG | AH48: AH | AI48: AI | AJ48: AJ | AK48: AK | AL48: AL
I49: A vyber setavení listiny!!!!!!! | N49: =IF(Test_Jmena_listu(N46),"ANO","") -> #NAME? | O49: =IF(Test_Jmena_listu(O46),"ANO","") -> #NAME? | P49: =IF(Test_Jmena_listu(P46),"ANO","") -> #NAME? | Q49: =IF(Test_Jmena_listu(Q46),"ANO","") -> #NAME? | R49: =IF(Test_Jmena_listu(R46),"ANO","") -> #NAME? | S49: =IF(Test_Jmena_listu(S46),"ANO","") -> #NAME? | T49: =IF(Test_Jmena_listu(T46),"ANO","") -> #NAME? | U49: =IF(Test_Jmena_listu(U46),"ANO","") -> #NAME? | ... BP49: =IF(Test_Jmena_listu(BP46),"ANO","") -> #NAME?
P51: Musí být sloučeny - vybrány kategorie běžící společně
AN52: Max_TL | BR52: MAX_TL
N53: =IF(N36>0,N47*1,0) -> 1 | O53: =IF(O36>0,O47*1,0) -> 2 | P53: =IF(P36>0,P47*1,0) -> 3 | Q53: =IF(Q36>0,Q47*1,0) -> 4 | R53: =IF(R36>0,R47*1,0) -> 5 | S53: =IF(S36>0,S47*1,0) -> 6 | T53: =IF(T36>0,T47*1,0) -> 7 | U53: =IF(U36>0,U47*1,0) -> 8 | ... AL53: =IF(AL36>0,AL47*1,0) -> 0 | AN53: =MAX(N53:AL53) -> 18 | BR53: =MAX(N53:AL53) -> 18

Sheet Vstup
B1: Skupina | C1: POČET | D1: Skupina | E1: POČET | F1: Název: | G1: BĚH K BOŽÍMU HROBU SV. Hostýn | L1: =L6 -> C01 | M1: =M6 -> C02 | N1: =N6 -> C03 | O1: =O6 -> C04 | P1: =P6 -> C05 | Q1: =Q6 -> C06 | R1: =R6 -> C07 | S1: =S6 -> C08 | ... AL1: =AL6 -> D12 | AS1: Datum
B2: 1 | C2: =COUNTIF($J$7:$J$137,B2) -> 33 | D2: 4 | E2: =COUNTIF($J$7:$J$137,D2) -> 37 | L2: =VLOOKUP(L6,kateg2,7,FALSE) -> 2021 | M2: =VLOOKUP(M6,kateg2,7,FALSE) -> 2019 | N2: =VLOOKUP(N6,kateg2,7,FALSE) -> 2017 | O2: =VLOOKUP(O6,kateg2,7,FALSE) -> 2015 | P2: =VLOOKUP(P6,kateg2,7,FALSE) -> 2013 | Q2: =VLOOKUP(Q6,kateg2,7,FALSE) -> 2011 | R2: =VLOOKUP(R6,kateg2,7,FALSE) -> 2009 | S2: =VLOOKUP(S6,kateg2,7,FALSE) -> 2007 | ... AL2: =VLOOKUP(AL6,kateg2,7,FALSE) -> 1926 | AS2: =NASTAVENÍ!$D$3 -> 46256
B3: 2 | C3: =COUNTIF($J$7:$J$137,B3) -> 19 | D3: 5 | E3: =COUNTIF($J$7:$J$137,D3) -> 27 | AR3: Dnes je: | AS3: =TODAY() -> 46269
B4: 3 | C4: =COUNTIF($J$7:$J$137,B4) -> 15 | D4: CELKEM | E4: =SUM(C2:C4,E2:E3) -> 131 | J4: =IF(ISERROR(VLOOKUP(D4,Kateg_2!$C$61:$N$89,J$2,0)),"",VLOOKUP(D4,Kateg_2!$C$61:$N$89,J$2,0)) | L4: =VLOOKUP(L6,kateg2,8,FALSE) -> 2026 | M4: =VLOOKUP(M6,kateg2,8,FALSE) -> 2020 | N4: =VLOOKUP(N6,kateg2,8,FALSE) -> 2018 | O4: =VLOOKUP(O6,kateg2,8,FALSE) -> 2016 | P4: =VLOOKUP(P6,kateg2,8,FALSE) -> 2014 | Q4: =VLOOKUP(Q6,kateg2,8,FALSE) -> 2012 | R4: =VLOOKUP(R6,kateg2,8,FALSE) -> 2010 | S4: =VLOOKUP(S6,kateg2,8,FALSE) -> 2008 | ... AL4: =VLOOKUP(AL6,kateg2,8,FALSE) -> 1971
J5: POČTY: | L5: =COUNTIF($H$7:$H$355,L6) -> 7 | M5: =COUNTIF($H$7:$H$355,M6) -> 5 | N5: =COUNTIF($H$7:$H$355,N6) -> 5 | O5: =COUNTIF($H$7:$H$355,O6) -> 1 | P5: =COUNTIF($H$7:$H$355,P6) -> 5 | Q5: =COUNTIF($H$7:$H$355,Q6) -> 3 | R5: =COUNTIF($H$7:$H$355,R6) -> 8 | S5: =COUNTIF($H$7:$H$355,S6) -> 1 | ... AL5: =COUNTIF($H$7:$H$355,AL6) -> 3
A6: Poř.čis. | B6: Startovní číslo | C6: Příjmení | D6: Jméno | E6: muž/žena | F6: Ročník narození | G6: Jednota - bydliště | H6: kategorie | I6: Vzdálenost | J6: SK. | L6: C01 | M6: C02 | N6: C03 | O6: C04 | P6: C05 | Q6: C06 | R6: C07 | S6: C08 | T6: C09 | U6: C10 | V6: C11 | W6: C12 | X6: C13 | Y6: H01 | Z6: K01 | AA6: D01 | AB6: D02 | AC6: D03 | AD6: D04 | AE6: D05 | AF6: D06 | AG6: D07 | AH6: D08 | AI6: D09 | AJ6: D10 | AK6: D11 | AL6: D12 | AM6: KATEGORIE | AN6: POČ. | AO6: [ m ] | AP6: ročníky
A7: 1 | B7: 2 | C7: Kynštová | D7: Anna | E7: 0 | F7: 2014 | G7: Vysoké Mýto | H7: D05 | I7: =IF(AO7="","",AO7 & " m") -> 60 m | J7: =IF(H7="","",VLOOKUP(H7,Kategorie!$A$4:$J$35,8,FALSE)) -> 3 | L7: =IF($E7=0,"",IF(AND($F7>=L$2,$F7<=L$4),L$6,"")) | M7: =IF($E7=0,"",IF(AND($F7>=M$2,$F7<=M$4),M$6,"")) | U7: =IF($E7=0,"",IF(AND($F7>=U$2,$F7<=U$4),U$6,"")) | V7: =IF($E7=0,"",IF(AND($F7>=V$2,$F7<=V$4),V$6,"")) | W7: =IF($E7=0,"",IF(AND($F7>=W$2,$F7<=W$4),W$6,"")) | X7: =IF($E7=0,"",IF(AND($F7>=X$2,$F7<=X$4),X$6,"")) | AA7: =IF($E7=1,"",IF(AND($F7>=AA$2,$F7<=AA$4),AA$6,"")) | AB7: =IF($E7=1,"",IF(AND($F7>=AB$2,$F7<=AB$4),AB$6,"")) | AC7: =IF($E7=1,"",IF(AND($F7>=AC$2,$F7<=AC$4),AC$6,"")) | AD7: =IF($E7=1,"",IF(AND($F7>=AD$2,$F7<=AD$4),AD$6,"")) | AE7: =IF($E7=1,"",IF(AND($F7>=AE$2,$F7<=AE$4),AE$6,"")) -> D05 | AF7: =IF($E7=1,"",IF(AND($F7>=AF$2,$F7<=AF$4),AF$6,"")) | AG7: =IF($E7=1,"",IF(AND($F7>=AG$2,$F7<=AG$4),AG$6,"")) | AH7: =IF($E7=1,"",IF(AND($F7>=AH$2,$F7<=AH$4),AH$6,"")) | ... AL7: =IF($E7=1,"",IF(AND($F7>=AL$2,$F7<=AL$4),AL$6,"")) | AM7: =IF(H7="","",VLOOKUP(H7,popisky,4,0)) -> Mladší žákyně | AN7: =IF(ISERROR(HLOOKUP(H7,$L$1:$AL$5,5,0)),"",HLOOKUP(H7,$L$1:$AL$5,5,0)) -> 2 | AO7: =IF(H7="","",VLOOKUP(H7,popisky,10,0)) -> 60 | AP7: =IF(H7="","",VLOOKUP(H7,popisky,5,0) & " - " & VLOOKUP(H7,popisky,6,0)) -> 2013 - 2014
A8: =IF(C7="","",MAX($A$7:A7)+1) -> 2 | B8: 3 | C8: Kynštová | D8: Marie | E8: 0 | F8: 2010 | G8: Vysoké Mýto | H8: D07 | I8: =IF(AO8="","",AO8 & " m") -> 80 m | J8: =IF(H8="","",VLOOKUP(H8,Kategorie!$A$4:$J$35,8,FALSE)) -> 4 | L8: =IF($E8=0,"",IF(AND($F8>=L$2,$F8<=L$4),L$6,"")) | M8: =IF($E8=0,"",IF(AND($F8>=M$2,$F8<=M$4),M$6,"")) | N8: =IF($E8=0,"",IF(AND($F8>=N$2,$F8<=N$4),N$6,"")) | U8: =IF($E8=0,"",IF(AND($F8>=U$2,$F8<=U$4),U$6,"")) | V8: =IF($E8=0,"",IF(AND($F8>=V$2,$F8<=V$4),V$6,"")) | W8: =IF($E8=0,"",IF(AND($F8>=W$2,$F8<=W$4),W$6,"")) | X8: =IF($E8=0,"",IF(AND($F8>=X$2,$F8<=X$4),X$6,"")) | AA8: =IF($E8=1,"",IF(AND($F8>=AA$2,$F8<=AA$4),AA$6,"")) | AB8: =IF($E8=1,"",IF(AND($F8>=AB$2,$F8<=AB$4),AB$6,"")) | AC8: =IF($E8=1,"",IF(AND($F8>=AC$2,$F8<=AC$4),AC$6,"")) | AD8: =IF($E8=1,"",IF(AND($F8>=AD$2,$F8<=AD$4),AD$6,"")) | AE8: =IF($E8=1,"",IF(AND($F8>=AE$2,$F8<=AE$4),AE$6,"")) | AF8: =IF($E8=1,"",IF(AND($F8>=AF$2,$F8<=AF$4),AF$6,"")) | AG8: =IF($E8=1,"",IF(AND($F8>=AG$2,$F8<=AG$4),AG$6,"")) -> D07 | AH8: =IF($E8=1,"",IF(AND($F8>=AH$2,$F8<=AH$4),AH$6,"")) | ... AL8: =IF($E8=1,"",IF(AND($F8>=AL$2,$F8<=AL$4),AL$6,"")) | AM8: =IF(H8="","",VLOOKUP(H8,popisky,4,0)) -> Dorostenky | AN8: =IF(ISERROR(HLOOKUP(H8,$L$1:$AL$5,5,0)),"",HLOOKUP(H8,$L$1:$AL$5,5,0)) -> 2 | AO8: =IF(H8="","",VLOOKUP(H8,popisky,10,0)) -> 80 | AP8: =IF(H8="","",VLOOKUP(H8,popisky,5,0) & " - " & VLOOKUP(H8,popisky,6,0)) -> 2009 - 2010
A9: =IF(C8="","",MAX($A$7:A8)+1) -> 3 | B9: 4 | C9: Kynštová | D9: Marie | E9: 0 | F9: 1983 | G9: Vysoké Mýto | H9: D10 | I9: =IF(AO9="","",AO9 & " m") -> 80 m | J9: =IF(H9="","",VLOOKUP(H9,Kategorie!$A$4:$J$35,8,FALSE)) -> 4 | L9: =IF($E9=0,"",IF(AND($F9>=L$2,$F9<=L$4),L$6,"")) | M9: =IF($E9=0,"",IF(AND($F9>=M$2,$F9<=M$4),M$6,"")) | N9: =IF($E9=0,"",IF(AND($F9>=N$2,$F9<=N$4),N$6,"")) | U9: =IF($E9=0,"",IF(AND($F9>=U$2,$F9<=U$4),U$6,"")) | V9: =IF($E9=0,"",IF(AND($F9>=V$2,$F9<=V$4),V$6,"")) | W9: =IF($E9=0,"",IF(AND($F9>=W$2,$F9<=W$4),W$6,"")) | X9: =IF($E9=0,"",IF(AND($F9>=X$2,$F9<=X$4),X$6,"")) | AA9: =IF($E9=1,"",IF(AND($F9>=AA$2,$F9<=AA$4),AA$6,"")) | AB9: =IF($E9=1,"",IF(AND($F9>=AB$2,$F9<=AB$4),AB$6,"")) | AC9: =IF($E9=1,"",IF(AND($F9>=AC$2,$F9<=AC$4),AC$6,"")) | AD9: =IF($E9=1,"",IF(AND($F9>=AD$2,$F9<=AD$4),AD$6,"")) | AE9: =IF($E9=1,"",IF(AND($F9>=AE$2,$F9<=AE$4),AE$6,"")) | AF9: =IF($E9=1,"",IF(AND($F9>=AF$2,$F9<=AF$4),AF$6,"")) | AG9: =IF($E9=1,"",IF(AND($F9>=AG$2,$F9<=AG$4),AG$6,"")) | AH9: =IF($E9=1,"",IF(AND($F9>=AH$2,$F9<=AH$4),AH$6,"")) | ... AL9: =IF($E9=1,"",IF(AND($F9>=AL$2,$F9<=AL$4),AL$6,"")) | AM9: =IF(H9="","",VLOOKUP(H9,popisky,4,0)) -> Ženy B | AN9: =IF(ISERROR(HLOOKUP(H9,$L$1:$AL$5,5,0)),"",HLOOKUP(H9,$L$1:$AL$5,5,0)) -> 9 | AO9: =IF(H9="","",VLOOKUP(H9,popisky,10,0)) -> 80 | AP9: =IF(H9="","",VLOOKUP(H9,popisky,5,0) & " - " & VLOOKUP(H9,popisky,6,0)) -> 1991 - 1982
A10: =IF(C9="","",MAX($A$7:A9)+1) -> 4 | B10: 5 | C10: Brázdilová | D10: Amélie | E10: 0 | F10: 2022 | G10: Fryšták | H10: D01 | I10: =IF(AO10="","",AO10 & " m") -> 20 m | J10: =IF(H10="","",VLOOKUP(H10,Kategorie!$A$4:$J$35,8,FALSE)) -> 1 | L10: =IF($E10=0,"",IF(AND($F10>=L$2,$F10<=L$4),L$6,"")) | M10: =IF($E10=0,"",IF(AND($F10>=M$2,$F10<=M$4),M$6,"")) | N10: =IF($E10=0,"",IF(AND($F10>=N$2,$F10<=N$4),N$6,"")) | U10: =IF($E10=0,"",IF(AND($F10>=U$2,$F10<=U$4),U$6,"")) | V10: =IF($E10=0,"",IF(AND($F10>=V$2,$F10<=V$4),V$6,"")) | W10: =IF($E10=0,"",IF(AND($F10>=W$2,$F10<=W$4),W$6,"")) | X10: =IF($E10=0,"",IF(AND($F10>=X$2,$F10<=X$4),X$6,"")) | AA10: =IF($E10=1,"",IF(AND($F10>=AA$2,$F10<=AA$4),AA$6,"")) -> D01 | AB10: =IF($E10=1,"",IF(AND($F10>=AB$2,$F10<=AB$4),AB$6,"")) | AC10: =IF($E10=1,"",IF(AND($F10>=AC$2,$F10<=AC$4),AC$6,"")) | AD10: =IF($E10=1,"",IF(AND($F10>=AD$2,$F10<=AD$4),AD$6,"")) | AE10: =IF($E10=1,"",IF(AND($F10>=AE$2,$F10<=AE$4),AE$6,"")) | AF10: =IF($E10=1,"",IF(AND($F10>=AF$2,$F10<=AF$4),AF$6,"")) | AG10: =IF($E10=1,"",IF(AND($F10>=AG$2,$F10<=AG$4),AG$6,"")) | AH10: =IF($E10=1,"",IF(AND($F10>=AH$2,$F10<=AH$4),AH$6,"")) | ... AL10: =IF($E10=1,"",IF(AND($F10>=AL$2,$F10<=AL$4),AL$6,"")) | AM10: =IF(H10="","",VLOOKUP(H10,popisky,4,0)) -> Benjamínci D | AN10: =IF(ISERROR(HLOOKUP(H10,$L$1:$AL$5,5,0)),"",HLOOKUP(H10,$L$1:$AL$5,5,0)) -> 15 | AO10: =IF(H10="","",VLOOKUP(H10,popisky,10,0)) -> 20 | AP10: =IF(H10="","",VLOOKUP(H10,popisky,5,0) & " - " & VLOOKUP(H10,popisky,6,0)) -> 2021 - a mladší
A11: =IF(C10="","",MAX($A$7:A10)+1) -> 5 | B11: 6 | C11: Brázdilová | D11: Natálie | E11: 0 | F11: 2022 | G11: Fryšták | H11: D01 | I11: =IF(AO11="","",AO11 & " m") -> 20 m | J11: =IF(H11="","",VLOOKUP(H11,Kategorie!$A$4:$J$35,8,FALSE)) -> 1 | L11: =IF($E11=0,"",IF(AND($F11>=L$2,$F11<=L$4),L$6,"")) | M11: =IF($E11=0,"",IF(AND($F11>=M$2,$F11<=M$4),M$6,"")) | N11: =IF($E11=0,"",IF(AND($F11>=N$2,$F11<=N$4),N$6,"")) | U11: =IF($E11=0,"",IF(AND($F11>=U$2,$F11<=U$4),U$6,"")) | V11: =IF($E11=0,"",IF(AND($F11>=V$2,$F11<=V$4),V$6,"")) | W11: =IF($E11=0,"",IF(AND($F11>=W$2,$F11<=W$4),W$6,"")) | X11: =IF($E11=0,"",IF(AND($F11>=X$2,$F11<=X$4),X$6,"")) | AA11: =IF($E11=1,"",IF(AND($F11>=AA$2,$F11<=AA$4),AA$6,"")) -> D01 | AB11: =IF($E11=1,"",IF(AND($F11>=AB$2,$F11<=AB$4),AB$6,"")) | AC11: =IF($E11=1,"",IF(AND($F11>=AC$2,$F11<=AC$4),AC$6,"")) | AD11: =IF($E11=1,"",IF(AND($F11>=AD$2,$F11<=AD$4),AD$6,"")) | AE11: =IF($E11=1,"",IF(AND($F11>=AE$2,$F11<=AE$4),AE$6,"")) | AF11: =IF($E11=1,"",IF(AND($F11>=AF$2,$F11<=AF$4),AF$6,"")) | AG11: =IF($E11=1,"",IF(AND($F11>=AG$2,$F11<=AG$4),AG$6,"")) | AH11: =IF($E11=1,"",IF(AND($F11>=AH$2,$F11<=AH$4),AH$6,"")) | ... AL11: =IF($E11=1,"",IF(AND($F11>=AL$2,$F11<=AL$4),AL$6,"")) | AM11: =IF(H11="","",VLOOKUP(H11,popisky,4,0)) -> Benjamínci D | AN11: =IF(ISERROR(HLOOKUP(H11,$L$1:$AL$5,5,0)),"",HLOOKUP(H11,$L$1:$AL$5,5,0)) -> 15 | AO11: =IF(H11="","",VLOOKUP(H11,popisky,10,0)) -> 20 | AP11: =IF(H11="","",VLOOKUP(H11,popisky,5,0) & " - " & VLOOKUP(H11,popisky,6,0)) -> 2021 - a mladší
A12: =IF(C11="","",MAX($A$7:A11)+1) -> 6 | B12: 7 | C12: Brázdil | D12: Maxmilián | E12: 1 | F12: 2021 | G12: Holešov | H12: C01 | I12: =IF(AO12="","",AO12 & " m") -> 20 m | J12: =IF(H12="","",VLOOKUP(H12,Kategorie!$A$4:$J$35,8,FALSE)) -> 1 | L12: =IF($E12=0,"",IF(AND($F12>=L$2,$F12<=L$4),L$6,"")) -> C01 | M12: =IF($E12=0,"",IF(AND($F12>=M$2,$F12<=M$4),M$6,"")) | N12: =IF($E12=0,"",IF(AND($F12>=N$2,$F12<=N$4),N$6,"")) | U12: =IF($E12=0,"",IF(AND($F12>=U$2,$F12<=U$4),U$6,"")) | V12: =IF($E12=0,"",IF(AND($F12>=V$2,$F12<=V$4),V$6,"")) | W12: =IF($E12=0,"",IF(AND($F12>=W$2,$F12<=W$4),W$6,"")) | X12: =IF($E12=0,"",IF(AND($F12>=X$2,$F12<=X$4),X$6,"")) | AA12: =IF($E12=1,"",IF(AND($F12>=AA$2,$F12<=AA$4),AA$6,"")) | AB12: =IF($E12=1,"",IF(AND($F12>=AB$2,$F12<=AB$4),AB$6,"")) | AC12: =IF($E12=1,"",IF(AND($F12>=AC$2,$F12<=AC$4),AC$6,"")) | AD12: =IF($E12=1,"",IF(AND($F12>=AD$2,$F12<=AD$4),AD$6,"")) | AE12: =IF($E12=1,"",IF(AND($F12>=AE$2,$F12<=AE$4),AE$6,"")) | AF12: =IF($E12=1,"",IF(AND($F12>=AF$2,$F12<=AF$4),AF$6,"")) | AG12: =IF($E12=1,"",IF(AND($F12>=AG$2,$F12<=AG$4),AG$6,"")) | AH12: =IF($E12=1,"",IF(AND($F12>=AH$2,$F12<=AH$4),AH$6,"")) | ... AL12: =IF($E12=1,"",IF(AND($F12>=AL$2,$F12<=AL$4),AL$6,"")) | AM12: =IF(H12="","",VLOOKUP(H12,popisky,4,0)) -> Benjamínci H | AN12: =IF(ISERROR(HLOOKUP(H12,$L$1:$AL$5,5,0)),"",HLOOKUP(H12,$L$1:$AL$5,5,0)) -> 7 | AO12: =IF(H12="","",VLOOKUP(H12,popisky,10,0)) -> 20 | AP12: =IF(H12="","",VLOOKUP(H12,popisky,5,0) & " - " & VLOOKUP(H12,popisky,6,0)) -> 2021 - a mladší
A13: =IF(C12="","",MAX($A$7:A12)+1) -> 7 | B13: 8 | C13: Kovář | D13: Kristián | E13: 1 | F13: 2020 | G13: Telč | H13: C02 | I13: =IF(AO13="","",AO13 & " m") -> 20 m | J13: =IF(H13="","",VLOOKUP(H13,Kategorie!$A$4:$J$35,8,FALSE)) -> 1 | L13: =IF($E13=0,"",IF(AND($F13>=L$2,$F13<=L$4),L$6,"")) | M13: =IF($E13=0,"",IF(AND($F13>=M$2,$F13<=M$4),M$6,"")) -> C02 | N13: =IF($E13=0,"",IF(AND($F13>=N$2,$F13<=N$4),N$6,"")) | U13: =IF($E13=0,"",IF(AND($F13>=U$2,$F13<=U$4),U$6,"")) | V13: =IF($E13=0,"",IF(AND($F13>=V$2,$F13<=V$4),V$6,"")) | W13: =IF($E13=0,"",IF(AND($F13>=W$2,$F13<=W$4),W$6,"")) | X13: =IF($E13=0,"",IF(AND($F13>=X$2,$F13<=X$4),X$6,"")) | AA13: =IF($E13=1,"",IF(AND($F13>=AA$2,$F13<=AA$4),AA$6,"")) | AB13: =IF($E13=1,"",IF(AND($F13>=AB$2,$F13<=AB$4),AB$6,"")) | AC13: =IF($E13=1,"",IF(AND($F13>=AC$2,$F13<=AC$4),AC$6,"")) | AD13: =IF($E13=1,"",IF(AND($F13>=AD$2,$F13<=AD$4),AD$6,"")) | AE13: =IF($E13=1,"",IF(AND($F13>=AE$2,$F13<=AE$4),AE$6,"")) | AF13: =IF($E13=1,"",IF(AND($F13>=AF$2,$F13<=AF$4),AF$6,"")) | AG13: =IF($E13=1,"",IF(AND($F13>=AG$2,$F13<=AG$4),AG$6,"")) | AH13: =IF($E13=1,"",IF(AND($F13>=AH$2,$F13<=AH$4),AH$6,"")) | ... AL13: =IF($E13=1,"",IF(AND($F13>=AL$2,$F13<=AL$4),AL$6,"")) | AM13: =IF(H13="","",VLOOKUP(H13,popisky,4,0)) -> Atletická školka H | AN13: =IF(ISERROR(HLOOKUP(H13,$L$1:$AL$5,5,0)),"",HLOOKUP(H13,$L$1:$AL$5,5,0)) -> 5 | AO13: =IF(H13="","",VLOOKUP(H13,popisky,10,0)) -> 20 | AP13: =IF(H13="","",VLOOKUP(H13,popisky,5,0) & " - " & VLOOKUP(H13,popisky,6,0)) -> 2019 - 2020
A14: =IF(C13="","",MAX($A$7:A13)+1) -> 8 | B14: 9 | C14: Kovářová | D14: Květoslava | E14: 0 | F14: 2022 | G14: Telč | H14: D01 | I14: =IF(AO14="","",AO14 & " m") -> 20 m | J14: =IF(H14="","",VLOOKUP(H14,Kategorie!$A$4:$J$35,8,FALSE)) -> 1 | L14: =IF($E14=0,"",IF(AND($F14>=L$2,$F14<=L$4),L$6,"")) | M14: =IF($E14=0,"",IF(AND($F14>=M$2,$F14<=M$4),M$6,"")) | N14: =IF($E14=0,"",IF(AND($F14>=N$2,$F14<=N$4),N$6,"")) | U14: =IF($E14=0,"",IF(AND($F14>=U$2,$F14<=U$4),U$6,"")) | V14: =IF($E14=0,"",IF(AND($F14>=V$2,$F14<=V$4),V$6,"")) | W14: =IF($E14=0,"",IF(AND($F14>=W$2,$F14<=W$4),W$6,"")) | X14: =IF($E14=0,"",IF(AND($F14>=X$2,$F14<=X$4),X$6,"")) | AA14: =IF($E14=1,"",IF(AND($F14>=AA$2,$F14<=AA$4),AA$6,"")) -> D01 | AB14: =IF($E14=1,"",IF(AND($F14>=AB$2,$F14<=AB$4),AB$6,"")) | AC14: =IF($E14=1,"",IF(AND($F14>=AC$2,$F14<=AC$4),AC$6,"")) | AD14: =IF($E14=1,"",IF(AND($F14>=AD$2,$F14<=AD$4),AD$6,"")) | AE14: =IF($E14=1,"",IF(AND($F14>=AE$2,$F14<=AE$4),AE$6,"")) | AF14: =IF($E14=1,"",IF(AND($F14>=AF$2,$F14<=AF$4),AF$6,"")) | AG14: =IF($E14=1,"",IF(AND($F14>=AG$2,$F14<=AG$4),AG$6,"")) | AH14: =IF($E14=1,"",IF(AND($F14>=AH$2,$F14<=AH$4),AH$6,"")) | ... AL14: =IF($E14=1,"",IF(AND($F14>=AL$2,$F14<=AL$4),AL$6,"")) | AM14: =IF(H14="","",VLOOKUP(H14,popisky,4,0)) -> Benjamínci D | AN14: =IF(ISERROR(HLOOKUP(H14,$L$1:$AL$5,5,0)),"",HLOOKUP(H14,$L$1:$AL$5,5,0)) -> 15 | AO14: =IF(H14="","",VLOOKUP(H14,popisky,10,0)) -> 20 | AP14: =IF(H14="","",VLOOKUP(H14,popisky,5,0) & " - " & VLOOKUP(H14,popisky,6,0)) -> 2021 - a mladší
A15: =IF(D14="","",MAX($A$7:A14)+1) -> 9 | B15: 10 | C15: Robel | D15: Martin | E15: 1 | F15: 2019 | G15: Telč | H15: C02 | I15: =IF(AO15="","",AO15 & " m") -> 20 m | J15: =IF(H15="","",VLOOKUP(H15,Kategorie!$A$4:$J$35,8,FALSE)) -> 1 | L15: =IF($E15=0,"",IF(AND($F15>=L$2,$F15<=L$4),L$6,"")) | M15: =IF($E15=0,"",IF(AND($F15>=M$2,$F15<=M$4),M$6,"")) -> C02 | N15: =IF($E15=0,"",IF(AND($F15>=N$2,$F15<=N$4),N$6,"")) | U15: =IF($E15=0,"",IF(AND($F15>=U$2,$F15<=U$4),U$6,"")) | V15: =IF($E15=0,"",IF(AND($F15>=V$2,$F15<=V$4),V$6,"")) | W15: =IF($E15=0,"",IF(AND($F15>=W$2,$F15<=W$4),W$6,"")) | X15: =IF($E15=0,"",IF(AND($F15>=X$2,$F15<=X$4),X$6,"")) | AA15: =IF($E15=1,"",IF(AND($F15>=AA$2,$F15<=AA$4),AA$6,"")) | AB15: =IF($E15=1,"",IF(AND($F15>=AB$2,$F15<=AB$4),AB$6,"")) | AC15: =IF($E15=1,"",IF(AND($F15>=AC$2,$F15<=AC$4),AC$6,"")) | AD15: =IF($E15=1,"",IF(AND($F15>=AD$2,$F15<=AD$4),AD$6,"")) | AE15: =IF($E15=1,"",IF(AND($F15>=AE$2,$F15<=AE$4),AE$6,"")) | AF15: =IF($E15=1,"",IF(AND($F15>=AF$2,$F15<=AF$4),AF$6,"")) | AG15: =IF($E15=1,"",IF(AND($F15>=AG$2,$F15<=AG$4),AG$6,"")) | AH15: =IF($E15=1,"",IF(AND($F15>=AH$2,$F15<=AH$4),AH$6,"")) | ... AL15: =IF($E15=1,"",IF(AND($F15>=AL$2,$F15<=AL$4),AL$6,"")) | AM15: =IF(H15="","",VLOOKUP(H15,popisky,4,0)) -> Atletická školka H | AN15: =IF(ISERROR(HLOOKUP(H15,$L$1:$AL$5,5,0)),"",HLOOKUP(H15,$L$1:$AL$5,5,0)) -> 5 | AO15: =IF(H15="","",VLOOKUP(H15,popisky,10,0)) -> 20 | AP15: =IF(H15="","",VLOOKUP(H15,popisky,5,0) & " - " & VLOOKUP(H15,popisky,6,0)) -> 2019 - 2020
A16: =IF(C15="","",MAX($A$7:A15)+1) -> 10 | B16: 11 | C16: Hrotková | D16: Elen | E16: 0 | F16: 2011 | G16: Domanín | H16: D06 | I16: =IF(AO16="","",AO16 & " m") -> 60 m | J16: =IF(H16="","",VLOOKUP(H16,Kategorie!$A$4:$J$35,8,FALSE)) -> 3 | L16: =IF($E16=0,"",IF(AND($F16>=L$2,$F16<=L$4),L$6,"")) | M16: =IF($E16=0,"",IF(AND($F16>=M$2,$F16<=M$4),M$6,"")) | N16: =IF($E16=0,"",IF(AND($F16>=N$2,$F16<=N$4),N$6,"")) | U16: =IF($E16=0,"",IF(AND($F16>=U$2,$F16<=U$4),U$6,"")) | V16: =IF($E16=0,"",IF(AND($F16>=V$2,$F16<=V$4),V$6,"")) | W16: =IF($E16=0,"",IF(AND($F16>=W$2,$F16<=W$4),W$6,"")) | X16: =IF($E16=0,"",IF(AND($F16>=X$2,$F16<=X$4),X$6,"")) | AA16: =IF($E16=1,"",IF(AND($F16>=AA$2,$F16<=AA$4),AA$6,"")) | AB16: =IF($E16=1,"",IF(AND($F16>=AB$2,$F16<=AB$4),AB$6,"")) | AC16: =IF($E16=1,"",IF(AND($F16>=AC$2,$F16<=AC$4),AC$6,"")) | AD16: =IF($E16=1,"",IF(AND($F16>=AD$2,$F16<=AD$4),AD$6,"")) | AE16: =IF($E16=1,"",IF(AND($F16>=AE$2,$F16<=AE$4),AE$6,"")) | AF16: =IF($E16=1,"",IF(AND($F16>=AF$2,$F16<=AF$4),AF$6,"")) -> D06 | AG16: =IF($E16=1,"",IF(AND($F16>=AG$2,$F16<=AG$4),AG$6,"")) | AH16: =IF($E16=1,"",IF(AND($F16>=AH$2,$F16<=AH$4),AH$6,"")) | ... AL16: =IF($E16=1,"",IF(AND($F16>=AL$2,$F16<=AL$4),AL$6,"")) | AM16: =IF(H16="","",VLOOKUP(H16,popisky,4,0)) -> Starší žákyně | AN16: =IF(ISERROR(HLOOKUP(H16,$L$1:$AL$5,5,0)),"",HLOOKUP(H16,$L$1:$AL$5,5,0)) -> 5 | AO16: =IF(H16="","",VLOOKUP(H16,popisky,10,0)) -> 60 | AP16: =IF(H16="","",VLOOKUP(H16,popisky,5,0) & " - " & VLOOKUP(H16,popisky,6,0)) -> 2011 - 2012
A17: =IF(C16="","",MAX($A$7:A16)+1) -> 11 | B17: 12 | C17: Machů | D17: Tomáš | E17: 1 | F17: 2018 | G17: Újezd u Val. Klobouk | H17: C03 | I17: =IF(AO17="","",AO17 & " m") -> 40 m | J17: =IF(H17="","",VLOOKUP(H17,Kategorie!$A$4:$J$35,8,FALSE)) -> 2 | L17: =IF($E17=0,"",IF(AND($F17>=L$2,$F17<=L$4),L$6,"")) | M17: =IF($E17=0,"",IF(AND($F17>=M$2,$F17<=M$4),M$6,"")) | N17: =IF($E17=0,"",IF(AND($F17>=N$2,$F17<=N$4),N$6,"")) -> C03 | U17: =IF($E17=0,"",IF(AND($F17>=U$2,$F17<=U$4),U$6,"")) | V17: =IF($E17=0,"",IF(AND($F17>=V$2,$F17<=V$4),V$6,"")) | W17: =IF($E17=0,"",IF(AND($F17>=W$2,$F17<=W$4),W$6,"")) | X17: =IF($E17=0,"",IF(AND($F17>=X$2,$F17<=X$4),X$6,"")) | AA17: =IF($E17=1,"",IF(AND($F17>=AA$2,$F17<=AA$4),AA$6,"")) | AB17: =IF($E17=1,"",IF(AND($F17>=AB$2,$F17<=AB$4),AB$6,"")) | AC17: =IF($E17=1,"",IF(AND($F17>=AC$2,$F17<=AC$4),AC$6,"")) | AD17: =IF($E17=1,"",IF(AND($F17>=AD$2,$F17<=AD$4),AD$6,"")) | AE17: =IF($E17=1,"",IF(AND($F17>=AE$2,$F17<=AE$4),AE$6,"")) | AF17: =IF($E17=1,"",IF(AND($F17>=AF$2,$F17<=AF$4),AF$6,"")) | AG17: =IF($E17=1,"",IF(AND($F17>=AG$2,$F17<=AG$4),AG$6,"")) | AH17: =IF($E17=1,"",IF(AND($F17>=AH$2,$F17<=AH$4),AH$6,"")) | ... AL17: =IF($E17=1,"",IF(AND($F17>=AL$2,$F17<=AL$4),AL$6,"")) | AM17: =IF(H17="","",VLOOKUP(H17,popisky,4,0)) -> Minipřípravka H | AN17: =IF(ISERROR(HLOOKUP(H17,$L$1:$AL$5,5,0)),"",HLOOKUP(H17,$L$1:$AL$5,5,0)) -> 5 | AO17: =IF(H17="","",VLOOKUP(H17,popisky,10,0)) -> 40 | AP17: =IF(H17="","",VLOOKUP(H17,popisky,5,0) & " - " & VLOOKUP(H17,popisky,6,0)) -> 2017 - 2018
A18: =IF(C17="","",MAX($A$7:A17)+1) -> 12 | B18: 13 | C18: Střížová | D18: Júlie | E18: 0 | F18: 2019 | G18: Dolní Lhota | H18: D02 | I18: =IF(AO18="","",AO18 & " m") -> 20 m | J18: =IF(H18="","",VLOOKUP(H18,Kategorie!$A$4:$J$35,8,FALSE)) -> 1 | L18: =IF($E18=0,"",IF(AND($F18>=L$2,$F18<=L$4),L$6,"")) | M18: =IF($E18=0,"",IF(AND($F18>=M$2,$F18<=M$4),M$6,"")) | N18: =IF($E18=0,"",IF(AND($F18>=N$2,$F18<=N$4),N$6,"")) | U18: =IF($E18=0,"",IF(AND($F18>=U$2,$F18<=U$4),U$6,"")) | V18: =IF($E18=0,"",IF(AND($F18>=V$2,$F18<=V$4),V$6,"")) | W18: =IF($E18=0,"",IF(AND($F18>=W$2,$F18<=W$4),W$6,"")) | X18: =IF($E18=0,"",IF(AND($F18>=X$2,$F18<=X$4),X$6,"")) | AA18: =IF($E18=1,"",IF(AND($F18>=AA$2,$F18<=AA$4),AA$6,"")) | AB18: =IF($E18=1,"",IF(AND($F18>=AB$2,$F18<=AB$4),AB$6,"")) -> D02 | AC18: =IF($E18=1,"",IF(AND($F18>=AC$2,$F18<=AC$4),AC$6,"")) | AD18: =IF($E18=1,"",IF(AND($F18>=AD$2,$F18<=AD$4),AD$6,"")) | AE18: =IF($E18=1,"",IF(AND($F18>=AE$2,$F18<=AE$4),AE$6,"")) | AF18: =IF($E18=1,"",IF(AND($F18>=AF$2,$F18<=AF$4),AF$6,"")) | AG18: =IF($E18=1,"",IF(AND($F18>=AG$2,$F18<=AG$4),AG$6,"")) | AH18: =IF($E18=1,"",IF(AND($F18>=AH$2,$F18<=AH$4),AH$6,"")) | ... AL18: =IF($E18=1,"",IF(AND($F18>=AL$2,$F18<=AL$4),AL$6,"")) | AM18: =IF(H18="","",VLOOKUP(H18,popisky,4,0)) -> Atletická školka D | AN18: =IF(ISERROR(HLOOKUP(H18,$L$1:$AL$5,5,0)),"",HLOOKUP(H18,$L$1:$AL$5,5,0)) -> 4 | AO18: =IF(H18="","",VLOOKUP(H18,popisky,10,0)) -> 20 | AP18: =IF(H18="","",VLOOKUP(H18,popisky,5,0) & " - " & VLOOKUP(H18,popisky,6,0)) -> 2019 - 2020
A19: =IF(C18="","",MAX($A$7:A18)+1) -> 13 | B19: 14 | C19: Zuhlová | D19: Adina | E19: 0 | F19: 2023 | G19: Brno-Starý Lískovec | H19: D01 | I19: =IF(AO19="","",AO19 & " m") -> 20 m | J19: =IF(H19="","",VLOOKUP(H19,Kategorie!$A$4:$J$35,8,FALSE)) -> 1 | L19: =IF($E19=0,"",IF(AND($F19>=L$2,$F19<=L$4),L$6,"")) | M19: =IF($E19=0,"",IF(AND($F19>=M$2,$F19<=M$4),M$6,"")) | N19: =IF($E19=0,"",IF(AND($F19>=N$2,$F19<=N$4),N$6,"")) | U19: =IF($E19=0,"",IF(AND($F19>=U$2,$F19<=U$4),U$6,"")) | V19: =IF($E19=0,"",IF(AND($F19>=V$2,$F19<=V$4),V$6,"")) | W19: =IF($E19=0,"",IF(AND($F19>=W$2,$F19<=W$4),W$6,"")) | X19: =IF($E19=0,"",IF(AND($F19>=X$2,$F19<=X$4),X$6,"")) | AA19: =IF($E19=1,"",IF(AND($F19>=AA$2,$F19<=AA$4),AA$6,"")) -> D01 | AB19: =IF($E19=1,"",IF(AND($F19>=AB$2,$F19<=AB$4),AB$6,"")) | AC19: =IF($E19=1,"",IF(AND($F19>=AC$2,$F19<=AC$4),AC$6,"")) | AD19: =IF($E19=1,"",IF(AND($F19>=AD$2,$F19<=AD$4),AD$6,"")) | AE19: =IF($E19=1,"",IF(AND($F19>=AE$2,$F19<=AE$4),AE$6,"")) | AF19: =IF($E19=1,"",IF(AND($F19>=AF$2,$F19<=AF$4),AF$6,"")) | AG19: =IF($E19=1,"",IF(AND($F19>=AG$2,$F19<=AG$4),AG$6,"")) | AH19: =IF($E19=1,"",IF(AND($F19>=AH$2,$F19<=AH$4),AH$6,"")) | ... AL19: =IF($E19=1,"",IF(AND($F19>=AL$2,$F19<=AL$4),AL$6,"")) | AM19: =IF(H19="","",VLOOKUP(H19,popisky,4,0)) -> Benjamínci D | AN19: =IF(ISERROR(HLOOKUP(H19,$L$1:$AL$5,5,0)),"",HLOOKUP(H19,$L$1:$AL$5,5,0)) -> 15 | AO19: =IF(H19="","",VLOOKUP(H19,popisky,10,0)) -> 20 | AP19: =IF(H19="","",VLOOKUP(H19,popisky,5,0) & " - " & VLOOKUP(H19,popisky,6,0)) -> 2021 - a mladší
A20: =IF(C19="","",MAX($A$7:A19)+1) -> 14 | B20: 15 | C20: Zuhlová | D20: Lota | E20: 0 | F20: 2020 | G20: Brno-Starý Lískovec | H20: D02 | I20: =IF(AO20="","",AO20 & " m") -> 20 m | J20: =IF(H20="","",VLOOKUP(H20,Kategorie!$A$4:$J$35,8,FALSE)) -> 1 | L20: =IF($E20=0,"",IF(AND($F20>=L$2,$F20<=L$4),L$6,"")) | M20: =IF($E20=0,"",IF(AND($F20>=M$2,$F20<=M$4),M$6,"")) | N20: =IF($E20=0,"",IF(AND($F20>=N$2,$F20<=N$4),N$6,"")) | U20: =IF($E20=0,"",IF(AND($F20>=U$2,$F20<=U$4),U$6,"")) | V20: =IF($E20=0,"",IF(AND($F20>=V$2,$F20<=V$4),V$6,"")) | W20: =IF($E20=0,"",IF(AND($F20>=W$2,$F20<=W$4),W$6,"")) | X20: =IF($E20=0,"",IF(AND($F20>=X$2,$F20<=X$4),X$6,"")) | AA20: =IF($E20=1,"",IF(AND($F20>=AA$2,$F20<=AA$4),AA$6,"")) | AB20: =IF($E20=1,"",IF(AND($F20>=AB$2,$F20<=AB$4),AB$6,"")) -> D02 | AC20: =IF($E20=1,"",IF(AND($F20>=AC$2,$F20<=AC$4),AC$6,"")) | AD20: =IF($E20=1,"",IF(AND($F20>=AD$2,$F20<=AD$4),AD$6,"")) | AE20: =IF($E20=1,"",IF(AND($F20>=AE$2,$F20<=AE$4),AE$6,"")) | AF20: =IF($E20=1,"",IF(AND($F20>=AF$2,$F20<=AF$4),AF$6,"")) | AG20: =IF($E20=1,"",IF(AND($F20>=AG$2,$F20<=AG$4),AG$6,"")) | AH20: =IF($E20=1,"",IF(AND($F20>=AH$2,$F20<=AH$4),AH$6,"")) | ... AL20: =IF($E20=1,"",IF(AND($F20>=AL$2,$F20<=AL$4),AL$6,"")) | AM20: =IF(H20="","",VLOOKUP(H20,popisky,4,0)) -> Atletická školka D | AN20: =IF(ISERROR(HLOOKUP(H20,$L$1:$AL$5,5,0)),"",HLOOKUP(H20,$L$1:$AL$5,5,0)) -> 4 | AO20: =IF(H20="","",VLOOKUP(H20,popisky,10,0)) -> 20 | AP20: =IF(H20="","",VLOOKUP(H20,popisky,5,0) & " - " & VLOOKUP(H20,popisky,6,0)) -> 2019 - 2020
A21: =IF(C20="","",MAX($A$7:A20)+1) -> 15 | B21: 16 | C21: Zuhlová | D21: Barbora | E21: 0 | F21: 2015 | G21: Brno-Starý Lískovec | H21: D04 | I21: =IF(AO21="","",AO21 & " m") -> 40 m | J21: =IF(H21="","",VLOOKUP(H21,Kategorie!$A$4:$J$35,8,FALSE)) -> 2 | L21: =IF($E21=0,"",IF(AND($F21>=L$2,$F21<=L$4),L$6,"")) | M21: =IF($E21=0,"",IF(AND($F21>=M$2,$F21<=M$4),M$6,"")) | N21: =IF($E21=0,"",IF(AND($F21>=N$2,$F21<=N$4),N$6,"")) | U21: =IF($E21=0,"",IF(AND($F21>=U$2,$F21<=U$4),U$6,"")) | V21: =IF($E21=0,"",IF(AND($F21>=V$2,$F21<=V$4),V$6,"")) | W21: =IF($E21=0,"",IF(AND($F21>=W$2,$F21<=W$4),W$6,"")) | X21: =IF($E21=0,"",IF(AND($F21>=X$2,$F21<=X$4),X$6,"")) | AA21: =IF($E21=1,"",IF(AND($F21>=AA$2,$F21<=AA$4),AA$6,"")) | AB21: =IF($E21=1,"",IF(AND($F21>=AB$2,$F21<=AB$4),AB$6,"")) | AC21: =IF($E21=1,"",IF(AND($F21>=AC$2,$F21<=AC$4),AC$6,"")) | AD21: =IF($E21=1,"",IF(AND($F21>=AD$2,$F21<=AD$4),AD$6,"")) -> D04 | AE21: =IF($E21=1,"",IF(AND($F21>=AE$2,$F21<=AE$4),AE$6,"")) | AF21: =IF($E21=1,"",IF(AND($F21>=AF$2,$F21<=AF$4),AF$6,"")) | AG21: =IF($E21=1,"",IF(AND($F21>=AG$2,$F21<=AG$4),AG$6,"")) | AH21: =IF($E21=1,"",IF(AND($F21>=AH$2,$F21<=AH$4),AH$6,"")) | ... AL21: =IF($E21=1,"",IF(AND($F21>=AL$2,$F21<=AL$4),AL$6,"")) | AM21: =IF(H21="","",VLOOKUP(H21,popisky,4,0)) -> Přípravka D | AN21: =IF(ISERROR(HLOOKUP(H21,$L$1:$AL$5,5,0)),"",HLOOKUP(H21,$L$1:$AL$5,5,0)) -> 7 | AO21: =IF(H21="","",VLOOKUP(H21,popisky,10,0)) -> 40 | AP21: =IF(H21="","",VLOOKUP(H21,popisky,5,0) & " - " & VLOOKUP(H21,popisky,6,0)) -> 2015 - 2016
A22: =IF(C21="","",MAX($A$7:A21)+1) -> 16 | B22: 17 | C22: Zuhlová | D22: Ivana | E22: 0 | F22: 1985 | G22: Brno-Starý Lískovec | H22: D10 | I22: =IF(AO22="","",AO22 & " m") -> 80 m | J22: =IF(H22="","",VLOOKUP(H22,Kategorie!$A$4:$J$35,8,FALSE)) -> 4 | L22: =IF($E22=0,"",IF(AND($F22>=L$2,$F22<=L$4),L$6,"")) | M22: =IF($E22=0,"",IF(AND($F22>=M$2,$F22<=M$4),M$6,"")) | N22: =IF($E22=0,"",IF(AND($F22>=N$2,$F22<=N$4),N$6,"")) | U22: =IF($E22=0,"",IF(AND($F22>=U$2,$F22<=U$4),U$6,"")) | V22: =IF($E22=0,"",IF(AND($F22>=V$2,$F22<=V$4),V$6,"")) | W22: =IF($E22=0,"",IF(AND($F22>=W$2,$F22<=W$4),W$6,"")) | X22: =IF($E22=0,"",IF(AND($F22>=X$2,$F22<=X$4),X$6,"")) | AA22: =IF($E22=1,"",IF(AND($F22>=AA$2,$F22<=AA$4),AA$6,"")) | AB22: =IF($E22=1,"",IF(AND($F22>=AB$2,$F22<=AB$4),AB$6,"")) | AC22: =IF($E22=1,"",IF(AND($F22>=AC$2,$F22<=AC$4),AC$6,"")) | AD22: =IF($E22=1,"",IF(AND($F22>=AD$2,$F22<=AD$4),AD$6,"")) | AE22: =IF($E22=1,"",IF(AND($F22>=AE$2,$F22<=AE$4),AE$6,"")) | AF22: =IF($E22=1,"",IF(AND($F22>=AF$2,$F22<=AF$4),AF$6,"")) | AG22: =IF($E22=1,"",IF(AND($F22>=AG$2,$F22<=AG$4),AG$6,"")) | AH22: =IF($E22=1,"",IF(AND($F22>=AH$2,$F22<=AH$4),AH$6,"")) | ... AL22: =IF($E22=1,"",IF(AND($F22>=AL$2,$F22<=AL$4),AL$6,"")) | AM22: =IF(H22="","",VLOOKUP(H22,popisky,4,0)) -> Ženy B | AN22: =IF(ISERROR(HLOOKUP(H22,$L$1:$AL$5,5,0)),"",HLOOKUP(H22,$L$1:$AL$5,5,0)) -> 9 | AO22: =IF(H22="","",VLOOKUP(H22,popisky,10,0)) -> 80 | AP22: =IF(H22="","",VLOOKUP(H22,popisky,5,0) & " - " & VLOOKUP(H22,popisky,6,0)) -> 1991 - 1982
A23: =IF(C22="","",MAX($A$7:A22)+1) -> 17 | B23: 18 | C23: Zuhla | D23: Jiří | E23: 1 | F23: 1982 | G23: Brno-Starý Lískovec | H23: C10 | I23: =IF(AO23="","",AO23 & " m") -> 110 m | J23: =IF(H23="","",VLOOKUP(H23,Kategorie!$A$4:$J$35,8,FALSE)) -> 5 | L23: =IF($E23=0,"",IF(AND($F23>=L$2,$F23<=L$4),L$6,"")) | M23: =IF($E23=0,"",IF(AND($F23>=M$2,$F23<=M$4),M$6,"")) | N23: =IF($E23=0,"",IF(AND($F23>=N$2,$F23<=N$4),N$6,"")) | U23: =IF($E23=0,"",IF(AND($F23>=U$2,$F23<=U$4),U$6,"")) -> C10 | V23: =IF($E23=0,"",IF(AND($F23>=V$2,$F23<=V$4),V$6,"")) | W23: =IF($E23=0,"",IF(AND($F23>=W$2,$F23<=W$4),W$6,"")) | X23: =IF($E23=0,"",IF(AND($F23>=X$2,$F23<=X$4),X$6,"")) | AA23: =IF($E23=1,"",IF(AND($F23>=AA$2,$F23<=AA$4),AA$6,"")) | AB23: =IF($E23=1,"",IF(AND($F23>=AB$2,$F23<=AB$4),AB$6,"")) | AC23: =IF($E23=1,"",IF(AND($F23>=AC$2,$F23<=AC$4),AC$6,"")) | AD23: =IF($E23=1,"",IF(AND($F23>=AD$2,$F23<=AD$4),AD$6,"")) | AE23: =IF($E23=1,"",IF(AND($F23>=AE$2,$F23<=AE$4),AE$6,"")) | AF23: =IF($E23=1,"",IF(AND($F23>=AF$2,$F23<=AF$4),AF$6,"")) | AG23: =IF($E23=1,"",IF(AND($F23>=AG$2,$F23<=AG$4),AG$6,"")) | AH23: =IF($E23=1,"",IF(AND($F23>=AH$2,$F23<=AH$4),AH$6,"")) | ... AL23: =IF($E23=1,"",IF(AND($F23>=AL$2,$F23<=AL$4),AL$6,"")) | AM23: =IF(H23="","",VLOOKUP(H23,popisky,4,0)) -> Muži B | AN23: =IF(ISERROR(HLOOKUP(H23,$L$1:$AL$5,5,0)),"",HLOOKUP(H23,$L$1:$AL$5,5,0)) -> 5 | AO23: =IF(H23="","",VLOOKUP(H23,popisky,10,0)) -> 110 | AP23: =IF(H23="","",VLOOKUP(H23,popisky,5,0) & " - " & VLOOKUP(H23,popisky,6,0)) -> 1977 - 1986
A24: =IF(C23="","",MAX($A$7:A23)+1) -> 18 | B24: 19 | C24: Skřička | D24: Stanislav | E24: 1 | F24: 1975 | G24: Brno-Starý Lískovec | H24: C11 | I24: =IF(AO24="","",AO24 & " m") -> 110 m | J24: =IF(H24="","",VLOOKUP(H24,Kategorie!$A$4:$J$35,8,FALSE)) -> 5 | L24: =IF($E24=0,"",IF(AND($F24>=L$2,$F24<=L$4),L$6,"")) | M24: =IF($E24=0,"",IF(AND($F24>=M$2,$F24<=M$4),M$6,"")) | N24: =IF($E24=0,"",IF(AND($F24>=N$2,$F24<=N$4),N$6,"")) | U24: =IF($E24=0,"",IF(AND($F24>=U$2,$F24<=U$4),U$6,"")) | V24: =IF($E24=0,"",IF(AND($F24>=V$2,$F24<=V$4),V$6,"")) -> C11 | W24: =IF($E24=0,"",IF(AND($F24>=W$2,$F24<=W$4),W$6,"")) | X24: =IF($E24=0,"",IF(AND($F24>=X$2,$F24<=X$4),X$6,"")) | AB24: =IF($E24=1,"",IF(AND($F24>=AB$2,$F24<=AB$4),AB$6,"")) | AC24: =IF($E24=1,"",IF(AND($F24>=AC$2,$F24<=AC$4),AC$6,"")) | AD24: =IF($E24=1,"",IF(AND($F24>=AD$2,$F24<=AD$4),AD$6,"")) | AE24: =IF($E24=1,"",IF(AND($F24>=AE$2,$F24<=AE$4),AE$6,"")) | AF24: =IF($E24=1,"",IF(AND($F24>=AF$2,$F24<=AF$4),AF$6,"")) | AG24: =IF($E24=1,"",IF(AND($F24>=AG$2,$F24<=AG$4),AG$6,"")) | AH24: =IF($E24=1,"",IF(AND($F24>=AH$2,$F24<=AH$4),AH$6,"")) | AI24: =IF($E24=1,"",IF(AND($F24>=AI$2,$F24<=AI$4),AI$6,"")) | ... AL24: =IF($E24=1,"",IF(AND($F24>=AL$2,$F24<=AL$4),AL$6,"")) | AM24: =IF(H24="","",VLOOKUP(H24,popisky,4,0)) -> Muži C | AN24: =IF(ISERROR(HLOOKUP(H24,$L$1:$AL$5,5,0)),"",HLOOKUP(H24,$L$1:$AL$5,5,0)) -> 9 | AO24: =IF(H24="","",VLOOKUP(H24,popisky,10,0)) -> 110 | AP24: =IF(H24="","",VLOOKUP(H24,popisky,5,0) & " - " & VLOOKUP(H24,popisky,6,0)) -> 1967 - 1976
A25: =IF(C24="","",MAX($A$7:A24)+1) -> 19 | B25: 20 | C25: Skřička | D25: Jan | E25: 1 | F25: 2010 | G25: Brno-Starý Lískovec | H25: C07 | I25: =IF(AO25="","",AO25 & " m") -> 80 m | J25: =IF(H25="","",VLOOKUP(H25,Kategorie!$A$4:$J$35,8,FALSE)) -> 4 | L25: =IF($E25=0,"",IF(AND($F25>=L$2,$F25<=L$4),L$6,"")) | M25: =IF($E25=0,"",IF(AND($F25>=M$2,$F25<=M$4),M$6,"")) | N25: =IF($E25=0,"",IF(AND($F25>=N$2,$F25<=N$4),N$6,"")) | U25: =IF($E25=0,"",IF(AND($F25>=U$2,$F25<=U$4),U$6,"")) | V25: =IF($E25=0,"",IF(AND($F25>=V$2,$F25<=V$4),V$6,"")) | W25: =IF($E25=0,"",IF(AND($F25>=W$2,$F25<=W$4),W$6,"")) | X25: =IF($E25=0,"",IF(AND($F25>=X$2,$F25<=X$4),X$6,"")) | AA25: =IF($E25=1,"",IF(AND($F25>=AA$2,$F25<=AA$4),AA$6,"")) | AB25: =IF($E25=1,"",IF(AND($F25>=AB$2,$F25<=AB$4),AB$6,"")) | AC25: =IF($E25=1,"",IF(AND($F25>=AC$2,$F25<=AC$4),AC$6,"")) | AD25: =IF($E25=1,"",IF(AND($F25>=AD$2,$F25<=AD$4),AD$6,"")) | AE25: =IF($E25=1,"",IF(AND($F25>=AE$2,$F25<=AE$4),AE$6,"")) | AF25: =IF($E25=1,"",IF(AND($F25>=AF$2,$F25<=AF$4),AF$6,"")) | AG25: =IF($E25=1,"",IF(AND($F25>=AG$2,$F25<=AG$4),AG$6,"")) | AH25: =IF($E25=1,"",IF(AND($F25>=AH$2,$F25<=AH$4),AH$6,"")) | ... AL25: =IF($E25=1,"",IF(AND($F25>=AL$2,$F25<=AL$4),AL$6,"")) | AM25: =IF(H25="","",VLOOKUP(H25,popisky,4,0)) -> Dorostenci | AN25: =IF(ISERROR(HLOOKUP(H25,$L$1:$AL$5,5,0)),"",HLOOKUP(H25,$L$1:$AL$5,5,0)) -> 8 | AO25: =IF(H25="","",VLOOKUP(H25,popisky,10,0)) -> 80 | AP25: =IF(H25="","",VLOOKUP(H25,popisky,5,0) & " - " & VLOOKUP(H25,popisky,6,0)) -> 2009 - 2010
A26: =IF(C25="","",MAX($A$7:A25)+1) -> 20 | B26: 21 | C26: Skřička | D26: Matěj | E26: 1 | F26: 2012 | G26: Brno-Starý Lískovec | H26: C06 | I26: =IF(AO26="","",AO26 & " m") -> 60 m | J26: =IF(H26="","",VLOOKUP(H26,Kategorie!$A$4:$J$35,8,FALSE)) -> 3 | L26: =IF($E26=0,"",IF(AND($F26>=L$2,$F26<=L$4),L$6,"")) | M26: =IF($E26=0,"",IF(AND($F26>=M$2,$F26<=M$4),M$6,"")) | N26: =IF($E26=0,"",IF(AND($F26>=N$2,$F26<=N$4),N$6,"")) | U26: =IF($E26=0,"",IF(AND($F26>=U$2,$F26<=U$4),U$6,"")) | V26: =IF($E26=0,"",IF(AND($F26>=V$2,$F26<=V$4),V$6,"")) | W26: =IF($E26=0,"",IF(AND($F26>=W$2,$F26<=W$4),W$6,"")) | X26: =IF($E26=0,"",IF(AND($F26>=X$2,$F26<=X$4),X$6,"")) | AA26: =IF($E26=1,"",IF(AND($F26>=AA$2,$F26<=AA$4),AA$6,"")) | AB26: =IF($E26=1,"",IF(AND($F26>=AB$2,$F26<=AB$4),AB$6,"")) | AC26: =IF($E26=1,"",IF(AND($F26>=AC$2,$F26<=AC$4),AC$6,"")) | AD26: =IF($E26=1,"",IF(AND($F26>=AD$2,$F26<=AD$4),AD$6,"")) | AE26: =IF($E26=1,"",IF(AND($F26>=AE$2,$F26<=AE$4),AE$6,"")) | AF26: =IF($E26=1,"",IF(AND($F26>=AF$2,$F26<=AF$4),AF$6,"")) | AG26: =IF($E26=1,"",IF(AND($F26>=AG$2,$F26<=AG$4),AG$6,"")) | AH26: =IF($E26=1,"",IF(AND($F26>=AH$2,$F26<=AH$4),AH$6,"")) | ... AL26: =IF($E26=1,"",IF(AND($F26>=AL$2,$F26<=AL$4),AL$6,"")) | AM26: =IF(H26="","",VLOOKUP(H26,popisky,4,0)) -> Starší žáci | AN26: =IF(ISERROR(HLOOKUP(H26,$L$1:$AL$5,5,0)),"",HLOOKUP(H26,$L$1:$AL$5,5,0)) -> 3 | AO26: =IF(H26="","",VLOOKUP(H26,popisky,10,0)) -> 60 | AP26: =IF(H26="","",VLOOKUP(H26,popisky,5,0) & " - " & VLOOKUP(H26,popisky,6,0)) -> 2011 - 2012
A27: =IF(C26="","",MAX($A$7:A26)+1) -> 21 | B27: 22 | C27: Truhlář | D27: Karel | E27: 1 | F27: 2018 | G27: Brno-Starý Lískovec | H27: C03 | I27: =IF(AO27="","",AO27 & " m") -> 40 m | J27: =IF(H27="","",VLOOKUP(H27,Kategorie!$A$4:$J$35,8,FALSE)) -> 2 | L27: =IF($E27=0,"",IF(AND($F27>=L$2,$F27<=L$4),L$6,"")) | M27: =IF($E27=0,"",IF(AND($F27>=M$2,$F27<=M$4),M$6,"")) | N27: =IF($E27=0,"",IF(AND($F27>=N$2,$F27<=N$4),N$6,"")) -> C03 | U27: =IF($E27=0,"",IF(AND($F27>=U$2,$F27<=U$4),U$6,"")) | V27: =IF($E27=0,"",IF(AND($F27>=V$2,$F27<=V$4),V$6,"")) | W27: =IF($E27=0,"",IF(AND($F27>=W$2,$F27<=W$4),W$6,"")) | X27: =IF($E27=0,"",IF(AND($F27>=X$2,$F27<=X$4),X$6,"")) | AA27: =IF($E27=1,"",IF(AND($F27>=AA$2,$F27<=AA$4),AA$6,"")) | AB27: =IF($E27=1,"",IF(AND($F27>=AB$2,$F27<=AB$4),AB$6,"")) | AC27: =IF($E27=1,"",IF(AND($F27>=AC$2,$F27<=AC$4),AC$6,"")) | AD27: =IF($E27=1,"",IF(AND($F27>=AD$2,$F27<=AD$4),AD$6,"")) | AE27: =IF($E27=1,"",IF(AND($F27>=AE$2,$F27<=AE$4),AE$6,"")) | AF27: =IF($E27=1,"",IF(AND($F27>=AF$2,$F27<=AF$4),AF$6,"")) | AG27: =IF($E27=1,"",IF(AND($F27>=AG$2,$F27<=AG$4),AG$6,"")) | AH27: =IF($E27=1,"",IF(AND($F27>=AH$2,$F27<=AH$4),AH$6,"")) | ... AL27: =IF($E27=1,"",IF(AND($F27>=AL$2,$F27<=AL$4),AL$6,"")) | AM27: =IF(H27="","",VLOOKUP(H27,popisky,4,0)) -> Minipřípravka H | AN27: =IF(ISERROR(HLOOKUP(H27,$L$1:$AL$5,5,0)),"",HLOOKUP(H27,$L$1:$AL$5,5,0)) -> 5 | AO27: =IF(H27="","",VLOOKUP(H27,popisky,10,0)) -> 40 | AP27: =IF(H27="","",VLOOKUP(H27,popisky,5,0) & " - " & VLOOKUP(H27,popisky,6,0)) -> 2017 - 2018
A28: =IF(C27="","",MAX($A$7:A27)+1) -> 22 | B28: 23 | C28: Bartoň | D28: Jaroslav | E28: 1 | F28: 2011 | G28: Brno-Starý Lískovec | H28: C06 | I28: 80 | J28: =IF(H28="","",VLOOKUP(H28,Kategorie!$A$4:$J$35,8,FALSE)) -> 3 | L28: =IF($E28=0,"",IF(AND($F28>=L$2,$F28<=L$4),L$6,"")) | M28: =IF($E28=0,"",IF(AND($F28>=M$2,$F28<=M$4),M$6,"")) | N28: =IF($E28=0,"",IF(AND($F28>=N$2,$F28<=N$4),N$6,"")) | T28: =IF($E28=0,"",IF(AND($F28>=T$2,$F28<=T$4),T$6,"")) | U28: =IF($E28=0,"",IF(AND($F28>=U$2,$F28<=U$4),U$6,"")) | V28: =IF($E28=0,"",IF(AND($F28>=V$2,$F28<=V$4),V$6,"")) | W28: =IF($E28=0,"",IF(AND($F28>=W$2,$F28<=W$4),W$6,"")) | X28: =IF($E28=0,"",IF(AND($F28>=X$2,$F28<=X$4),X$6,"")) | AA28: =IF($E28=1,"",IF(AND($F28>=AA$2,$F28<=AA$4),AA$6,"")) | AB28: =IF($E28=1,"",IF(AND($F28>=AB$2,$F28<=AB$4),AB$6,"")) | AC28: =IF($E28=1,"",IF(AND($F28>=AC$2,$F28<=AC$4),AC$6,"")) | AD28: =IF($E28=1,"",IF(AND($F28>=AD$2,$F28<=AD$4),AD$6,"")) | AE28: =IF($E28=1,"",IF(AND($F28>=AE$2,$F28<=AE$4),AE$6,"")) | AF28: =IF($E28=1,"",IF(AND($F28>=AF$2,$F28<=AF$4),AF$6,"")) | AG28: =IF($E28=1,"",IF(AND($F28>=AG$2,$F28<=AG$4),AG$6,"")) | AH28: =IF($E28=1,"",IF(AND($F28>=AH$2,$F28<=AH$4),AH$6,"")) | ... AL28: =IF($E28=1,"",IF(AND($F28>=AL$2,$F28<=AL$4),AL$6,"")) | AM28: =IF(H28="","",VLOOKUP(H28,popisky,4,0)) -> Starší žáci | AN28: =IF(ISERROR(HLOOKUP(H28,$L$1:$AL$5,5,0)),"",HLOOKUP(H28,$L$1:$AL$5,5,0)) -> 3 | AO28: =IF(H28="","",VLOOKUP(H28,popisky,10,0)) -> 60 | AP28: =IF(H28="","",VLOOKUP(H28,popisky,5,0) & " - " & VLOOKUP(H28,popisky,6,0)) -> 2011 - 2012
A29: =IF(C28="","",MAX($A$7:A28)+1) -> 23 | B29: 24 | C29: Bartoň | D29: Petr | E29: 1 | F29: 2017 | G29: Brno-Starý Lískovec | H29: C03 | I29: =IF(AO29="","",AO29 & " m") -> 40 m | J29: =IF(H29="","",VLOOKUP(H29,Kategorie!$A$4:$J$35,8,FALSE)) -> 2 | L29: =IF($E29=0,"",IF(AND($F29>=L$2,$F29<=L$4),L$6,"")) | M29: =IF($E29=0,"",IF(AND($F29>=M$2,$F29<=M$4),M$6,"")) | N29: =IF($E29=0,"",IF(AND($F29>=N$2,$F29<=N$4),N$6,"")) -> C03 | O29: =IF($E29=0,"",IF(AND($F29>=O$2,$F29<=O$4),O$6,"")) | P29: =IF($E29=0,"",IF(AND($F29>=P$2,$F29<=P$4),P$6,"")) | Q29: =IF($E29=0,"",IF(AND($F29>=Q$2,$F29<=Q$4),Q$6,"")) | R29: =IF($E29=0,"",IF(AND($F29>=R$2,$F29<=R$4),R$6,"")) | S29: =IF($E29=0,"",IF(AND($F29>=S$2,$F29<=S$4),S$6,"")) | ... X29: =IF($E29=0,"",IF(AND($F29>=X$2,$F29<=X$4),X$6,"")) | AA29: =IF($E29=1,"",IF(AND($F29>=AA$2,$F29<=AA$4),AA$6,"")) | AB29: =IF($E29=1,"",IF(AND($F29>=AB$2,$F29<=AB$4),AB$6,"")) | AC29: =IF($E29=1,"",IF(AND($F29>=AC$2,$F29<=AC$4),AC$6,"")) | AD29: =IF($E29=1,"",IF(AND($F29>=AD$2,$F29<=AD$4),AD$6,"")) | AE29: =IF($E29=1,"",IF(AND($F29>=AE$2,$F29<=AE$4),AE$6,"")) | AF29: =IF($E29=1,"",IF(AND($F29>=AF$2,$F29<=AF$4),AF$6,"")) | AG29: =IF($E29=1,"",IF(AND($F29>=AG$2,$F29<=AG$4),AG$6,"")) | AH29: =IF($E29=1,"",IF(AND($F29>=AH$2,$F29<=AH$4),AH$6,"")) | ... AL29: =IF($E29=1,"",IF(AND($F29>=AL$2,$F29<=AL$4),AL$6,"")) | AM29: =IF(H29="","",VLOOKUP(H29,popisky,4,0)) -> Minipřípravka H | AN29: =IF(ISERROR(HLOOKUP(H29,$L$1:$AL$5,5,0)),"",HLOOKUP(H29,$L$1:$AL$5,5,0)) -> 5 | AO29: =IF(H29="","",VLOOKUP(H29,popisky,10,0)) -> 40 | AP29: =IF(H29="","",VLOOKUP(H29,popisky,5,0) & " - " & VLOOKUP(H29,popisky,6,0)) -> 2017 - 2018
A30: =IF(C29="","",MAX($A$7:A29)+1) -> 24 | B30: 25 | C30: Doležalová | D30: Lucie | E30: 0 | F30: 2013 | G30: Vyškov | H30: D05 | I30: =IF(AO30="","",AO30 & " m") -> 60 m | J30: =IF(H30="","",VLOOKUP(H30,Kategorie!$A$4:$J$35,8,FALSE)) -> 3 | L30: =IF($E30=0,"",IF(AND($F30>=L$2,$F30<=L$4),L$6,"")) | M30: =IF($E30=0,"",IF(AND($F30>=M$2,$F30<=M$4),M$6,"")) | N30: =IF($E30=0,"",IF(AND($F30>=N$2,$F30<=N$4),N$6,"")) | O30: =IF($E30=0,"",IF(AND($F30>=O$2,$F30<=O$4),O$6,"")) | P30: =IF($E30=0,"",IF(AND($F30>=P$2,$F30<=P$4),P$6,"")) | Q30: =IF($E30=0,"",IF(AND($F30>=Q$2,$F30<=Q$4),Q$6,"")) | R30: =IF($E30=0,"",IF(AND($F30>=R$2,$F30<=R$4),R$6,"")) | S30: =IF($E30=0,"",IF(AND($F30>=S$2,$F30<=S$4),S$6,"")) | ... X30: =IF($E30=0,"",IF(AND($F30>=X$2,$F30<=X$4),X$6,"")) | AA30: =IF($E30=1,"",IF(AND($F30>=AA$2,$F30<=AA$4),AA$6,"")) | AB30: =IF($E30=1,"",IF(AND($F30>=AB$2,$F30<=AB$4),AB$6,"")) | AC30: =IF($E30=1,"",IF(AND($F30>=AC$2,$F30<=AC$4),AC$6,"")) | AD30: =IF($E30=1,"",IF(AND($F30>=AD$2,$F30<=AD$4),AD$6,"")) | AE30: =IF($E30=1,"",IF(AND($F30>=AE$2,$F30<=AE$4),AE$6,"")) -> D05 | AF30: =IF($E30=1,"",IF(AND($F30>=AF$2,$F30<=AF$4),AF$6,"")) | AG30: =IF($E30=1,"",IF(AND($F30>=AG$2,$F30<=AG$4),AG$6,"")) | AH30: =IF($E30=1,"",IF(AND($F30>=AH$2,$F30<=AH$4),AH$6,"")) | ... AL30: =IF($E30=1,"",IF(AND($F30>=AL$2,$F30<=AL$4),AL$6,"")) | AM30: =IF(H30="","",VLOOKUP(H30,popisky,4,0)) -> Mladší žákyně | AN30: =IF(ISERROR(HLOOKUP(H30,$L$1:$AL$5,5,0)),"",HLOOKUP(H30,$L$1:$AL$5,5,0)) -> 2 | AO30: =IF(H30="","",VLOOKUP(H30,popisky,10,0)) -> 60 | AP30: =IF(H30="","",VLOOKUP(H30,popisky,5,0) & " - " & VLOOKUP(H30,popisky,6,0)) -> 2013 - 2014
A31: =IF(C30="","",MAX($A$7:A30)+1) -> 25 | B31: 26 | C31: Doležal | D31: Adam | E31: 1 | F31: 2010 | G31: Vyškov | H31: C07 | I31: =IF(AO31="","",AO31 & " m") -> 80 m | J31: =IF(H31="","",VLOOKUP(H31,Kategorie!$A$4:$J$35,8,FALSE)) -> 4 | L31: =IF($E31=0,"",IF(AND($F31>=L$2,$F31<=L$4),L$6,"")) | M31: =IF($E31=0,"",IF(AND($F31>=M$2,$F31<=M$4),M$6,"")) | N31: =IF($E31=0,"",IF(AND($F31>=N$2,$F31<=N$4),N$6,"")) | O31: =IF($E31=0,"",IF(AND($F31>=O$2,$F31<=O$4),O$6,"")) | P31: =IF($E31=0,"",IF(AND($F31>=P$2,$F31<=P$4),P$6,"")) | Q31: =IF($E31=0,"",IF(AND($F31>=Q$2,$F31<=Q$4),Q$6,"")) | R31: =IF($E31=0,"",IF(AND($F31>=R$2,$F31<=R$4),R$6,"")) -> C07 | S31: =IF($E31=0,"",IF(AND($F31>=S$2,$F31<=S$4),S$6,"")) | ... X31: =IF($E31=0,"",IF(AND($F31>=X$2,$F31<=X$4),X$6,"")) | AA31: =IF($E31=1,"",IF(AND($F31>=AA$2,$F31<=AA$4),AA$6,"")) | AB31: =IF($E31=1,"",IF(AND($F31>=AB$2,$F31<=AB$4),AB$6,"")) | AC31: =IF($E31=1,"",IF(AND($F31>=AC$2,$F31<=AC$4),AC$6,"")) | AD31: =IF($E31=1,"",IF(AND($F31>=AD$2,$F31<=AD$4),AD$6,"")) | AE31: =IF($E31=1,"",IF(AND($F31>=AE$2,$F31<=AE$4),AE$6,"")) | AF31: =IF($E31=1,"",IF(AND($F31>=AF$2,$F31<=AF$4),AF$6,"")) | AG31: =IF($E31=1,"",IF(AND($F31>=AG$2,$F31<=AG$4),AG$6,"")) | AH31: =IF($E31=1,"",IF(AND($F31>=AH$2,$F31<=AH$4),AH$6,"")) | ... AL31: =IF($E31=1,"",IF(AND($F31>=AL$2,$F31<=AL$4),AL$6,"")) | AM31: =IF(H31="","",VLOOKUP(H31,popisky,4,0)) -> Dorostenci | AN31: =IF(ISERROR(HLOOKUP(H31,$L$1:$AL$5,5,0)),"",HLOOKUP(H31,$L$1:$AL$5,5,0)) -> 8 | AO31: =IF(H31="","",VLOOKUP(H31,popisky,10,0)) -> 80 | AP31: =IF(H31="","",VLOOKUP(H31,popisky,5,0) & " - " & VLOOKUP(H31,popisky,6,0)) -> 2009 - 2010
A32: =IF(C31="","",MAX($A$7:A31)+1) -> 26 | B32: 27 | C32: Doležalová | D32: Vladimíra | E32: 0 | F32: 1974 | G32: Vyškov | H32: D11 | I32: =IF(AO32="","",AO32 & " m") -> 80 m | J32: =IF(H32="","",VLOOKUP(H32,Kategorie!$A$4:$J$35,8,FALSE)) -> 4 | L32: =IF($E32=0,"",IF(AND($F32>=L$2,$F32<=L$4),L$6,"")) | M32: =IF($E32=0,"",IF(AND($F32>=M$2,$F32<=M$4),M$6,"")) | N32: =IF($E32=0,"",IF(AND($F32>=N$2,$F32<=N$4),N$6,"")) | O32: =IF($E32=0,"",IF(AND($F32>=O$2,$F32<=O$4),O$6,"")) | P32: =IF($E32=0,"",IF(AND($F32>=P$2,$F32<=P$4),P$6,"")) | Q32: =IF($E32=0,"",IF(AND($F32>=Q$2,$F32<=Q$4),Q$6,"")) | R32: =IF($E32=0,"",IF(AND($F32>=R$2,$F32<=R$4),R$6,"")) | S32: =IF($E32=0,"",IF(AND($F32>=S$2,$F32<=S$4),S$6,"")) | ... X32: =IF($E32=0,"",IF(AND($F32>=X$2,$F32<=X$4),X$6,"")) | AA32: =IF($E32=1,"",IF(AND($F32>=AA$2,$F32<=AA$4),AA$6,"")) | AB32: =IF($E32=1,"",IF(AND($F32>=AB$2,$F32<=AB$4),AB$6,"")) | AC32: =IF($E32=1,"",IF(AND($F32>=AC$2,$F32<=AC$4),AC$6,"")) | AD32: =IF($E32=1,"",IF(AND($F32>=AD$2,$F32<=AD$4),AD$6,"")) | AE32: =IF($E32=1,"",IF(AND($F32>=AE$2,$F32<=AE$4),AE$6,"")) | AF32: =IF($E32=1,"",IF(AND($F32>=AF$2,$F32<=AF$4),AF$6,"")) | AG32: =IF($E32=1,"",IF(AND($F32>=AG$2,$F32<=AG$4),AG$6,"")) | AH32: =IF($E32=1,"",IF(AND($F32>=AH$2,$F32<=AH$4),AH$6,"")) | ... AL32: =IF($E32=1,"",IF(AND($F32>=AL$2,$F32<=AL$4),AL$6,"")) | AM32: =IF(H32="","",VLOOKUP(H32,popisky,4,0)) -> Ženy C | AN32: =IF(ISERROR(HLOOKUP(H32,$L$1:$AL$5,5,0)),"",HLOOKUP(H32,$L$1:$AL$5,5,0)) -> 9 | AO32: =IF(H32="","",VLOOKUP(H32,popisky,10,0)) -> 80 | AP32: =IF(H32="","",VLOOKUP(H32,popisky,5,0) & " - " & VLOOKUP(H32,popisky,6,0)) -> 1981 - 1972
A33: =IF(C32="","",MAX($A$7:A32)+1) -> 27 | B33: 28 | C33: Luža | D33: Tomáš | E33: 1 | F33: 1974 | G33: Žatčany | H33: C11 | I33: =IF(AO33="","",AO33 & " m") -> 110 m | J33: =IF(H33="","",VLOOKUP(H33,Kategorie!$A$4:$J$35,8,FALSE)) -> 5 | L33: =IF($E33=0,"",IF(AND($F33>=L$2,$F33<=L$4),L$6,"")) | M33: =IF($E33=0,"",IF(AND($F33>=M$2,$F33<=M$4),M$6,"")) | N33: =IF($E33=0,"",IF(AND($F33>=N$2,$F33<=N$4),N$6,"")) | O33: =IF($E33=0,"",IF(AND($F33>=O$2,$F33<=O$4),O$6,"")) | P33: =IF($E33=0,"",IF(AND($F33>=P$2,$F33<=P$4),P$6,"")) | Q33: =IF($E33=0,"",IF(AND($F33>=Q$2,$F33<=Q$4),Q$6,"")) | R33: =IF($E33=0,"",IF(AND($F33>=R$2,$F33<=R$4),R$6,"")) | S33: =IF($E33=0,"",IF(AND($F33>=S$2,$F33<=S$4),S$6,"")) | ... X33: =IF($E33=0,"",IF(AND($F33>=X$2,$F33<=X$4),X$6,"")) | AA33: =IF($E33=1,"",IF(AND($F33>=AA$2,$F33<=AA$4),AA$6,"")) | AB33: =IF($E33=1,"",IF(AND($F33>=AB$2,$F33<=AB$4),AB$6,"")) | AC33: =IF($E33=1,"",IF(AND($F33>=AC$2,$F33<=AC$4),AC$6,"")) | AD33: =IF($E33=1,"",IF(AND($F33>=AD$2,$F33<=AD$4),AD$6,"")) | AE33: =IF($E33=1,"",IF(AND($F33>=AE$2,$F33<=AE$4),AE$6,"")) | AF33: =IF($E33=1,"",IF(AND($F33>=AF$2,$F33<=AF$4),AF$6,"")) | AG33: =IF($E33=1,"",IF(AND($F33>=AG$2,$F33<=AG$4),AG$6,"")) | AH33: =IF($E33=1,"",IF(AND($F33>=AH$2,$F33<=AH$4),AH$6,"")) | ... AL33: =IF($E33=1,"",IF(AND($F33>=AL$2,$F33<=AL$4),AL$6,"")) | AM33: =IF(H33="","",VLOOKUP(H33,popisky,4,0)) -> Muži C | AN33: =IF(ISERROR(HLOOKUP(H33,$L$1:$AL$5,5,0)),"",HLOOKUP(H33,$L$1:$AL$5,5,0)) -> 9 | AO33: =IF(H33="","",VLOOKUP(H33,popisky,10,0)) -> 110 | AP33: =IF(H33="","",VLOOKUP(H33,popisky,5,0) & " - " & VLOOKUP(H33,popisky,6,0)) -> 1967 - 1976
A34: =IF(C33="","",MAX($A$7:A33)+1) -> 28 | B34: 29 | C34: Machů | D34: Bohdana | E34: 0 | F34: 2017 | G34: Újezd u Val. Klobouk | H34: D03 | I34: =IF(AO34="","",AO34 & " m") -> 40 m | J34: =IF(H34="","",VLOOKUP(H34,Kategorie!$A$4:$J$35,8,FALSE)) -> 2 | L34: =IF($E34=0,"",IF(AND($F34>=L$2,$F34<=L$4),L$6,"")) | M34: =IF($E34=0,"",IF(AND($F34>=M$2,$F34<=M$4),M$6,"")) | N34: =IF($E34=0,"",IF(AND($F34>=N$2,$F34<=N$4),N$6,"")) | O34: =IF($E34=0,"",IF(AND($F34>=O$2,$F34<=O$4),O$6,"")) | P34: =IF($E34=0,"",IF(AND($F34>=P$2,$F34<=P$4),P$6,"")) | Q34: =IF($E34=0,"",IF(AND($F34>=Q$2,$F34<=Q$4),Q$6,"")) | R34: =IF($E34=0,"",IF(AND($F34>=R$2,$F34<=R$4),R$6,"")) | S34: =IF($E34=0,"",IF(AND($F34>=S$2,$F34<=S$4),S$6,"")) | ... X34: =IF($E34=0,"",IF(AND($F34>=X$2,$F34<=X$4),X$6,"")) | AA34: =IF($E34=1,"",IF(AND($F34>=AA$2,$F34<=AA$4),AA$6,"")) | AB34: =IF($E34=1,"",IF(AND($F34>=AB$2,$F34<=AB$4),AB$6,"")) | AC34: =IF($E34=1,"",IF(AND($F34>=AC$2,$F34<=AC$4),AC$6,"")) -> D03 | AD34: =IF($E34=1,"",IF(AND($F34>=AD$2,$F34<=AD$4),AD$6,"")) | AE34: =IF($E34=1,"",IF(AND($F34>=AE$2,$F34<=AE$4),AE$6,"")) | AF34: =IF($E34=1,"",IF(AND($F34>=AF$2,$F34<=AF$4),AF$6,"")) | AG34: =IF($E34=1,"",IF(AND($F34>=AG$2,$F34<=AG$4),AG$6,"")) | AH34: =IF($E34=1,"",IF(AND($F34>=AH$2,$F34<=AH$4),AH$6,"")) | ... AL34: =IF($E34=1,"",IF(AND($F34>=AL$2,$F34<=AL$4),AL$6,"")) | AM34: =IF(H34="","",VLOOKUP(H34,popisky,4,0)) -> Minipřípravka D | AN34: =IF(ISERROR(HLOOKUP(H34,$L$1:$AL$5,5,0)),"",HLOOKUP(H34,$L$1:$AL$5,5,0)) -> 6 | AO34: =IF(H34="","",VLOOKUP(H34,popisky,10,0)) -> 40 | AP34: =IF(H34="","",VLOOKUP(H34,popisky,5,0) & " - " & VLOOKUP(H34,popisky,6,0)) -> 2017 - 2018
A35: =IF(C34="","",MAX($A$7:A34)+1) -> 29 | B35: 30 | C35: Stodůlková | D35: Martina | E35: 0 | F35: 2023 | G35: Brno-Obřany | H35: D01 | I35: =IF(AO35="","",AO35 & " m") -> 20 m | J35: =IF(H35="","",VLOOKUP(H35,Kategorie!$A$4:$J$35,8,FALSE)) -> 1 | L35: =IF($E35=0,"",IF(AND($F35>=L$2,$F35<=L$4),L$6,"")) | M35: =IF($E35=0,"",IF(AND($F35>=M$2,$F35<=M$4),M$6,"")) | N35: =IF($E35=0,"",IF(AND($F35>=N$2,$F35<=N$4),N$6,"")) | O35: =IF($E35=0,"",IF(AND($F35>=O$2,$F35<=O$4),O$6,"")) | P35: =IF($E35=0,"",IF(AND($F35>=P$2,$F35<=P$4),P$6,"")) | Q35: =IF($E35=0,"",IF(AND($F35>=Q$2,$F35<=Q$4),Q$6,"")) | R35: =IF($E35=0,"",IF(AND($F35>=R$2,$F35<=R$4),R$6,"")) | S35: =IF($E35=0,"",IF(AND($F35>=S$2,$F35<=S$4),S$6,"")) | ... X35: =IF($E35=0,"",IF(AND($F35>=X$2,$F35<=X$4),X$6,"")) | AA35: =IF($E35=1,"",IF(AND($F35>=AA$2,$F35<=AA$4),AA$6,"")) -> D01 | AB35: =IF($E35=1,"",IF(AND($F35>=AB$2,$F35<=AB$4),AB$6,"")) | AC35: =IF($E35=1,"",IF(AND($F35>=AC$2,$F35<=AC$4),AC$6,"")) | AD35: =IF($E35=1,"",IF(AND($F35>=AD$2,$F35<=AD$4),AD$6,"")) | AE35: =IF($E35=1,"",IF(AND($F35>=AE$2,$F35<=AE$4),AE$6,"")) | AF35: =IF($E35=1,"",IF(AND($F35>=AF$2,$F35<=AF$4),AF$6,"")) | AG35: =IF($E35=1,"",IF(AND($F35>=AG$2,$F35<=AG$4),AG$6,"")) | AH35: =IF($E35=1,"",IF(AND($F35>=AH$2,$F35<=AH$4),AH$6,"")) | ... AL35: =IF($E35=1,"",IF(AND($F35>=AL$2,$F35<=AL$4),AL$6,"")) | AM35: =IF(H35="","",VLOOKUP(H35,popisky,4,0)) -> Benjamínci D | AN35: =IF(ISERROR(HLOOKUP(H35,$L$1:$AL$5,5,0)),"",HLOOKUP(H35,$L$1:$AL$5,5,0)) -> 15 | AO35: =IF(H35="","",VLOOKUP(H35,popisky,10,0)) -> 20 | AP35: =IF(H35="","",VLOOKUP(H35,popisky,5,0) & " - " & VLOOKUP(H35,popisky,6,0)) -> 2021 - a mladší
A36: =IF(C35="","",MAX($A$7:A35)+1) -> 30 | B36: 31 | C36: Stodůlka | D36: Adam | E36: 1 | F36: 2018 | G36: Brno-Obřany | H36: C03 | I36: =IF(AO36="","",AO36 & " m") -> 40 m | J36: =IF(H36="","",VLOOKUP(H36,Kategorie!$A$4:$J$35,8,FALSE)) -> 2 | L36: =IF($E36=0,"",IF(AND($F36>=L$2,$F36<=L$4),L$6,"")) | M36: =IF($E36=0,"",IF(AND($F36>=M$2,$F36<=M$4),M$6,"")) | N36: =IF($E36=0,"",IF(AND($F36>=N$2,$F36<=N$4),N$6,"")) -> C03 | O36: =IF($E36=0,"",IF(AND($F36>=O$2,$F36<=O$4),O$6,"")) | P36: =IF($E36=0,"",IF(AND($F36>=P$2,$F36<=P$4),P$6,"")) | Q36: =IF($E36=0,"",IF(AND($F36>=Q$2,$F36<=Q$4),Q$6,"")) | R36: =IF($E36=0,"",IF(AND($F36>=R$2,$F36<=R$4),R$6,"")) | S36: =IF($E36=0,"",IF(AND($F36>=S$2,$F36<=S$4),S$6,"")) | ... X36: =IF($E36=0,"",IF(AND($F36>=X$2,$F36<=X$4),X$6,"")) | AA36: =IF($E36=1,"",IF(AND($F36>=AA$2,$F36<=AA$4),AA$6,"")) | AB36: =IF($E36=1,"",IF(AND($F36>=AB$2,$F36<=AB$4),AB$6,"")) | AC36: =IF($E36=1,"",IF(AND($F36>=AC$2,$F36<=AC$4),AC$6,"")) | AD36: =IF($E36=1,"",IF(AND($F36>=AD$2,$F36<=AD$4),AD$6,"")) | AE36: =IF($E36=1,"",IF(AND($F36>=AE$2,$F36<=AE$4),AE$6,"")) | AF36: =IF($E36=1,"",IF(AND($F36>=AF$2,$F36<=AF$4),AF$6,"")) | AG36: =IF($E36=1,"",IF(AND($F36>=AG$2,$F36<=AG$4),AG$6,"")) | AH36: =IF($E36=1,"",IF(AND($F36>=AH$2,$F36<=AH$4),AH$6,"")) | ... AL36: =IF($E36=1,"",IF(AND($F36>=AL$2,$F36<=AL$4),AL$6,"")) | AM36: =IF(H36="","",VLOOKUP(H36,popisky,4,0)) -> Minipřípravka H | AN36: =IF(ISERROR(HLOOKUP(H36,$L$1:$AL$5,5,0)),"",HLOOKUP(H36,$L$1:$AL$5,5,0)) -> 5 | AO36: =IF(H36="","",VLOOKUP(H36,popisky,10,0)) -> 40 | AP36: =IF(H36="","",VLOOKUP(H36,popisky,5,0) & " - " & VLOOKUP(H36,popisky,6,0)) -> 2017 - 2018
A37: =IF(C36="","",MAX($A$7:A36)+1) -> 31 | B37: 32 | C37: Stojanová | D37: Veronika | E37: 0 | F37: 2016 | G37: Brno-Obřany | H37: D04 | I37: =IF(AO37="","",AO37 & " m") -> 40 m | J37: =IF(H37="","",VLOOKUP(H37,Kategorie!$A$4:$J$35,8,FALSE)) -> 2 | L37: =IF($E37=0,"",IF(AND($F37>=L$2,$F37<=L$4),L$6,"")) | M37: =IF($E37=0,"",IF(AND($F37>=M$2,$F37<=M$4),M$6,"")) | N37: =IF($E37=0,"",IF(AND($F37>=N$2,$F37<=N$4),N$6,"")) | O37: =IF($E37=0,"",IF(AND($F37>=O$2,$F37<=O$4),O$6,"")) | P37: =IF($E37=0,"",IF(AND($F37>=P$2,$F37<=P$4),P$6,"")) | Q37: =IF($E37=0,"",IF(AND($F37>=Q$2,$F37<=Q$4),Q$6,"")) | R37: =IF($E37=0,"",IF(AND($F37>=R$2,$F37<=R$4),R$6,"")) | S37: =IF($E37=0,"",IF(AND($F37>=S$2,$F37<=S$4),S$6,"")) | ... X37: =IF($E37=0,"",IF(AND($F37>=X$2,$F37<=X$4),X$6,"")) | AA37: =IF($E37=1,"",IF(AND($F37>=AA$2,$F37<=AA$4),AA$6,"")) | AB37: =IF($E37=1,"",IF(AND($F37>=AB$2,$F37<=AB$4),AB$6,"")) | AC37: =IF($E37=1,"",IF(AND($F37>=AC$2,$F37<=AC$4),AC$6,"")) | AD37: =IF($E37=1,"",IF(AND($F37>=AD$2,$F37<=AD$4),AD$6,"")) -> D04 | AE37: =IF($E37=1,"",IF(AND($F37>=AE$2,$F37<=AE$4),AE$6,"")) | AF37: =IF($E37=1,"",IF(AND($F37>=AF$2,$F37<=AF$4),AF$6,"")) | AG37: =IF($E37=1,"",IF(AND($F37>=AG$2,$F37<=AG$4),AG$6,"")) | AH37: =IF($E37=1,"",IF(AND($F37>=AH$2,$F37<=AH$4),AH$6,"")) | ... AL37: =IF($E37=1,"",IF(AND($F37>=AL$2,$F37<=AL$4),AL$6,"")) | AM37: =IF(H37="","",VLOOKUP(H37,popisky,4,0)) -> Přípravka D | AN37: =IF(ISERROR(HLOOKUP(H37,$L$1:$AL$5,5,0)),"",HLOOKUP(H37,$L$1:$AL$5,5,0)) -> 7 | AO37: =IF(H37="","",VLOOKUP(H37,popisky,10,0)) -> 40 | AP37: =IF(H37="","",VLOOKUP(H37,popisky,5,0) & " - " & VLOOKUP(H37,popisky,6,0)) -> 2015 - 2016
A38: =IF(C37="","",MAX($A$7:A37)+1) -> 32 | B38: 33 | C38: Makarová | D38: Sylva | E38: 0 | F38: 2005 | G38: Brno-Obřany | H38: H01 | I38: =IF(AO38="","",AO38 & " m") -> 20 m | J38: =IF(H38="","",VLOOKUP(H38,Kategorie!$A$4:$J$35,8,FALSE)) -> 1 | L38: =IF($E38=0,"",IF(AND($F38>=L$2,$F38<=L$4),L$6,"")) | M38: =IF($E38=0,"",IF(AND($F38>=M$2,$F38<=M$4),M$6,"")) | N38: =IF($E38=0,"",IF(AND($F38>=N$2,$F38<=N$4),N$6,"")) | O38: =IF($E38=0,"",IF(AND($F38>=O$2,$F38<=O$4),O$6,"")) | P38: =IF($E38=0,"",IF(AND($F38>=P$2,$F38<=P$4),P$6,"")) | Q38: =IF($E38=0,"",IF(AND($F38>=Q$2,$F38<=Q$4),Q$6,"")) | R38: =IF($E38=0,"",IF(AND($F38>=R$2,$F38<=R$4),R$6,"")) | S38: =IF($E38=0,"",IF(AND($F38>=S$2,$F38<=S$4),S$6,"")) | ... X38: =IF($E38=0,"",IF(AND($F38>=X$2,$F38<=X$4),X$6,"")) | AA38: =IF($E38=1,"",IF(AND($F38>=AA$2,$F38<=AA$4),AA$6,"")) | AB38: =IF($E38=1,"",IF(AND($F38>=AB$2,$F38<=AB$4),AB$6,"")) | AC38: =IF($E38=1,"",IF(AND($F38>=AC$2,$F38<=AC$4),AC$6,"")) | AD38: =IF($E38=1,"",IF(AND($F38>=AD$2,$F38<=AD$4),AD$6,"")) | AE38: =IF($E38=1,"",IF(AND($F38>=AE$2,$F38<=AE$4),AE$6,"")) | AF38: =IF($E38=1,"",IF(AND($F38>=AF$2,$F38<=AF$4),AF$6,"")) | AG38: =IF($E38=1,"",IF(AND($F38>=AG$2,$F38<=AG$4),AG$6,"")) | AH38: =IF($E38=1,"",IF(AND($F38>=AH$2,$F38<=AH$4),AH$6,"")) | ... AL38: =IF($E38=1,"",IF(AND($F38>=AL$2,$F38<=AL$4),AL$6,"")) | AM38: =IF(H38="","",VLOOKUP(H38,popisky,4,0)) -> Hendikepovaní | AN38: =IF(ISERROR(HLOOKUP(H38,$L$1:$AL$5,5,0)),"",HLOOKUP(H38,$L$1:$AL$5,5,0)) -> 2 | AO38: =IF(H38="","",VLOOKUP(H38,popisky,10,0)) -> 20 | AP38: =IF(H38="","",VLOOKUP(H38,popisky,5,0) & " - " & VLOOKUP(H38,popisky,6,0)) -> 2026 - a starší
A39: =IF(C38="","",MAX($A$7:A38)+1) -> 33 | B39: 34 | C39: Fojt | D39: Vojtěch | E39: 1 | F39: 2007 | G39: Brno-Obřany | H39: C08 | I39: =IF(AO39="","",AO39 & " m") -> 80 m | J39: =IF(H39="","",VLOOKUP(H39,Kategorie!$A$4:$J$35,8,FALSE)) -> 4 | L39: =IF($E39=0,"",IF(AND($F39>=L$2,$F39<=L$4),L$6,"")) | M39: =IF($E39=0,"",IF(AND($F39>=M$2,$F39<=M$4),M$6,"")) | N39: =IF($E39=0,"",IF(AND($F39>=N$2,$F39<=N$4),N$6,"")) | O39: =IF($E39=0,"",IF(AND($F39>=O$2,$F39<=O$4),O$6,"")) | P39: =IF($E39=0,"",IF(AND($F39>=P$2,$F39<=P$4),P$6,"")) | Q39: =IF($E39=0,"",IF(AND($F39>=Q$2,$F39<=Q$4),Q$6,"")) | R39: =IF($E39=0,"",IF(AND($F39>=R$2,$F39<=R$4),R$6,"")) | S39: =IF($E39=0,"",IF(AND($F39>=S$2,$F39<=S$4),S$6,"")) -> C08 | ... X39: =IF($E39=0,"",IF(AND($F39>=X$2,$F39<=X$4),X$6,"")) | AA39: =IF($E39=1,"",IF(AND($F39>=AA$2,$F39<=AA$4),AA$6,"")) | AB39: =IF($E39=1,"",IF(AND($F39>=AB$2,$F39<=AB$4),AB$6,"")) | AC39: =IF($E39=1,"",IF(AND($F39>=AC$2,$F39<=AC$4),AC$6,"")) | AD39: =IF($E39=1,"",IF(AND($F39>=AD$2,$F39<=AD$4),AD$6,"")) | AE39: =IF($E39=1,"",IF(AND($F39>=AE$2,$F39<=AE$4),AE$6,"")) | AF39: =IF($E39=1,"",IF(AND($F39>=AF$2,$F39<=AF$4),AF$6,"")) | AG39: =IF($E39=1,"",IF(AND($F39>=AG$2,$F39<=AG$4),AG$6,"")) | AH39: =IF($E39=1,"",IF(AND($F39>=AH$2,$F39<=AH$4),AH$6,"")) | ... AL39: =IF($E39=1,"",IF(AND($F39>=AL$2,$F39<=AL$4),AL$6,"")) | AM39: =IF(H39="","",VLOOKUP(H39,popisky,4,0)) -> Junioři | AN39: =IF(ISERROR(HLOOKUP(H39,$L$1:$AL$5,5,0)),"",HLOOKUP(H39,$L$1:$AL$5,5,0)) -> 1 | AO39: =IF(H39="","",VLOOKUP(H39,popisky,10,0)) -> 80 | AP39: =IF(H39="","",VLOOKUP(H39,popisky,5,0) & " - " & VLOOKUP(H39,popisky,6,0)) -> 2007 - 2008
A40: =IF(C39="","",MAX($A$7:A39)+1) -> 34 | B40: 35 | C40: Fojt | D40: Lukáš | E40: 1 | F40: 2009 | G40: Brno-Obřany | H40: C07 | I40: =IF(AO40="","",AO40 & " m") -> 80 m | J40: =IF(H40="","",VLOOKUP(H40,Kategorie!$A$4:$J$35,8,FALSE)) -> 4 | L40: =IF($E40=0,"",IF(AND($F40>=L$2,$F40<=L$4),L$6,"")) | M40: =IF($E40=0,"",IF(AND($F40>=M$2,$F40<=M$4),M$6,"")) | N40: =IF($E40=0,"",IF(AND($F40>=N$2,$F40<=N$4),N$6,"")) | O40: =IF($E40=0,"",IF(AND($F40>=O$2,$F40<=O$4),O$6,"")) | P40: =IF($E40=0,"",IF(AND($F40>=P$2,$F40<=P$4),P$6,"")) | Q40: =IF($E40=0,"",IF(AND($F40>=Q$2,$F40<=Q$4),Q$6,"")) | R40: =IF($E40=0,"",IF(AND($F40>=R$2,$F40<=R$4),R$6,"")) -> C07 | S40: =IF($E40=0,"",IF(AND($F40>=S$2,$F40<=S$4),S$6,"")) | ... X40: =IF($E40=0,"",IF(AND($F40>=X$2,$F40<=X$4),X$6,"")) | AA40: =IF($E40=1,"",IF(AND($F40>=AA$2,$F40<=AA$4),AA$6,"")) | AB40: =IF($E40=1,"",IF(AND($F40>=AB$2,$F40<=AB$4),AB$6,"")) | AC40: =IF($E40=1,"",IF(AND($F40>=AC$2,$F40<=AC$4),AC$6,"")) | AD40: =IF($E40=1,"",IF(AND($F40>=AD$2,$F40<=AD$4),AD$6,"")) | AE40: =IF($E40=1,"",IF(AND($F40>=AE$2,$F40<=AE$4),AE$6,"")) | AF40: =IF($E40=1,"",IF(AND($F40>=AF$2,$F40<=AF$4),AF$6,"")) | AG40: =IF($E40=1,"",IF(AND($F40>=AG$2,$F40<=AG$4),AG$6,"")) | AH40: =IF($E40=1,"",IF(AND($F40>=AH$2,$F40<=AH$4),AH$6,"")) | ... AL40: =IF($E40=1,"",IF(AND($F40>=AL$2,$F40<=AL$4),AL$6,"")) | AM40: =IF(H40="","",VLOOKUP(H40,popisky,4,0)) -> Dorostenci | AN40: =IF(ISERROR(HLOOKUP(H40,$L$1:$AL$5,5,0)),"",HLOOKUP(H40,$L$1:$AL$5,5,0)) -> 8 | AO40: =IF(H40="","",VLOOKUP(H40,popisky,10,0)) -> 80 | AP40: =IF(H40="","",VLOOKUP(H40,popisky,5,0) & " - " & VLOOKUP(H40,popisky,6,0)) -> 2009 - 2010
... A42: =IF(C41="","",MAX($A$7:A41)+1) -> 36 | B42: 37 | C42: Fojt | D42: Leoš | E42: 1 | F42: 1957 | G42: Brno-Obřany | H42: C12 | I42: =IF(AO42="","",AO42 & " m") -> 80 m | J42: =IF(H42="","",VLOOKUP(H42,Kategorie!$A$4:$J$35,8,FALSE)) -> 4 | L42: =IF($E42=0,"",IF(AND($F42>=L$2,$F42<=L$4),L$6,"")) | M42: =IF($E42=0,"",IF(AND($F42>=M$2,$F42<=M$4),M$6,"")) | N42: =IF($E42=0,"",IF(AND($F42>=N$2,$F42<=N$4),N$6,"")) | O42: =IF($E42=0,"",IF(AND($F42>=O$2,$F42<=O$4),O$6,"")) | P42: =IF($E42=0,"",IF(AND($F42>=P$2,$F42<=P$4),P$6,"")) | Q42: =IF($E42=0,"",IF(AND($F42>=Q$2,$F42<=Q$4),Q$6,"")) | R42: =IF($E42=0,"",IF(AND($F42>=R$2,$F42<=R$4),R$6,"")) | S42: =IF($E42=0,"",IF(AND($F42>=S$2,$F42<=S$4),S$6,"")) | ... X42: =IF($E42=0,"",IF(AND($F42>=X$2,$F42<=X$4),X$6,"")) | AA42: =IF($E42=1,"",IF(AND($F42>=AA$2,$F42<=AA$4),AA$6,"")) | AB42: =IF($E42=1,"",IF(AND($F42>=AB$2,$F42<=AB$4),AB$6,"")) | AC42: =IF($E42=1,"",IF(AND($F42>=AC$2,$F42<=AC$4),AC$6,"")) | AD42: =IF($E42=1,"",IF(AND($F42>=AD$2,$F42<=AD$4),AD$6,"")) | AE42: =IF($E42=1,"",IF(AND($F42>=AE$2,$F42<=AE$4),AE$6,"")) | AF42: =IF($E42=1,"",IF(AND($F42>=AF$2,$F42<=AF$4),AF$6,"")) | AG42: =IF($E42=1,"",IF(AND($F42>=AG$2,$F42<=AG$4),AG$6,"")) | AH42: =IF($E42=1,"",IF(AND($F42>=AH$2,$F42<=AH$4),AH$6,"")) | ... AL42: =IF($E42=1,"",IF(AND($F42>=AL$2,$F42<=AL$4),AL$6,"")) | AM42: =IF(H42="","",VLOOKUP(H42,popisky,4,0)) -> Muži D | AN42: =IF(ISERROR(HLOOKUP(H42,$L$1:$AL$5,5,0)),"",HLOOKUP(H42,$L$1:$AL$5,5,0)) -> 6 | AO42: =IF(H42="","",VLOOKUP(H42,popisky,10,0)) -> 80 | AP42: =IF(H42="","",VLOOKUP(H42,popisky,5,0) & " - " & VLOOKUP(H42,popisky,6,0)) -> 1957 - 1966
A43: =IF(C42="","",MAX($A$7:A42)+1) -> 37 | B43: 39 | C43: Ondrušek | D43: Pavel | E43: 1 | F43: 1989 | G43: Brno-Obřany | H43: C09 | I43: =IF(AO43="","",AO43 & " m") -> 110 m | J43: =IF(H43="","",VLOOKUP(H43,Kategorie!$A$4:$J$35,8,FALSE)) -> 5 | L43: =IF($E43=0,"",IF(AND($F43>=L$2,$F43<=L$4),L$6,"")) | M43: =IF($E43=0,"",IF(AND($F43>=M$2,$F43<=M$4),M$6,"")) | N43: =IF($E43=0,"",IF(AND($F43>=N$2,$F43<=N$4),N$6,"")) | O43: =IF($E43=0,"",IF(AND($F43>=O$2,$F43<=O$4),O$6,"")) | P43: =IF($E43=0,"",IF(AND($F43>=P$2,$F43<=P$4),P$6,"")) | Q43: =IF($E43=0,"",IF(AND($F43>=Q$2,$F43<=Q$4),Q$6,"")) | R43: =IF($E43=0,"",IF(AND($F43>=R$2,$F43<=R$4),R$6,"")) | S43: =IF($E43=0,"",IF(AND($F43>=S$2,$F43<=S$4),S$6,"")) | ... Y43: =IF($E43=0,"",IF(AND($F43>=Y$2,$F43<=Y$4),Y$6,"")) | AA43: =IF($E43=1,"",IF(AND($F43>=AA$2,$F43<=AA$4),AA$6,"")) | AB43: =IF($E43=1,"",IF(AND($F43>=AB$2,$F43<=AB$4),AB$6,"")) | AC43: =IF($E43=1,"",IF(AND($F43>=AC$2,$F43<=AC$4),AC$6,"")) | AD43: =IF($E43=1,"",IF(AND($F43>=AD$2,$F43<=AD$4),AD$6,"")) | AE43: =IF($E43=1,"",IF(AND($F43>=AE$2,$F43<=AE$4),AE$6,"")) | AF43: =IF($E43=1,"",IF(AND($F43>=AF$2,$F43<=AF$4),AF$6,"")) | AG43: =IF($E43=1,"",IF(AND($F43>=AG$2,$F43<=AG$4),AG$6,"")) | AH43: =IF($E43=1,"",IF(AND($F43>=AH$2,$F43<=AH$4),AH$6,"")) | ... AL43: =IF($E43=1,"",IF(AND($F43>=AL$2,$F43<=AL$4),AL$6,"")) | AM43: =IF(H43="","",VLOOKUP(H43,popisky,4,0)) -> Muži A | AN43: =IF(ISERROR(HLOOKUP(H43,$L$1:$AL$5,5,0)),"",HLOOKUP(H43,$L$1:$AL$5,5,0)) -> 9 | AO43: =IF(H43="","",VLOOKUP(H43,popisky,10,0)) -> 110 | AP43: =IF(H43="","",VLOOKUP(H43,popisky,5,0) & " - " & VLOOKUP(H43,popisky,6,0)) -> 1987 - 2006
A44: =IF(C43="","",MAX($A$7:A43)+1) -> 38 | B44: 40 | C44: Kašníková | D44: Šárka | E44: 0 | F44: 1986 | G44: Brno-Obřany | H44: D10 | I44: =IF(AO44="","",AO44 & " m") -> 80 m | J44: =IF(H44="","",VLOOKUP(H44,Kategorie!$A$4:$J$35,8,FALSE)) -> 4 | L44: =IF($E44=0,"",IF(AND($F44>=L$2,$F44<=L$4),L$6,"")) | M44: =IF($E44=0,"",IF(AND($F44>=M$2,$F44<=M$4),M$6,"")) | N44: =IF($E44=0,"",IF(AND($F44>=N$2,$F44<=N$4),N$6,"")) | O44: =IF($E44=0,"",IF(AND($F44>=O$2,$F44<=O$4),O$6,"")) | P44: =IF($E44=0,"",IF(AND($F44>=P$2,$F44<=P$4),P$6,"")) | Q44: =IF($E44=0,"",IF(AND($F44>=Q$2,$F44<=Q$4),Q$6,"")) | R44: =IF($E44=0,"",IF(AND($F44>=R$2,$F44<=R$4),R$6,"")) | S44: =IF($E44=0,"",IF(AND($F44>=S$2,$F44<=S$4),S$6,"")) | ... X44: =IF($E44=0,"",IF(AND($F44>=X$2,$F44<=X$4),X$6,"")) | AA44: =IF($E44=1,"",IF(AND($F44>=AA$2,$F44<=AA$4),AA$6,"")) | AB44: =IF($E44=1,"",IF(AND($F44>=AB$2,$F44<=AB$4),AB$6,"")) | AC44: =IF($E44=1,"",IF(AND($F44>=AC$2,$F44<=AC$4),AC$6,"")) | AD44: =IF($E44=1,"",IF(AND($F44>=AD$2,$F44<=AD$4),AD$6,"")) | AE44: =IF($E44=1,"",IF(AND($F44>=AE$2,$F44<=AE$4),AE$6,"")) | AF44: =IF($E44=1,"",IF(AND($F44>=AF$2,$F44<=AF$4),AF$6,"")) | AG44: =IF($E44=1,"",IF(AND($F44>=AG$2,$F44<=AG$4),AG$6,"")) | AH44: =IF($E44=1,"",IF(AND($F44>=AH$2,$F44<=AH$4),AH$6,"")) | ... AL44: =IF($E44=1,"",IF(AND($F44>=AL$2,$F44<=AL$4),AL$6,"")) | AM44: =IF(H44="","",VLOOKUP(H44,popisky,4,0)) -> Ženy B | AN44: =IF(ISERROR(HLOOKUP(H44,$L$1:$AL$5,5,0)),"",HLOOKUP(H44,$L$1:$AL$5,5,0)) -> 9 | AO44: =IF(H44="","",VLOOKUP(H44,popisky,10,0)) -> 80 | AP44: =IF(H44="","",VLOOKUP(H44,popisky,5,0) & " - " & VLOOKUP(H44,popisky,6,0)) -> 1991 - 1982
A45: =IF(C44="","",MAX($A$7:A44)+1) -> 39 | B45: 41 | C45: Burget | D45: Timotej | E45: 1 | F45: 2013 | G45: Vizovice | H45: C05 | I45: =IF(AO45="","",AO45 & " m") -> 60 m | J45: =IF(H45="","",VLOOKUP(H45,Kategorie!$A$4:$J$35,8,FALSE)) -> 3 | L45: =IF($E45=0,"",IF(AND($F45>=L$2,$F45<=L$4),L$6,"")) | M45: =IF($E45=0,"",IF(AND($F45>=M$2,$F45<=M$4),M$6,"")) | N45: =IF($E45=0,"",IF(AND($F45>=N$2,$F45<=N$4),N$6,"")) | O45: =IF($E45=0,"",IF(AND($F45>=O$2,$F45<=O$4),O$6,"")) | P45: =IF($E45=0,"",IF(AND($F45>=P$2,$F45<=P$4),P$6,"")) -> C05 | Q45: =IF($E45=0,"",IF(AND($F45>=Q$2,$F45<=Q$4),Q$6,"")) | R45: =IF($E45=0,"",IF(AND($F45>=R$2,$F45<=R$4),R$6,"")) | S45: =IF($E45=0,"",IF(AND($F45>=S$2,$F45<=S$4),S$6,"")) | ... X45: =IF($E45=0,"",IF(AND($F45>=X$2,$F45<=X$4),X$6,"")) | AA45: =IF($E45=1,"",IF(AND($F45>=AA$2,$F45<=AA$4),AA$6,"")) | AB45: =IF($E45=1,"",IF(AND($F45>=AB$2,$F45<=AB$4),AB$6,"")) | AC45: =IF($E45=1,"",IF(AND($F45>=AC$2,$F45<=AC$4),AC$6,"")) | AD45: =IF($E45=1,"",IF(AND($F45>=AD$2,$F45<=AD$4),AD$6,"")) | AE45: =IF($E45=1,"",IF(AND($F45>=AE$2,$F45<=AE$4),AE$6,"")) | AF45: =IF($E45=1,"",IF(AND($F45>=AF$2,$F45<=AF$4),AF$6,"")) | AG45: =IF($E45=1,"",IF(AND($F45>=AG$2,$F45<=AG$4),AG$6,"")) | AH45: =IF($E45=1,"",IF(AND($F45>=AH$2,$F45<=AH$4),AH$6,"")) | ... AL45: =IF($E45=1,"",IF(AND($F45>=AL$2,$F45<=AL$4),AL$6,"")) | AM45: =IF(H45="","",VLOOKUP(H45,popisky,4,0)) -> Mladší žáci | AN45: =IF(ISERROR(HLOOKUP(H45,$L$1:$AL$5,5,0)),"",HLOOKUP(H45,$L$1:$AL$5,5,0)) -> 5 | AO45: =IF(H45="","",VLOOKUP(H45,popisky,10,0)) -> 60 | AP45: =IF(H45="","",VLOOKUP(H45,popisky,5,0) & " - " & VLOOKUP(H45,popisky,6,0)) -> 2013 - 2014
A46: =IF(C45="","",MAX($A$7:A45)+1) -> 40 | B46: 42 | C46: Burgetová | D46: Josefína | E46: 0 | F46: 2015 | G46: Vizovice | H46: D04 | I46: =IF(AO46="","",AO46 & " m") -> 40 m | J46: =IF(H46="","",VLOOKUP(H46,Kategorie!$A$4:$J$35,8,FALSE)) -> 2 | L46: =IF($E46=0,"",IF(AND($F46>=L$2,$F46<=L$4),L$6,"")) | M46: =IF($E46=0,"",IF(AND($F46>=M$2,$F46<=M$4),M$6,"")) | N46: =IF($E46=0,"",IF(AND($F46>=N$2,$F46<=N$4),N$6,"")) | O46: =IF($E46=0,"",IF(AND($F46>=O$2,$F46<=O$4),O$6,"")) | P46: =IF($E46=0,"",IF(AND($F46>=P$2,$F46<=P$4),P$6,"")) | Q46: =IF($E46=0,"",IF(AND($F46>=Q$2,$F46<=Q$4),Q$6,"")) | R46: =IF($E46=0,"",IF(AND($F46>=R$2,$F46<=R$4),R$6,"")) | S46: =IF($E46=0,"",IF(AND($F46>=S$2,$F46<=S$4),S$6,"")) | ... X46: =IF($E46=0,"",IF(AND($F46>=X$2,$F46<=X$4),X$6,"")) | AA46: =IF($E46=1,"",IF(AND($F46>=AA$2,$F46<=AA$4),AA$6,"")) | AB46: =IF($E46=1,"",IF(AND($F46>=AB$2,$F46<=AB$4),AB$6,"")) | AC46: =IF($E46=1,"",IF(AND($F46>=AC$2,$F46<=AC$4),AC$6,"")) | AD46: =IF($E46=1,"",IF(AND($F46>=AD$2,$F46<=AD$4),AD$6,"")) -> D04 | AE46: =IF($E46=1,"",IF(AND($F46>=AE$2,$F46<=AE$4),AE$6,"")) | AF46: =IF($E46=1,"",IF(AND($F46>=AF$2,$F46<=AF$4),AF$6,"")) | AG46: =IF($E46=1,"",IF(AND($F46>=AG$2,$F46<=AG$4),AG$6,"")) | AH46: =IF($E46=1,"",IF(AND($F46>=AH$2,$F46<=AH$4),AH$6,"")) | ... AL46: =IF($E46=1,"",IF(AND($F46>=AL$2,$F46<=AL$4),AL$6,"")) | AM46: =IF(H46="","",VLOOKUP(H46,popisky,4,0)) -> Přípravka D | AN46: =IF(ISERROR(HLOOKUP(H46,$L$1:$AL$5,5,0)),"",HLOOKUP(H46,$L$1:$AL$5,5,0)) -> 7 | AO46: =IF(H46="","",VLOOKUP(H46,popisky,10,0)) -> 40 | AP46: =IF(H46="","",VLOOKUP(H46,popisky,5,0) & " - " & VLOOKUP(H46,popisky,6,0)) -> 2015 - 2016
A47: =IF(C46="","",MAX($A$7:A46)+1) -> 41 | B47: 43 | C47: Burgetová | D47: Ráchel | E47: 0 | F47: 2018 | G47: Vizovice | H47: D03 | I47: =IF(AO47="","",AO47 & " m") -> 40 m | J47: =IF(H47="","",VLOOKUP(H47,Kategorie!$A$4:$J$35,8,FALSE)) -> 2 | L47: =IF($E47=0,"",IF(AND($F47>=L$2,$F47<=L$4),L$6,"")) | M47: =IF($E47=0,"",IF(AND($F47>=M$2,$F47<=M$4),M$6,"")) | N47: =IF($E47=0,"",IF(AND($F47>=N$2,$F47<=N$4),N$6,"")) | O47: =IF($E47=0,"",IF(AND($F47>=O$2,$F47<=O$4),O$6,"")) | P47: =IF($E47=0,"",IF(AND($F47>=P$2,$F47<=P$4),P$6,"")) | Q47: =IF($E47=0,"",IF(AND($F47>=Q$2,$F47<=Q$4),Q$6,"")) | R47: =IF($E47=0,"",IF(AND($F47>=R$2,$F47<=R$4),R$6,"")) | S47: =IF($E47=0,"",IF(AND($F47>=S$2,$F47<=S$4),S$6,"")) | ... X47: =IF($E47=0,"",IF(AND($F47>=X$2,$F47<=X$4),X$6,"")) | AA47: =IF($E47=1,"",IF(AND($F47>=AA$2,$F47<=AA$4),AA$6,"")) | AB47: =IF($E47=1,"",IF(AND($F47>=AB$2,$F47<=AB$4),AB$6,"")) | AC47: =IF($E47=1,"",IF(AND($F47>=AC$2,$F47<=AC$4),AC$6,"")) -> D03 | AD47: =IF($E47=1,"",IF(AND($F47>=AD$2,$F47<=AD$4),AD$6,"")) | AE47: =IF($E47=1,"",IF(AND($F47>=AE$2,$F47<=AE$4),AE$6,"")) | AF47: =IF($E47=1,"",IF(AND($F47>=AF$2,$F47<=AF$4),AF$6,"")) | AG47: =IF($E47=1,"",IF(AND($F47>=AG$2,$F47<=AG$4),AG$6,"")) | AH47: =IF($E47=1,"",IF(AND($F47>=AH$2,$F47<=AH$4),AH$6,"")) | ... AL47: =IF($E47=1,"",IF(AND($F47>=AL$2,$F47<=AL$4),AL$6,"")) | AM47: =IF(H47="","",VLOOKUP(H47,popisky,4,0)) -> Minipřípravka D | AN47: =IF(ISERROR(HLOOKUP(H47,$L$1:$AL$5,5,0)),"",HLOOKUP(H47,$L$1:$AL$5,5,0)) -> 6 | AO47: =IF(H47="","",VLOOKUP(H47,popisky,10,0)) -> 40 | AP47: =IF(H47="","",VLOOKUP(H47,popisky,5,0) & " - " & VLOOKUP(H47,popisky,6,0)) -> 2017 - 2018
A48: =IF(C47="","",MAX($A$7:A47)+1) -> 42 | B48: 44 | C48: Dorazil | D48: Jakub | E48: 1 | F48: 2012 | G48: Veřovice | H48: C06 | I48: =IF(AO48="","",AO48 & " m") -> 60 m | J48: =IF(H48="","",VLOOKUP(H48,Kategorie!$A$4:$J$35,8,FALSE)) -> 3 | L48: =IF($E48=0,"",IF(AND($F48>=L$2,$F48<=L$4),L$6,"")) | M48: =IF($E48=0,"",IF(AND($F48>=M$2,$F48<=M$4),M$6,"")) | N48: =IF($E48=0,"",IF(AND($F48>=N$2,$F48<=N$4),N$6,"")) | O48: =IF($E48=0,"",IF(AND($F48>=O$2,$F48<=O$4),O$6,"")) | P48: =IF($E48=0,"",IF(AND($F48>=P$2,$F48<=P$4),P$6,"")) | Q48: =IF($E48=0,"",IF(AND($F48>=Q$2,$F48<=Q$4),Q$6,"")) -> C06 | R48: =IF($E48=0,"",IF(AND($F48>=R$2,$F48<=R$4),R$6,"")) | S48: =IF($E48=0,"",IF(AND($F48>=S$2,$F48<=S$4),S$6,"")) | ... X48: =IF($E48=0,"",IF(AND($F48>=X$2,$F48<=X$4),X$6,"")) | AA48: =IF($E48=1,"",IF(AND($F48>=AA$2,$F48<=AA$4),AA$6,"")) | AB48: =IF($E48=1,"",IF(AND($F48>=AB$2,$F48<=AB$4),AB$6,"")) | AC48: =IF($E48=1,"",IF(AND($F48>=AC$2,$F48<=AC$4),AC$6,"")) | AD48: =IF($E48=1,"",IF(AND($F48>=AD$2,$F48<=AD$4),AD$6,"")) | AE48: =IF($E48=1,"",IF(AND($F48>=AE$2,$F48<=AE$4),AE$6,"")) | AF48: =IF($E48=1,"",IF(AND($F48>=AF$2,$F48<=AF$4),AF$6,"")) | AG48: =IF($E48=1,"",IF(AND($F48>=AG$2,$F48<=AG$4),AG$6,"")) | AH48: =IF($E48=1,"",IF(AND($F48>=AH$2,$F48<=AH$4),AH$6,"")) | ... AL48: =IF($E48=1,"",IF(AND($F48>=AL$2,$F48<=AL$4),AL$6,"")) | AM48: =IF(H48="","",VLOOKUP(H48,popisky,4,0)) -> Starší žáci | AN48: =IF(ISERROR(HLOOKUP(H48,$L$1:$AL$5,5,0)),"",HLOOKUP(H48,$L$1:$AL$5,5,0)) -> 3 | AO48: =IF(H48="","",VLOOKUP(H48,popisky,10,0)) -> 60 | AP48: =IF(H48="","",VLOOKUP(H48,popisky,5,0) & " - " & VLOOKUP(H48,popisky,6,0)) -> 2011 - 2012
A49: =IF(C48="","",MAX($A$7:A48)+1) -> 43 | B49: 45 | C49: Dorazil | D49: Klement | E49: 1 | F49: 2020 | G49: Veřovice | H49: C02 | I49: =IF(AO49="","",AO49 & " m") -> 20 m | J49: =IF(H49="","",VLOOKUP(H49,Kategorie!$A$4:$J$35,8,FALSE)) -> 1 | L49: =IF($E49=0,"",IF(AND($F49>=L$2,$F49<=L$4),L$6,"")) | M49: =IF($E49=0,"",IF(AND($F49>=M$2,$F49<=M$4),M$6,"")) -> C02 | N49: =IF($E49=0,"",IF(AND($F49>=N$2,$F49<=N$4),N$6,"")) | O49: =IF($E49=0,"",IF(AND($F49>=O$2,$F49<=O$4),O$6,"")) | P49: =IF($E49=0,"",IF(AND($F49>=P$2,$F49<=P$4),P$6,"")) | Q49: =IF($E49=0,"",IF(AND($F49>=Q$2,$F49<=Q$4),Q$6,"")) | R49: =IF($E49=0,"",IF(AND($F49>=R$2,$F49<=R$4),R$6,"")) | S49: =IF($E49=0,"",IF(AND($F49>=S$2,$F49<=S$4),S$6,"")) | ... X49: =IF($E49=0,"",IF(AND($F49>=X$2,$F49<=X$4),X$6,"")) | AA49: =IF($E49=1,"",IF(AND($F49>=AA$2,$F49<=AA$4),AA$6,"")) | AB49: =IF($E49=1,"",IF(AND($F49>=AB$2,$F49<=AB$4),AB$6,"")) | AC49: =IF($E49=1,"",IF(AND($F49>=AC$2,$F49<=AC$4),AC$6,"")) | AD49: =IF($E49=1,"",IF(AND($F49>=AD$2,$F49<=AD$4),AD$6,"")) | AE49: =IF($E49=1,"",IF(AND($F49>=AE$2,$F49<=AE$4),AE$6,"")) | AF49: =IF($E49=1,"",IF(AND($F49>=AF$2,$F49<=AF$4),AF$6,"")) | AG49: =IF($E49=1,"",IF(AND($F49>=AG$2,$F49<=AG$4),AG$6,"")) | AH49: =IF($E49=1,"",IF(AND($F49>=AH$2,$F49<=AH$4),AH$6,"")) | ... AL49: =IF($E49=1,"",IF(AND($F49>=AL$2,$F49<=AL$4),AL$6,"")) | AM49: =IF(H49="","",VLOOKUP(H49,popisky,4,0)) -> Atletická školka H | AN49: =IF(ISERROR(HLOOKUP(H49,$L$1:$AL$5,5,0)),"",HLOOKUP(H49,$L$1:$AL$5,5,0)) -> 5 | AO49: =IF(H49="","",VLOOKUP(H49,popisky,10,0)) -> 20 | AP49: =IF(H49="","",VLOOKUP(H49,popisky,5,0) & " - " & VLOOKUP(H49,popisky,6,0)) -> 2019 - 2020
A50: =IF(C49="","",MAX($A$7:A49)+1) -> 44 | B50: 46 | C50: Dorazilová | D50: Zdislava | E50: 0 | F50: 2023 | G50: Veřovice | H50: D01 | I50: =IF(AO50="","",AO50 & " m") -> 20 m | J50: =IF(H50="","",VLOOKUP(H50,Kategorie!$A$4:$J$35,8,FALSE)) -> 1 | L50: =IF($E50=0,"",IF(AND($F50>=L$2,$F50<=L$4),L$6,"")) | M50: =IF($E50=0,"",IF(AND($F50>=M$2,$F50<=M$4),M$6,"")) | N50: =IF($E50=0,"",IF(AND($F50>=N$2,$F50<=N$4),N$6,"")) | O50: =IF($E50=0,"",IF(AND($F50>=O$2,$F50<=O$4),O$6,"")) | P50: =IF($E50=0,"",IF(AND($F50>=P$2,$F50<=P$4),P$6,"")) | Q50: =IF($E50=0,"",IF(AND($F50>=Q$2,$F50<=Q$4),Q$6,"")) | R50: =IF($E50=0,"",IF(AND($F50>=R$2,$F50<=R$4),R$6,"")) | S50: =IF($E50=0,"",IF(AND($F50>=S$2,$F50<=S$4),S$6,"")) | ... X50: =IF($E50=0,"",IF(AND($F50>=X$2,$F50<=X$4),X$6,"")) | AA50: =IF($E50=1,"",IF(AND($F50>=AA$2,$F50<=AA$4),AA$6,"")) -> D01 | AB50: =IF($E50=1,"",IF(AND($F50>=AB$2,$F50<=AB$4),AB$6,"")) | AC50: =IF($E50=1,"",IF(AND($F50>=AC$2,$F50<=AC$4),AC$6,"")) | AD50: =IF($E50=1,"",IF(AND($F50>=AD$2,$F50<=AD$4),AD$6,"")) | AE50: =IF($E50=1,"",IF(AND($F50>=AE$2,$F50<=AE$4),AE$6,"")) | AF50: =IF($E50=1,"",IF(AND($F50>=AF$2,$F50<=AF$4),AF$6,"")) | AG50: =IF($E50=1,"",IF(AND($F50>=AG$2,$F50<=AG$4),AG$6,"")) | AH50: =IF($E50=1,"",IF(AND($F50>=AH$2,$F50<=AH$4),AH$6,"")) | ... AL50: =IF($E50=1,"",IF(AND($F50>=AL$2,$F50<=AL$4),AL$6,"")) | AM50: =IF(H50="","",VLOOKUP(H50,popisky,4,0)) -> Benjamínci D | AN50: =IF(ISERROR(HLOOKUP(H50,$L$1:$AL$5,5,0)),"",HLOOKUP(H50,$L$1:$AL$5,5,0)) -> 15 | AO50: =IF(H50="","",VLOOKUP(H50,popisky,10,0)) -> 20 | AP50: =IF(H50="","",VLOOKUP(H50,popisky,5,0) & " - " & VLOOKUP(H50,popisky,6,0)) -> 2021 - a mladší
A51: =IF(C50="","",MAX($A$7:A50)+1) -> 45 | B51: 47 | C51: Dokoupilová | D51: Zdenka | E51: 0 | F51: 1964 | G51: Žatčany | H51: D12 | I51: =IF(AO51="","",AO51 & " m") -> 80 m | J51: =IF(H51="","",VLOOKUP(H51,Kategorie!$A$4:$J$35,8,FALSE)) -> 4 | L51: =IF($E51=0,"",IF(AND($F51>=L$2,$F51<=L$4),L$6,"")) | M51: =IF($E51=0,"",IF(AND($F51>=M$2,$F51<=M$4),M$6,"")) | N51: =IF($E51=0,"",IF(AND($F51>=N$2,$F51<=N$4),N$6,"")) | O51: =IF($E51=0,"",IF(AND($F51>=O$2,$F51<=O$4),O$6,"")) | P51: =IF($E51=0,"",IF(AND($F51>=P$2,$F51<=P$4),P$6,"")) | Q51: =IF($E51=0,"",IF(AND($F51>=Q$2,$F51<=Q$4),Q$6,"")) | R51: =IF($E51=0,"",IF(AND($F51>=R$2,$F51<=R$4),R$6,"")) | S51: =IF($E51=0,"",IF(AND($F51>=S$2,$F51<=S$4),S$6,"")) | ... X51: =IF($E51=0,"",IF(AND($F51>=X$2,$F51<=X$4),X$6,"")) | AA51: =IF($E51=1,"",IF(AND($F51>=AA$2,$F51<=AA$4),AA$6,"")) | AB51: =IF($E51=1,"",IF(AND($F51>=AB$2,$F51<=AB$4),AB$6,"")) | AC51: =IF($E51=1,"",IF(AND($F51>=AC$2,$F51<=AC$4),AC$6,"")) | AD51: =IF($E51=1,"",IF(AND($F51>=AD$2,$F51<=AD$4),AD$6,"")) | AE51: =IF($E51=1,"",IF(AND($F51>=AE$2,$F51<=AE$4),AE$6,"")) | AF51: =IF($E51=1,"",IF(AND($F51>=AF$2,$F51<=AF$4),AF$6,"")) | AG51: =IF($E51=1,"",IF(AND($F51>=AG$2,$F51<=AG$4),AG$6,"")) | AH51: =IF($E51=1,"",IF(AND($F51>=AH$2,$F51<=AH$4),AH$6,"")) | ... AL51: =IF($E51=1,"",IF(AND($F51>=AL$2,$F51<=AL$4),AL$6,"")) -> D12 | AM51: =IF(H51="","",VLOOKUP(H51,popisky,4,0)) -> Ženy D | AN51: =IF(ISERROR(HLOOKUP(H51,$L$1:$AL$5,5,0)),"",HLOOKUP(H51,$L$1:$AL$5,5,0)) -> 3 | AO51: =IF(H51="","",VLOOKUP(H51,popisky,10,0)) -> 80 | AP51: =IF(H51="","",VLOOKUP(H51,popisky,5,0) & " - " & VLOOKUP(H51,popisky,6,0)) -> 1971 - a starší
A52: =IF(C51="","",MAX($A$7:A51)+1) -> 46 | B52: 48 | C52: Gahura | D52: Ondřej | E52: 1 | F52: 2022 | G52: Brusné | H52: C01 | I52: =IF(AO52="","",AO52 & " m") -> 20 m | J52: =IF(H52="","",VLOOKUP(H52,Kategorie!$A$4:$J$35,8,FALSE)) -> 1 | L52: =IF($E52=0,"",IF(AND($F52>=L$2,$F52<=L$4),L$6,"")) -> C01 | M52: =IF($E52=0,"",IF(AND($F52>=M$2,$F52<=M$4),M$6,"")) | N52: =IF($E52=0,"",IF(AND($F52>=N$2,$F52<=N$4),N$6,"")) | O52: =IF($E52=0,"",IF(AND($F52>=O$2,$F52<=O$4),O$6,"")) | P52: =IF($E52=0,"",IF(AND($F52>=P$2,$F52<=P$4),P$6,"")) | Q52: =IF($E52=0,"",IF(AND($F52>=Q$2,$F52<=Q$4),Q$6,"")) | R52: =IF($E52=0,"",IF(AND($F52>=R$2,$F52<=R$4),R$6,"")) | S52: =IF($E52=0,"",IF(AND($F52>=S$2,$F52<=S$4),S$6,"")) | ... X52: =IF($E52=0,"",IF(AND($F52>=X$2,$F52<=X$4),X$6,"")) | AA52: =IF($E52=1,"",IF(AND($F52>=AA$2,$F52<=AA$4),AA$6,"")) | AB52: =IF($E52=1,"",IF(AND($F52>=AB$2,$F52<=AB$4),AB$6,"")) | AC52: =IF($E52=1,"",IF(AND($F52>=AC$2,$F52<=AC$4),AC$6,"")) | AD52: =IF($E52=1,"",IF(AND($F52>=AD$2,$F52<=AD$4),AD$6,"")) | AE52: =IF($E52=1,"",IF(AND($F52>=AE$2,$F52<=AE$4),AE$6,"")) | AF52: =IF($E52=1,"",IF(AND($F52>=AF$2,$F52<=AF$4),AF$6,"")) | AG52: =IF($E52=1,"",IF(AND($F52>=AG$2,$F52<=AG$4),AG$6,"")) | AH52: =IF($E52=1,"",IF(AND($F52>=AH$2,$F52<=AH$4),AH$6,"")) | ... AL52: =IF($E52=1,"",IF(AND($F52>=AL$2,$F52<=AL$4),AL$6,"")) | AM52: =IF(H52="","",VLOOKUP(H52,popisky,4,0)) -> Benjamínci H | AN52: =IF(ISERROR(HLOOKUP(H52,$L$1:$AL$5,5,0)),"",HLOOKUP(H52,$L$1:$AL$5,5,0)) -> 7 | AO52: =IF(H52="","",VLOOKUP(H52,popisky,10,0)) -> 20 | AP52: =IF(H52="","",VLOOKUP(H52,popisky,5,0) & " - " & VLOOKUP(H52,popisky,6,0)) -> 2021 - a mladší
A53: =IF(C52="","",MAX($A$7:A52)+1) -> 47 | B53: 49 | C53: Gahurová | D53: Amálie | E53: 0 | F53: 2024 | G53: Brusné | H53: D01 | I53: =IF(AO53="","",AO53 & " m") -> 20 m | J53: =IF(H53="","",VLOOKUP(H53,Kategorie!$A$4:$J$35,8,FALSE)) -> 1 | L53: =IF($E53=0,"",IF(AND($F53>=L$2,$F53<=L$4),L$6,"")) | M53: =IF($E53=0,"",IF(AND($F53>=M$2,$F53<=M$4),M$6,"")) | N53: =IF($E53=0,"",IF(AND($F53>=N$2,$F53<=N$4),N$6,"")) | O53: =IF($E53=0,"",IF(AND($F53>=O$2,$F53<=O$4),O$6,"")) | P53: =IF($E53=0,"",IF(AND($F53>=P$2,$F53<=P$4),P$6,"")) | Q53: =IF($E53=0,"",IF(AND($F53>=Q$2,$F53<=Q$4),Q$6,"")) | R53: =IF($E53=0,"",IF(AND($F53>=R$2,$F53<=R$4),R$6,"")) | S53: =IF($E53=0,"",IF(AND($F53>=S$2,$F53<=S$4),S$6,"")) | ... X53: =IF($E53=0,"",IF(AND($F53>=X$2,$F53<=X$4),X$6,"")) | AA53: =IF($E53=1,"",IF(AND($F53>=AA$2,$F53<=AA$4),AA$6,"")) -> D01 | AB53: =IF($E53=1,"",IF(AND($F53>=AB$2,$F53<=AB$4),AB$6,"")) | AC53: =IF($E53=1,"",IF(AND($F53>=AC$2,$F53<=AC$4),AC$6,"")) | AD53: =IF($E53=1,"",IF(AND($F53>=AD$2,$F53<=AD$4),AD$6,"")) | AE53: =IF($E53=1,"",IF(AND($F53>=AE$2,$F53<=AE$4),AE$6,"")) | AF53: =IF($E53=1,"",IF(AND($F53>=AF$2,$F53<=AF$4),AF$6,"")) | AG53: =IF($E53=1,"",IF(AND($F53>=AG$2,$F53<=AG$4),AG$6,"")) | AH53: =IF($E53=1,"",IF(AND($F53>=AH$2,$F53<=AH$4),AH$6,"")) | ... AL53: =IF($E53=1,"",IF(AND($F53>=AL$2,$F53<=AL$4),AL$6,"")) | AM53: =IF(H53="","",VLOOKUP(H53,popisky,4,0)) -> Benjamínci D | AN53: =IF(ISERROR(HLOOKUP(H53,$L$1:$AL$5,5,0)),"",HLOOKUP(H53,$L$1:$AL$5,5,0)) -> 15 | AO53: =IF(H53="","",VLOOKUP(H53,popisky,10,0)) -> 20 | AP53: =IF(H53="","",VLOOKUP(H53,popisky,5,0) & " - " & VLOOKUP(H53,popisky,6,0)) -> 2021 - a mladší
A54: =IF(C53="","",MAX($A$7:A53)+1) -> 48 | B54: 50 | C54: Ferdová | D54: Anna | E54: 0 | F54: 2009 | G54: Staré Město | H54: D07 | I54: =IF(AO54="","",AO54 & " m") -> 80 m | J54: =IF(H54="","",VLOOKUP(H54,Kategorie!$A$4:$J$35,8,FALSE)) -> 4 | L54: =IF($E54=0,"",IF(AND($F54>=L$2,$F54<=L$4),L$6,"")) | M54: =IF($E54=0,"",IF(AND($F54>=M$2,$F54<=M$4),M$6,"")) | N54: =IF($E54=0,"",IF(AND($F54>=N$2,$F54<=N$4),N$6,"")) | O54: =IF($E54=0,"",IF(AND($F54>=O$2,$F54<=O$4),O$6,"")) | P54: =IF($E54=0,"",IF(AND($F54>=P$2,$F54<=P$4),P$6,"")) | Q54: =IF($E54=0,"",IF(AND($F54>=Q$2,$F54<=Q$4),Q$6,"")) | R54: =IF($E54=0,"",IF(AND($F54>=R$2,$F54<=R$4),R$6,"")) | S54: =IF($E54=0,"",IF(AND($F54>=S$2,$F54<=S$4),S$6,"")) | ... X54: =IF($E54=0,"",IF(AND($F54>=X$2,$F54<=X$4),X$6,"")) | AA54: =IF($E54=1,"",IF(AND($F54>=AA$2,$F54<=AA$4),AA$6,"")) | AB54: =IF($E54=1,"",IF(AND($F54>=AB$2,$F54<=AB$4),AB$6,"")) | AC54: =IF($E54=1,"",IF(AND($F54>=AC$2,$F54<=AC$4),AC$6,"")) | AD54: =IF($E54=1,"",IF(AND($F54>=AD$2,$F54<=AD$4),AD$6,"")) | AE54: =IF($E54=1,"",IF(AND($F54>=AE$2,$F54<=AE$4),AE$6,"")) | AF54: =IF($E54=1,"",IF(AND($F54>=AF$2,$F54<=AF$4),AF$6,"")) | AG54: =IF($E54=1,"",IF(AND($F54>=AG$2,$F54<=AG$4),AG$6,"")) -> D07 | AH54: =IF($E54=1,"",IF(AND($F54>=AH$2,$F54<=AH$4),AH$6,"")) | ... AL54: =IF($E54=1,"",IF(AND($F54>=AL$2,$F54<=AL$4),AL$6,"")) | AM54: =IF(H54="","",VLOOKUP(H54,popisky,4,0)) -> Dorostenky | AN54: =IF(ISERROR(HLOOKUP(H54,$L$1:$AL$5,5,0)),"",HLOOKUP(H54,$L$1:$AL$5,5,0)) -> 2 | AO54: =IF(H54="","",VLOOKUP(H54,popisky,10,0)) -> 80 | AP54: =IF(H54="","",VLOOKUP(H54,popisky,5,0) & " - " & VLOOKUP(H54,popisky,6,0)) -> 2009 - 2010
A55: =IF(C54="","",MAX($A$7:A54)+1) -> 49 | B55: 51 | C55: Ferdová | D55: Alžběta | E55: 0 | F55: 2012 | G55: Staré Město | H55: D06 | I55: =IF(AO55="","",AO55 & " m") -> 60 m | J55: =IF(H55="","",VLOOKUP(H55,Kategorie!$A$4:$J$35,8,FALSE)) -> 3 | L55: =IF($E55=0,"",IF(AND($F55>=L$2,$F55<=L$4),L$6,"")) | M55: =IF($E55=0,"",IF(AND($F55>=M$2,$F55<=M$4),M$6,"")) | N55: =IF($E55=0,"",IF(AND($F55>=N$2,$F55<=N$4),N$6,"")) | O55: =IF($E55=0,"",IF(AND($F55>=O$2,$F55<=O$4),O$6,"")) | P55: =IF($E55=0,"",IF(AND($F55>=P$2,$F55<=P$4),P$6,"")) | Q55: =IF($E55=0,"",IF(AND($F55>=Q$2,$F55<=Q$4),Q$6,"")) | R55: =IF($E55=0,"",IF(AND($F55>=R$2,$F55<=R$4),R$6,"")) | S55: =IF($E55=0,"",IF(AND($F55>=S$2,$F55<=S$4),S$6,"")) | ... X55: =IF($E55=0,"",IF(AND($F55>=X$2,$F55<=X$4),X$6,"")) | AA55: =IF($E55=1,"",IF(AND($F55>=AA$2,$F55<=AA$4),AA$6,"")) | AB55: =IF($E55=1,"",IF(AND($F55>=AB$2,$F55<=AB$4),AB$6,"")) | AC55: =IF($E55=1,"",IF(AND($F55>=AC$2,$F55<=AC$4),AC$6,"")) | AD55: =IF($E55=1,"",IF(AND($F55>=AD$2,$F55<=AD$4),AD$6,"")) | AE55: =IF($E55=1,"",IF(AND($F55>=AE$2,$F55<=AE$4),AE$6,"")) | AF55: =IF($E55=1,"",IF(AND($F55>=AF$2,$F55<=AF$4),AF$6,"")) -> D06 | AG55: =IF($E55=1,"",IF(AND($F55>=AG$2,$F55<=AG$4),AG$6,"")) | AH55: =IF($E55=1,"",IF(AND($F55>=AH$2,$F55<=AH$4),AH$6,"")) | ... AL55: =IF($E55=1,"",IF(AND($F55>=AL$2,$F55<=AL$4),AL$6,"")) | AM55: =IF(H55="","",VLOOKUP(H55,popisky,4,0)) -> Starší žákyně | AN55: =IF(ISERROR(HLOOKUP(H55,$L$1:$AL$5,5,0)),"",HLOOKUP(H55,$L$1:$AL$5,5,0)) -> 5 | AO55: =IF(H55="","",VLOOKUP(H55,popisky,10,0)) -> 60 | AP55: =IF(H55="","",VLOOKUP(H55,popisky,5,0) & " - " & VLOOKUP(H55,popisky,6,0)) -> 2011 - 2012
... A143: =IF(C142="","",MAX($A$7:A142)+1) -> 137 | B143: 145 | C143: Nomád | D143: Mirek | E143: 1 | F143: 2003 | G143: Ostrava | H143: C09 | I143: =IF(AO143="","",AO143 & " m") -> 110 m | J143: =IF(H143="","",VLOOKUP(H143,Kategorie!$A$4:$J$35,8,FALSE)) -> 5 | L143: =IF($E143=0,"",IF(AND($F143>=L$2,$F143<=L$4),L$6,"")) | M143: =IF($E143=0,"",IF(AND($F143>=M$2,$F143<=M$4),M$6,"")) | N143: =IF($E143=0,"",IF(AND($F143>=N$2,$F143<=N$4),N$6,"")) | O143: =IF($E143=0,"",IF(AND($F143>=O$2,$F143<=O$4),O$6,"")) | P143: =IF($E143=0,"",IF(AND($F143>=P$2,$F143<=P$4),P$6,"")) | Q143: =IF($E143=0,"",IF(AND($F143>=Q$2,$F143<=Q$4),Q$6,"")) | R143: =IF($E143=0,"",IF(AND($F143>=R$2,$F143<=R$4),R$6,"")) | S143: =IF($E143=0,"",IF(AND($F143>=S$2,$F143<=S$4),S$6,"")) | ... X143: =IF($E143=0,"",IF(AND($F143>=X$2,$F143<=X$4),X$6,"")) | AA143: =IF($E143=1,"",IF(AND($F143>=AA$2,$F143<=AA$4),AA$6,"")) | AB143: =IF($E143=1,"",IF(AND($F143>=AB$2,$F143<=AB$4),AB$6,"")) | AC143: =IF($E143=1,"",IF(AND($F143>=AC$2,$F143<=AC$4),AC$6,"")) | AD143: =IF($E143=1,"",IF(AND($F143>=AD$2,$F143<=AD$4),AD$6,"")) | AE143: =IF($E143=1,"",IF(AND($F143>=AE$2,$F143<=AE$4),AE$6,"")) | AF143: =IF($E143=1,"",IF(AND($F143>=AF$2,$F143<=AF$4),AF$6,"")) | AG143: =IF($E143=1,"",IF(AND($F143>=AG$2,$F143<=AG$4),AG$6,"")) | AH143: =IF($E143=1,"",IF(AND($F143>=AH$2,$F143<=AH$4),AH$6,"")) | ... AL143: =IF($E143=1,"",IF(AND($F143>=AL$2,$F143<=AL$4),AL$6,"")) | AM143: =IF(H143="","",VLOOKUP(H143,popisky,4,0)) -> Muži A | AN143: =IF(ISERROR(HLOOKUP(H143,$L$1:$AL$5,5,0)),"",HLOOKUP(H143,$L$1:$AL$5,5,0)) -> 9 | AO143: =IF(H143="","",VLOOKUP(H143,popisky,10,0)) -> 110 | AP143: =IF(H143="","",VLOOKUP(H143,popisky,5,0) & " - " & VLOOKUP(H143,popisky,6,0)) -> 1987 - 2006
A144: =IF(C143="","",MAX($A$7:A143)+1) -> 138 | E144: =IF(C144="","",IF(MID(C144,LEN(C144),1)="á",0,1)) | H144: =CONCATENATE(L144,M144,N144,O144,P144,Q144,R144,S144,T144,U144,V144,W144,AA144,AB144,AC144,AD144,AE144,AF144,AG144,AH144,AI144,X144,Y144,Z144,AJ144,AK144,AL144) | I144: =IF(AO144="","",AO144 & " m") | J144: =IF(H144="","",VLOOKUP(H144,Kategorie!$A$4:$J$35,8,FALSE)) | L144: =IF($E144=0,"",IF(AND($F144>=L$2,$F144<=L$4),L$6,"")) | M144: =IF($E144=0,"",IF(AND($F144>=M$2,$F144<=M$4),M$6,"")) | N144: =IF($E144=0,"",IF(AND($F144>=N$2,$F144<=N$4),N$6,"")) | O144: =IF($E144=0,"",IF(AND($F144>=O$2,$F144<=O$4),O$6,"")) | P144: =IF($E144=0,"",IF(AND($F144>=P$2,$F144<=P$4),P$6,"")) | Q144: =IF($E144=0,"",IF(AND($F144>=Q$2,$F144<=Q$4),Q$6,"")) | R144: =IF($E144=0,"",IF(AND($F144>=R$2,$F144<=R$4),R$6,"")) | S144: =IF($E144=0,"",IF(AND($F144>=S$2,$F144<=S$4),S$6,"")) | ... X144: =IF($E144=0,"",IF(AND($F144>=X$2,$F144<=X$4),X$6,"")) | AA144: =IF($E144=1,"",IF(AND($F144>=AA$2,$F144<=AA$4),AA$6,"")) | AB144: =IF($E144=1,"",IF(AND($F144>=AB$2,$F144<=AB$4),AB$6,"")) | AC144: =IF($E144=1,"",IF(AND($F144>=AC$2,$F144<=AC$4),AC$6,"")) | AD144: =IF($E144=1,"",IF(AND($F144>=AD$2,$F144<=AD$4),AD$6,"")) | AE144: =IF($E144=1,"",IF(AND($F144>=AE$2,$F144<=AE$4),AE$6,"")) | AF144: =IF($E144=1,"",IF(AND($F144>=AF$2,$F144<=AF$4),AF$6,"")) | AG144: =IF($E144=1,"",IF(AND($F144>=AG$2,$F144<=AG$4),AG$6,"")) | AH144: =IF($E144=1,"",IF(AND($F144>=AH$2,$F144<=AH$4),AH$6,"")) | ... AL144: =IF($E144=1,"",IF(AND($F144>=AL$2,$F144<=AL$4),AL$6,"")) | AM144: =IF(H144="","",VLOOKUP(H144,popisky,4,0)) | AN144: =IF(ISERROR(HLOOKUP(H144,$L$1:$AL$5,5,0)),"",HLOOKUP(H144,$L$1:$AL$5,5,0)) | AO144: =IF(H144="","",VLOOKUP(H144,popisky,10,0)) | AP144: =IF(H144="","",VLOOKUP(H144,popisky,5,0) & " - " & VLOOKUP(H144,popisky,6,0))
A145: =IF(C144="","",MAX($A$7:A144)+1) | E145: =IF(C145="","",IF(MID(C145,LEN(C145),1)="á",0,1)) | H145: =CONCATENATE(L145,M145,N145,O145,P145,Q145,R145,S145,T145,U145,V145,W145,AA145,AB145,AC145,AD145,AE145,AF145,AG145,AH145,AI145,X145,Y145,Z145,AJ145,AK145,AL145) | I145: =IF(AO145="","",AO145 & " m") | J145: =IF(H145="","",VLOOKUP(H145,Kategorie!$A$4:$J$35,8,FALSE)) | L145: =IF($E145=0,"",IF(AND($F145>=L$2,$F145<=L$4),L$6,"")) | M145: =IF($E145=0,"",IF(AND($F145>=M$2,$F145<=M$4),M$6,"")) | N145: =IF($E145=0,"",IF(AND($F145>=N$2,$F145<=N$4),N$6,"")) | O145: =IF($E145=0,"",IF(AND($F145>=O$2,$F145<=O$4),O$6,"")) | P145: =IF($E145=0,"",IF(AND($F145>=P$2,$F145<=P$4),P$6,"")) | Q145: =IF($E145=0,"",IF(AND($F145>=Q$2,$F145<=Q$4),Q$6,"")) | R145: =IF($E145=0,"",IF(AND($F145>=R$2,$F145<=R$4),R$6,"")) | S145: =IF($E145=0,"",IF(AND($F145>=S$2,$F145<=S$4),S$6,"")) | ... X145: =IF($E145=0,"",IF(AND($F145>=X$2,$F145<=X$4),X$6,"")) | AA145: =IF($E145=1,"",IF(AND($F145>=AA$2,$F145<=AA$4),AA$6,"")) | AB145: =IF($E145=1,"",IF(AND($F145>=AB$2,$F145<=AB$4),AB$6,"")) | AC145: =IF($E145=1,"",IF(AND($F145>=AC$2,$F145<=AC$4),AC$6,"")) | AD145: =IF($E145=1,"",IF(AND($F145>=AD$2,$F145<=AD$4),AD$6,"")) | AE145: =IF($E145=1,"",IF(AND($F145>=AE$2,$F145<=AE$4),AE$6,"")) | AF145: =IF($E145=1,"",IF(AND($F145>=AF$2,$F145<=AF$4),AF$6,"")) | AG145: =IF($E145=1,"",IF(AND($F145>=AG$2,$F145<=AG$4),AG$6,"")) | AH145: =IF($E145=1,"",IF(AND($F145>=AH$2,$F145<=AH$4),AH$6,"")) | ... AL145: =IF($E145=1,"",IF(AND($F145>=AL$2,$F145<=AL$4),AL$6,"")) | AM145: =IF(H145="","",VLOOKUP(H145,popisky,4,0)) | AN145: =IF(ISERROR(HLOOKUP(H145,$L$1:$AL$5,5,0)),"",HLOOKUP(H145,$L$1:$AL$5,5,0)) | AO145: =IF(H145="","",VLOOKUP(H145,popisky,10,0)) | AP145: =IF(H145="","",VLOOKUP(H145,popisky,5,0) & " - " & VLOOKUP(H145,popisky,6,0))
A146: =IF(C145="","",MAX($A$7:A145)+1) | E146: =IF(C146="","",IF(MID(C146,LEN(C146),1)="á",0,1)) | H146: =CONCATENATE(L146,M146,N146,O146,P146,Q146,R146,S146,T146,U146,V146,W146,AA146,AB146,AC146,AD146,AE146,AF146,AG146,AH146,AI146,X146,Y146,Z146,AJ146,AK146,AL146) | I146: =IF(AO146="","",AO146 & " m") | J146: =IF(H146="","",VLOOKUP(H146,Kategorie!$A$4:$J$35,8,FALSE)) | L146: =IF($E146=0,"",IF(AND($F146>=L$2,$F146<=L$4),L$6,"")) | M146: =IF($E146=0,"",IF(AND($F146>=M$2,$F146<=M$4),M$6,"")) | N146: =IF($E146=0,"",IF(AND($F146>=N$2,$F146<=N$4),N$6,"")) | O146: =IF($E146=0,"",IF(AND($F146>=O$2,$F146<=O$4),O$6,"")) | P146: =IF($E146=0,"",IF(AND($F146>=P$2,$F146<=P$4),P$6,"")) | Q146: =IF($E146=0,"",IF(AND($F146>=Q$2,$F146<=Q$4),Q$6,"")) | R146: =IF($E146=0,"",IF(AND($F146>=R$2,$F146<=R$4),R$6,"")) | S146: =IF($E146=0,"",IF(AND($F146>=S$2,$F146<=S$4),S$6,"")) | ... X146: =IF($E146=0,"",IF(AND($F146>=X$2,$F146<=X$4),X$6,"")) | AA146: =IF($E146=1,"",IF(AND($F146>=AA$2,$F146<=AA$4),AA$6,"")) | AB146: =IF($E146=1,"",IF(AND($F146>=AB$2,$F146<=AB$4),AB$6,"")) | AC146: =IF($E146=1,"",IF(AND($F146>=AC$2,$F146<=AC$4),AC$6,"")) | AD146: =IF($E146=1,"",IF(AND($F146>=AD$2,$F146<=AD$4),AD$6,"")) | AE146: =IF($E146=1,"",IF(AND($F146>=AE$2,$F146<=AE$4),AE$6,"")) | AF146: =IF($E146=1,"",IF(AND($F146>=AF$2,$F146<=AF$4),AF$6,"")) | AG146: =IF($E146=1,"",IF(AND($F146>=AG$2,$F146<=AG$4),AG$6,"")) | AH146: =IF($E146=1,"",IF(AND($F146>=AH$2,$F146<=AH$4),AH$6,"")) | ... AL146: =IF($E146=1,"",IF(AND($F146>=AL$2,$F146<=AL$4),AL$6,"")) | AM146: =IF(H146="","",VLOOKUP(H146,popisky,4,0)) | AN146: =IF(ISERROR(HLOOKUP(H146,$L$1:$AL$5,5,0)),"",HLOOKUP(H146,$L$1:$AL$5,5,0)) | AO146: =IF(H146="","",VLOOKUP(H146,popisky,10,0)) | AP146: =IF(H146="","",VLOOKUP(H146,popisky,5,0) & " - " & VLOOKUP(H146,popisky,6,0))
A147: =IF(C146="","",MAX($A$7:A146)+1) | E147: =IF(C147="","",IF(MID(C147,LEN(C147),1)="á",0,1)) | H147: =CONCATENATE(L147,M147,N147,O147,P147,Q147,R147,S147,T147,U147,V147,W147,AA147,AB147,AC147,AD147,AE147,AF147,AG147,AH147,AI147,X147,Y147,Z147,AJ147,AK147,AL147) | I147: =IF(AO147="","",AO147 & " m") | J147: =IF(H147="","",VLOOKUP(H147,Kategorie!$A$4:$J$35,8,FALSE)) | L147: =IF($E147=0,"",IF(AND($F147>=L$2,$F147<=L$4),L$6,"")) | M147: =IF($E147=0,"",IF(AND($F147>=M$2,$F147<=M$4),M$6,"")) | N147: =IF($E147=0,"",IF(AND($F147>=N$2,$F147<=N$4),N$6,"")) | O147: =IF($E147=0,"",IF(AND($F147>=O$2,$F147<=O$4),O$6,"")) | P147: =IF($E147=0,"",IF(AND($F147>=P$2,$F147<=P$4),P$6,"")) | Q147: =IF($E147=0,"",IF(AND($F147>=Q$2,$F147<=Q$4),Q$6,"")) | R147: =IF($E147=0,"",IF(AND($F147>=R$2,$F147<=R$4),R$6,"")) | S147: =IF($E147=0,"",IF(AND($F147>=S$2,$F147<=S$4),S$6,"")) | ... X147: =IF($E147=0,"",IF(AND($F147>=X$2,$F147<=X$4),X$6,"")) | AA147: =IF($E147=1,"",IF(AND($F147>=AA$2,$F147<=AA$4),AA$6,"")) | AB147: =IF($E147=1,"",IF(AND($F147>=AB$2,$F147<=AB$4),AB$6,"")) | AC147: =IF($E147=1,"",IF(AND($F147>=AC$2,$F147<=AC$4),AC$6,"")) | AD147: =IF($E147=1,"",IF(AND($F147>=AD$2,$F147<=AD$4),AD$6,"")) | AE147: =IF($E147=1,"",IF(AND($F147>=AE$2,$F147<=AE$4),AE$6,"")) | AF147: =IF($E147=1,"",IF(AND($F147>=AF$2,$F147<=AF$4),AF$6,"")) | AG147: =IF($E147=1,"",IF(AND($F147>=AG$2,$F147<=AG$4),AG$6,"")) | AH147: =IF($E147=1,"",IF(AND($F147>=AH$2,$F147<=AH$4),AH$6,"")) | ... AL147: =IF($E147=1,"",IF(AND($F147>=AL$2,$F147<=AL$4),AL$6,"")) | AM147: =IF(H147="","",VLOOKUP(H147,popisky,4,0)) | AN147: =IF(ISERROR(HLOOKUP(H147,$L$1:$AL$5,5,0)),"",HLOOKUP(H147,$L$1:$AL$5,5,0)) | AO147: =IF(H147="","",VLOOKUP(H147,popisky,10,0)) | AP147: =IF(H147="","",VLOOKUP(H147,popisky,5,0) & " - " & VLOOKUP(H147,popisky,6,0))
A148: =IF(C147="","",MAX($A$7:A147)+1) | E148: =IF(C148="","",IF(MID(C148,LEN(C148),1)="á",0,1)) | H148: =CONCATENATE(L148,M148,N148,O148,P148,Q148,R148,S148,T148,U148,V148,W148,AA148,AB148,AC148,AD148,AE148,AF148,AG148,AH148,AI148,X148,Y148,Z148,AJ148,AK148,AL148) | I148: =IF(AO148="","",AO148 & " m") | J148: =IF(H148="","",VLOOKUP(H148,Kategorie!$A$4:$J$35,8,FALSE)) | L148: =IF($E148=0,"",IF(AND($F148>=L$2,$F148<=L$4),L$6,"")) | M148: =IF($E148=0,"",IF(AND($F148>=M$2,$F148<=M$4),M$6,"")) | N148: =IF($E148=0,"",IF(AND($F148>=N$2,$F148<=N$4),N$6,"")) | O148: =IF($E148=0,"",IF(AND($F148>=O$2,$F148<=O$4),O$6,"")) | P148: =IF($E148=0,"",IF(AND($F148>=P$2,$F148<=P$4),P$6,"")) | Q148: =IF($E148=0,"",IF(AND($F148>=Q$2,$F148<=Q$4),Q$6,"")) | R148: =IF($E148=0,"",IF(AND($F148>=R$2,$F148<=R$4),R$6,"")) | S148: =IF($E148=0,"",IF(AND($F148>=S$2,$F148<=S$4),S$6,"")) | ... X148: =IF($E148=0,"",IF(AND($F148>=X$2,$F148<=X$4),X$6,"")) | AA148: =IF($E148=1,"",IF(AND($F148>=AA$2,$F148<=AA$4),AA$6,"")) | AB148: =IF($E148=1,"",IF(AND($F148>=AB$2,$F148<=AB$4),AB$6,"")) | AC148: =IF($E148=1,"",IF(AND($F148>=AC$2,$F148<=AC$4),AC$6,"")) | AD148: =IF($E148=1,"",IF(AND($F148>=AD$2,$F148<=AD$4),AD$6,"")) | AE148: =IF($E148=1,"",IF(AND($F148>=AE$2,$F148<=AE$4),AE$6,"")) | AF148: =IF($E148=1,"",IF(AND($F148>=AF$2,$F148<=AF$4),AF$6,"")) | AG148: =IF($E148=1,"",IF(AND($F148>=AG$2,$F148<=AG$4),AG$6,"")) | AH148: =IF($E148=1,"",IF(AND($F148>=AH$2,$F148<=AH$4),AH$6,"")) | ... AL148: =IF($E148=1,"",IF(AND($F148>=AL$2,$F148<=AL$4),AL$6,"")) | AM148: =IF(H148="","",VLOOKUP(H148,popisky,4,0)) | AN148: =IF(ISERROR(HLOOKUP(H148,$L$1:$AL$5,5,0)),"",HLOOKUP(H148,$L$1:$AL$5,5,0)) | AO148: =IF(H148="","",VLOOKUP(H148,popisky,10,0)) | AP148: =IF(H148="","",VLOOKUP(H148,popisky,5,0) & " - " & VLOOKUP(H148,popisky,6,0))
A149: =IF(C148="","",MAX($A$7:A148)+1) | E149: =IF(C149="","",IF(MID(C149,LEN(C149),1)="á",0,1)) | H149: =CONCATENATE(L149,M149,N149,O149,P149,Q149,R149,S149,T149,U149,V149,W149,AA149,AB149,AC149,AD149,AE149,AF149,AG149,AH149,AI149,X149,Y149,Z149,AJ149,AK149,AL149) | I149: =IF(AO149="","",AO149 & " m") | J149: =IF(H149="","",VLOOKUP(H149,Kategorie!$A$4:$J$35,8,FALSE)) | L149: =IF($E149=0,"",IF(AND($F149>=L$2,$F149<=L$4),L$6,"")) | M149: =IF($E149=0,"",IF(AND($F149>=M$2,$F149<=M$4),M$6,"")) | N149: =IF($E149=0,"",IF(AND($F149>=N$2,$F149<=N$4),N$6,"")) | O149: =IF($E149=0,"",IF(AND($F149>=O$2,$F149<=O$4),O$6,"")) | P149: =IF($E149=0,"",IF(AND($F149>=P$2,$F149<=P$4),P$6,"")) | Q149: =IF($E149=0,"",IF(AND($F149>=Q$2,$F149<=Q$4),Q$6,"")) | R149: =IF($E149=0,"",IF(AND($F149>=R$2,$F149<=R$4),R$6,"")) | S149: =IF($E149=0,"",IF(AND($F149>=S$2,$F149<=S$4),S$6,"")) | ... X149: =IF($E149=0,"",IF(AND($F149>=X$2,$F149<=X$4),X$6,"")) | AA149: =IF($E149=1,"",IF(AND($F149>=AA$2,$F149<=AA$4),AA$6,"")) | AB149: =IF($E149=1,"",IF(AND($F149>=AB$2,$F149<=AB$4),AB$6,"")) | AC149: =IF($E149=1,"",IF(AND($F149>=AC$2,$F149<=AC$4),AC$6,"")) | AD149: =IF($E149=1,"",IF(AND($F149>=AD$2,$F149<=AD$4),AD$6,"")) | AE149: =IF($E149=1,"",IF(AND($F149>=AE$2,$F149<=AE$4),AE$6,"")) | AF149: =IF($E149=1,"",IF(AND($F149>=AF$2,$F149<=AF$4),AF$6,"")) | AG149: =IF($E149=1,"",IF(AND($F149>=AG$2,$F149<=AG$4),AG$6,"")) | AH149: =IF($E149=1,"",IF(AND($F149>=AH$2,$F149<=AH$4),AH$6,"")) | ... AL149: =IF($E149=1,"",IF(AND($F149>=AL$2,$F149<=AL$4),AL$6,"")) | AM149: =IF(H149="","",VLOOKUP(H149,popisky,4,0)) | AN149: =IF(ISERROR(HLOOKUP(H149,$L$1:$AL$5,5,0)),"",HLOOKUP(H149,$L$1:$AL$5,5,0)) | AO149: =IF(H149="","",VLOOKUP(H149,popisky,10,0)) | AP149: =IF(H149="","",VLOOKUP(H149,popisky,5,0) & " - " & VLOOKUP(H149,popisky,6,0))
A150: =IF(C149="","",MAX($A$7:A149)+1) | E150: =IF(C150="","",IF(MID(C150,LEN(C150),1)="á",0,1)) | H150: =CONCATENATE(L150,M150,N150,O150,P150,Q150,R150,S150,T150,U150,V150,W150,AA150,AB150,AC150,AD150,AE150,AF150,AG150,AH150,AI150,X150,Y150,Z150,AJ150,AK150,AL150) | I150: =IF(AO150="","",AO150 & " m") | J150: =IF(H150="","",VLOOKUP(H150,Kategorie!$A$4:$J$35,8,FALSE)) | L150: =IF($E150=0,"",IF(AND($F150>=L$2,$F150<=L$4),L$6,"")) | M150: =IF($E150=0,"",IF(AND($F150>=M$2,$F150<=M$4),M$6,"")) | N150: =IF($E150=0,"",IF(AND($F150>=N$2,$F150<=N$4),N$6,"")) | O150: =IF($E150=0,"",IF(AND($F150>=O$2,$F150<=O$4),O$6,"")) | P150: =IF($E150=0,"",IF(AND($F150>=P$2,$F150<=P$4),P$6,"")) | Q150: =IF($E150=0,"",IF(AND($F150>=Q$2,$F150<=Q$4),Q$6,"")) | R150: =IF($E150=0,"",IF(AND($F150>=R$2,$F150<=R$4),R$6,"")) | S150: =IF($E150=0,"",IF(AND($F150>=S$2,$F150<=S$4),S$6,"")) | ... X150: =IF($E150=0,"",IF(AND($F150>=X$2,$F150<=X$4),X$6,"")) | AA150: =IF($E150=1,"",IF(AND($F150>=AA$2,$F150<=AA$4),AA$6,"")) | AB150: =IF($E150=1,"",IF(AND($F150>=AB$2,$F150<=AB$4),AB$6,"")) | AC150: =IF($E150=1,"",IF(AND($F150>=AC$2,$F150<=AC$4),AC$6,"")) | AD150: =IF($E150=1,"",IF(AND($F150>=AD$2,$F150<=AD$4),AD$6,"")) | AE150: =IF($E150=1,"",IF(AND($F150>=AE$2,$F150<=AE$4),AE$6,"")) | AF150: =IF($E150=1,"",IF(AND($F150>=AF$2,$F150<=AF$4),AF$6,"")) | AG150: =IF($E150=1,"",IF(AND($F150>=AG$2,$F150<=AG$4),AG$6,"")) | AH150: =IF($E150=1,"",IF(AND($F150>=AH$2,$F150<=AH$4),AH$6,"")) | ... AL150: =IF($E150=1,"",IF(AND($F150>=AL$2,$F150<=AL$4),AL$6,"")) | AM150: =IF(H150="","",VLOOKUP(H150,popisky,4,0)) | AN150: =IF(ISERROR(HLOOKUP(H150,$L$1:$AL$5,5,0)),"",HLOOKUP(H150,$L$1:$AL$5,5,0)) | AO150: =IF(H150="","",VLOOKUP(H150,popisky,10,0)) | AP150: =IF(H150="","",VLOOKUP(H150,popisky,5,0) & " - " & VLOOKUP(H150,popisky,6,0))
A151: =IF(C150="","",MAX($A$7:A150)+1) | E151: =IF(C151="","",IF(MID(C151,LEN(C151),1)="á",0,1)) | H151: =CONCATENATE(L151,M151,N151,O151,P151,Q151,R151,S151,T151,U151,V151,W151,AA151,AB151,AC151,AD151,AE151,AF151,AG151,AH151,AI151,X151,Y151,Z151,AJ151,AK151,AL151) | I151: =IF(AO151="","",AO151 & " m") | J151: =IF(H151="","",VLOOKUP(H151,Kategorie!$A$4:$J$35,8,FALSE)) | L151: =IF($E151=0,"",IF(AND($F151>=L$2,$F151<=L$4),L$6,"")) | M151: =IF($E151=0,"",IF(AND($F151>=M$2,$F151<=M$4),M$6,"")) | N151: =IF($E151=0,"",IF(AND($F151>=N$2,$F151<=N$4),N$6,"")) | O151: =IF($E151=0,"",IF(AND($F151>=O$2,$F151<=O$4),O$6,"")) | P151: =IF($E151=0,"",IF(AND($F151>=P$2,$F151<=P$4),P$6,"")) | Q151: =IF($E151=0,"",IF(AND($F151>=Q$2,$F151<=Q$4),Q$6,"")) | R151: =IF($E151=0,"",IF(AND($F151>=R$2,$F151<=R$4),R$6,"")) | S151: =IF($E151=0,"",IF(AND($F151>=S$2,$F151<=S$4),S$6,"")) | ... X151: =IF($E151=0,"",IF(AND($F151>=X$2,$F151<=X$4),X$6,"")) | AA151: =IF($E151=1,"",IF(AND($F151>=AA$2,$F151<=AA$4),AA$6,"")) | AB151: =IF($E151=1,"",IF(AND($F151>=AB$2,$F151<=AB$4),AB$6,"")) | AC151: =IF($E151=1,"",IF(AND($F151>=AC$2,$F151<=AC$4),AC$6,"")) | AD151: =IF($E151=1,"",IF(AND($F151>=AD$2,$F151<=AD$4),AD$6,"")) | AE151: =IF($E151=1,"",IF(AND($F151>=AE$2,$F151<=AE$4),AE$6,"")) | AF151: =IF($E151=1,"",IF(AND($F151>=AF$2,$F151<=AF$4),AF$6,"")) | AG151: =IF($E151=1,"",IF(AND($F151>=AG$2,$F151<=AG$4),AG$6,"")) | AH151: =IF($E151=1,"",IF(AND($F151>=AH$2,$F151<=AH$4),AH$6,"")) | ... AL151: =IF($E151=1,"",IF(AND($F151>=AL$2,$F151<=AL$4),AL$6,"")) | AM151: =IF(H151="","",VLOOKUP(H151,popisky,4,0)) | AN151: =IF(ISERROR(HLOOKUP(H151,$L$1:$AL$5,5,0)),"",HLOOKUP(H151,$L$1:$AL$5,5,0)) | AO151: =IF(H151="","",VLOOKUP(H151,popisky,10,0)) | AP151: =IF(H151="","",VLOOKUP(H151,popisky,5,0) & " - " & VLOOKUP(H151,popisky,6,0))
A152: =IF(C151="","",MAX($A$7:A151)+1) | E152: =IF(C152="","",IF(MID(C152,LEN(C152),1)="á",0,1)) | H152: =CONCATENATE(L152,M152,N152,O152,P152,Q152,R152,S152,T152,U152,V152,W152,AA152,AB152,AC152,AD152,AE152,AF152,AG152,AH152,AI152,X152,Y152,Z152,AJ152,AK152,AL152) | I152: =IF(AO152="","",AO152 & " m") | J152: =IF(H152="","",VLOOKUP(H152,Kategorie!$A$4:$J$35,8,FALSE)) | L152: =IF($E152=0,"",IF(AND($F152>=L$2,$F152<=L$4),L$6,"")) | M152: =IF($E152=0,"",IF(AND($F152>=M$2,$F152<=M$4),M$6,"")) | N152: =IF($E152=0,"",IF(AND($F152>=N$2,$F152<=N$4),N$6,"")) | O152: =IF($E152=0,"",IF(AND($F152>=O$2,$F152<=O$4),O$6,"")) | P152: =IF($E152=0,"",IF(AND($F152>=P$2,$F152<=P$4),P$6,"")) | Q152: =IF($E152=0,"",IF(AND($F152>=Q$2,$F152<=Q$4),Q$6,"")) | R152: =IF($E152=0,"",IF(AND($F152>=R$2,$F152<=R$4),R$6,"")) | S152: =IF($E152=0,"",IF(AND($F152>=S$2,$F152<=S$4),S$6,"")) | ... X152: =IF($E152=0,"",IF(AND($F152>=X$2,$F152<=X$4),X$6,"")) | AA152: =IF($E152=1,"",IF(AND($F152>=AA$2,$F152<=AA$4),AA$6,"")) | AB152: =IF($E152=1,"",IF(AND($F152>=AB$2,$F152<=AB$4),AB$6,"")) | AC152: =IF($E152=1,"",IF(AND($F152>=AC$2,$F152<=AC$4),AC$6,"")) | AD152: =IF($E152=1,"",IF(AND($F152>=AD$2,$F152<=AD$4),AD$6,"")) | AE152: =IF($E152=1,"",IF(AND($F152>=AE$2,$F152<=AE$4),AE$6,"")) | AF152: =IF($E152=1,"",IF(AND($F152>=AF$2,$F152<=AF$4),AF$6,"")) | AG152: =IF($E152=1,"",IF(AND($F152>=AG$2,$F152<=AG$4),AG$6,"")) | AH152: =IF($E152=1,"",IF(AND($F152>=AH$2,$F152<=AH$4),AH$6,"")) | ... AL152: =IF($E152=1,"",IF(AND($F152>=AL$2,$F152<=AL$4),AL$6,"")) | AM152: =IF(H152="","",VLOOKUP(H152,popisky,4,0)) | AN152: =IF(ISERROR(HLOOKUP(H152,$L$1:$AL$5,5,0)),"",HLOOKUP(H152,$L$1:$AL$5,5,0)) | AO152: =IF(H152="","",VLOOKUP(H152,popisky,10,0)) | AP152: =IF(H152="","",VLOOKUP(H152,popisky,5,0) & " - " & VLOOKUP(H152,popisky,6,0))
A153: =IF(C152="","",MAX($A$7:A152)+1) | E153: =IF(C153="","",IF(MID(C153,LEN(C153),1)="á",0,1)) | H153: =CONCATENATE(L153,M153,N153,O153,P153,Q153,R153,S153,T153,U153,V153,W153,AA153,AB153,AC153,AD153,AE153,AF153,AG153,AH153,AI153,X153,Y153,Z153,AJ153,AK153,AL153) | I153: =IF(AO153="","",AO153 & " m") | J153: =IF(H153="","",VLOOKUP(H153,Kategorie!$A$4:$J$35,8,FALSE)) | L153: =IF($E153=0,"",IF(AND($F153>=L$2,$F153<=L$4),L$6,"")) | M153: =IF($E153=0,"",IF(AND($F153>=M$2,$F153<=M$4),M$6,"")) | N153: =IF($E153=0,"",IF(AND($F153>=N$2,$F153<=N$4),N$6,"")) | O153: =IF($E153=0,"",IF(AND($F153>=O$2,$F153<=O$4),O$6,"")) | P153: =IF($E153=0,"",IF(AND($F153>=P$2,$F153<=P$4),P$6,"")) | Q153: =IF($E153=0,"",IF(AND($F153>=Q$2,$F153<=Q$4),Q$6,"")) | R153: =IF($E153=0,"",IF(AND($F153>=R$2,$F153<=R$4),R$6,"")) | S153: =IF($E153=0,"",IF(AND($F153>=S$2,$F153<=S$4),S$6,"")) | ... X153: =IF($E153=0,"",IF(AND($F153>=X$2,$F153<=X$4),X$6,"")) | AA153: =IF($E153=1,"",IF(AND($F153>=AA$2,$F153<=AA$4),AA$6,"")) | AB153: =IF($E153=1,"",IF(AND($F153>=AB$2,$F153<=AB$4),AB$6,"")) | AC153: =IF($E153=1,"",IF(AND($F153>=AC$2,$F153<=AC$4),AC$6,"")) | AD153: =IF($E153=1,"",IF(AND($F153>=AD$2,$F153<=AD$4),AD$6,"")) | AE153: =IF($E153=1,"",IF(AND($F153>=AE$2,$F153<=AE$4),AE$6,"")) | AF153: =IF($E153=1,"",IF(AND($F153>=AF$2,$F153<=AF$4),AF$6,"")) | AG153: =IF($E153=1,"",IF(AND($F153>=AG$2,$F153<=AG$4),AG$6,"")) | AH153: =IF($E153=1,"",IF(AND($F153>=AH$2,$F153<=AH$4),AH$6,"")) | ... AL153: =IF($E153=1,"",IF(AND($F153>=AL$2,$F153<=AL$4),AL$6,"")) | AM153: =IF(H153="","",VLOOKUP(H153,popisky,4,0)) | AN153: =IF(ISERROR(HLOOKUP(H153,$L$1:$AL$5,5,0)),"",HLOOKUP(H153,$L$1:$AL$5,5,0)) | AO153: =IF(H153="","",VLOOKUP(H153,popisky,10,0)) | AP153: =IF(H153="","",VLOOKUP(H153,popisky,5,0) & " - " & VLOOKUP(H153,popisky,6,0))
A154: =IF(C153="","",MAX($A$7:A153)+1) | B154: =IF(C154<>"",MAX($B$7:B153)+1,"") | E154: =IF(C154="","",IF(MID(C154,LEN(C154),1)="á",0,1)) | H154: =CONCATENATE(L154,M154,N154,O154,P154,Q154,R154,S154,T154,U154,V154,W154,AA154,AB154,AC154,AD154,AE154,AF154,AG154,AH154,AI154,X154,Y154,Z154,AJ154,AK154,AL154) | I154: =IF(AO154="","",AO154 & " m") | J154: =IF(H154="","",VLOOKUP(H154,Kategorie!$A$4:$J$35,8,FALSE)) | L154: =IF($E154=0,"",IF(AND($F154>=L$2,$F154<=L$4),L$6,"")) | M154: =IF($E154=0,"",IF(AND($F154>=M$2,$F154<=M$4),M$6,"")) | N154: =IF($E154=0,"",IF(AND($F154>=N$2,$F154<=N$4),N$6,"")) | O154: =IF($E154=0,"",IF(AND($F154>=O$2,$F154<=O$4),O$6,"")) | P154: =IF($E154=0,"",IF(AND($F154>=P$2,$F154<=P$4),P$6,"")) | Q154: =IF($E154=0,"",IF(AND($F154>=Q$2,$F154<=Q$4),Q$6,"")) | R154: =IF($E154=0,"",IF(AND($F154>=R$2,$F154<=R$4),R$6,"")) | S154: =IF($E154=0,"",IF(AND($F154>=S$2,$F154<=S$4),S$6,"")) | ... X154: =IF($E154=0,"",IF(AND($F154>=X$2,$F154<=X$4),X$6,"")) | AA154: =IF($E154=1,"",IF(AND($F154>=AA$2,$F154<=AA$4),AA$6,"")) | AB154: =IF($E154=1,"",IF(AND($F154>=AB$2,$F154<=AB$4),AB$6,"")) | AC154: =IF($E154=1,"",IF(AND($F154>=AC$2,$F154<=AC$4),AC$6,"")) | AD154: =IF($E154=1,"",IF(AND($F154>=AD$2,$F154<=AD$4),AD$6,"")) | AE154: =IF($E154=1,"",IF(AND($F154>=AE$2,$F154<=AE$4),AE$6,"")) | AF154: =IF($E154=1,"",IF(AND($F154>=AF$2,$F154<=AF$4),AF$6,"")) | AG154: =IF($E154=1,"",IF(AND($F154>=AG$2,$F154<=AG$4),AG$6,"")) | AH154: =IF($E154=1,"",IF(AND($F154>=AH$2,$F154<=AH$4),AH$6,"")) | ... AL154: =IF($E154=1,"",IF(AND($F154>=AL$2,$F154<=AL$4),AL$6,"")) | AM154: =IF(H154="","",VLOOKUP(H154,popisky,4,0)) | AN154: =IF(ISERROR(HLOOKUP(H154,$L$1:$AL$5,5,0)),"",HLOOKUP(H154,$L$1:$AL$5,5,0)) | AO154: =IF(H154="","",VLOOKUP(H154,popisky,10,0)) | AP154: =IF(H154="","",VLOOKUP(H154,popisky,5,0) & " - " & VLOOKUP(H154,popisky,6,0))
A155: =IF(C154="","",MAX($A$7:A154)+1) | B155: =IF(C155<>"",MAX($B$7:B154)+1,"") | E155: =IF(C155="","",IF(MID(C155,LEN(C155),1)="á",0,1)) | H155: =CONCATENATE(L155,M155,N155,O155,P155,Q155,R155,S155,T155,U155,V155,W155,AA155,AB155,AC155,AD155,AE155,AF155,AG155,AH155,AI155,X155,Y155,Z155,AJ155,AK155,AL155) | I155: =IF(AO155="","",AO155 & " m") | J155: =IF(H155="","",VLOOKUP(H155,Kategorie!$A$4:$J$35,8,FALSE)) | L155: =IF($E155=0,"",IF(AND($F155>=L$2,$F155<=L$4),L$6,"")) | M155: =IF($E155=0,"",IF(AND($F155>=M$2,$F155<=M$4),M$6,"")) | N155: =IF($E155=0,"",IF(AND($F155>=N$2,$F155<=N$4),N$6,"")) | O155: =IF($E155=0,"",IF(AND($F155>=O$2,$F155<=O$4),O$6,"")) | P155: =IF($E155=0,"",IF(AND($F155>=P$2,$F155<=P$4),P$6,"")) | Q155: =IF($E155=0,"",IF(AND($F155>=Q$2,$F155<=Q$4),Q$6,"")) | R155: =IF($E155=0,"",IF(AND($F155>=R$2,$F155<=R$4),R$6,"")) | S155: =IF($E155=0,"",IF(AND($F155>=S$2,$F155<=S$4),S$6,"")) | ... X155: =IF($E155=0,"",IF(AND($F155>=X$2,$F155<=X$4),X$6,"")) | AA155: =IF($E155=1,"",IF(AND($F155>=AA$2,$F155<=AA$4),AA$6,"")) | AB155: =IF($E155=1,"",IF(AND($F155>=AB$2,$F155<=AB$4),AB$6,"")) | AC155: =IF($E155=1,"",IF(AND($F155>=AC$2,$F155<=AC$4),AC$6,"")) | AD155: =IF($E155=1,"",IF(AND($F155>=AD$2,$F155<=AD$4),AD$6,"")) | AE155: =IF($E155=1,"",IF(AND($F155>=AE$2,$F155<=AE$4),AE$6,"")) | AF155: =IF($E155=1,"",IF(AND($F155>=AF$2,$F155<=AF$4),AF$6,"")) | AG155: =IF($E155=1,"",IF(AND($F155>=AG$2,$F155<=AG$4),AG$6,"")) | AH155: =IF($E155=1,"",IF(AND($F155>=AH$2,$F155<=AH$4),AH$6,"")) | ... AL155: =IF($E155=1,"",IF(AND($F155>=AL$2,$F155<=AL$4),AL$6,"")) | AM155: =IF(H155="","",VLOOKUP(H155,popisky,4,0)) | AN155: =IF(ISERROR(HLOOKUP(H155,$L$1:$AL$5,5,0)),"",HLOOKUP(H155,$L$1:$AL$5,5,0)) | AO155: =IF(H155="","",VLOOKUP(H155,popisky,10,0)) | AP155: =IF(H155="","",VLOOKUP(H155,popisky,5,0) & " - " & VLOOKUP(H155,popisky,6,0))
A156: =IF(C155="","",MAX($A$7:A155)+1) | B156: =IF(C156<>"",MAX($B$7:B155)+1,"") | E156: =IF(C156="","",IF(MID(C156,LEN(C156),1)="á",0,1)) | H156: =CONCATENATE(L156,M156,N156,O156,P156,Q156,R156,S156,T156,U156,V156,W156,AA156,AB156,AC156,AD156,AE156,AF156,AG156,AH156,AI156,X156,Y156,Z156,AJ156,AK156,AL156) | I156: =IF(AO156="","",AO156 & " m") | J156: =IF(H156="","",VLOOKUP(H156,Kategorie!$A$4:$J$35,8,FALSE)) | L156: =IF($E156=0,"",IF(AND($F156>=L$2,$F156<=L$4),L$6,"")) | M156: =IF($E156=0,"",IF(AND($F156>=M$2,$F156<=M$4),M$6,"")) | N156: =IF($E156=0,"",IF(AND($F156>=N$2,$F156<=N$4),N$6,"")) | O156: =IF($E156=0,"",IF(AND($F156>=O$2,$F156<=O$4),O$6,"")) | P156: =IF($E156=0,"",IF(AND($F156>=P$2,$F156<=P$4),P$6,"")) | Q156: =IF($E156=0,"",IF(AND($F156>=Q$2,$F156<=Q$4),Q$6,"")) | R156: =IF($E156=0,"",IF(AND($F156>=R$2,$F156<=R$4),R$6,"")) | S156: =IF($E156=0,"",IF(AND($F156>=S$2,$F156<=S$4),S$6,"")) | ... X156: =IF($E156=0,"",IF(AND($F156>=X$2,$F156<=X$4),X$6,"")) | AA156: =IF($E156=1,"",IF(AND($F156>=AA$2,$F156<=AA$4),AA$6,"")) | AB156: =IF($E156=1,"",IF(AND($F156>=AB$2,$F156<=AB$4),AB$6,"")) | AC156: =IF($E156=1,"",IF(AND($F156>=AC$2,$F156<=AC$4),AC$6,"")) | AD156: =IF($E156=1,"",IF(AND($F156>=AD$2,$F156<=AD$4),AD$6,"")) | AE156: =IF($E156=1,"",IF(AND($F156>=AE$2,$F156<=AE$4),AE$6,"")) | AF156: =IF($E156=1,"",IF(AND($F156>=AF$2,$F156<=AF$4),AF$6,"")) | AG156: =IF($E156=1,"",IF(AND($F156>=AG$2,$F156<=AG$4),AG$6,"")) | AH156: =IF($E156=1,"",IF(AND($F156>=AH$2,$F156<=AH$4),AH$6,"")) | ... AL156: =IF($E156=1,"",IF(AND($F156>=AL$2,$F156<=AL$4),AL$6,"")) | AM156: =IF(H156="","",VLOOKUP(H156,popisky,4,0)) | AN156: =IF(ISERROR(HLOOKUP(H156,$L$1:$AL$5,5,0)),"",HLOOKUP(H156,$L$1:$AL$5,5,0)) | AO156: =IF(H156="","",VLOOKUP(H156,popisky,10,0)) | AP156: =IF(H156="","",VLOOKUP(H156,popisky,5,0) & " - " & VLOOKUP(H156,popisky,6,0))
A157: =IF(C156="","",MAX($A$7:A156)+1) | B157: =IF(C157<>"",MAX($B$7:B156)+1,"") | E157: =IF(C157="","",IF(MID(C157,LEN(C157),1)="á",0,1)) | H157: =CONCATENATE(L157,M157,N157,O157,P157,Q157,R157,S157,T157,U157,V157,W157,AA157,AB157,AC157,AD157,AE157,AF157,AG157,AH157,AI157,X157,Y157,Z157,AJ157,AK157,AL157) | I157: =IF(AO157="","",AO157 & " m") | J157: =IF(H157="","",VLOOKUP(H157,Kategorie!$A$4:$J$35,8,FALSE)) | L157: =IF($E157=0,"",IF(AND($F157>=L$2,$F157<=L$4),L$6,"")) | M157: =IF($E157=0,"",IF(AND($F157>=M$2,$F157<=M$4),M$6,"")) | N157: =IF($E157=0,"",IF(AND($F157>=N$2,$F157<=N$4),N$6,"")) | O157: =IF($E157=0,"",IF(AND($F157>=O$2,$F157<=O$4),O$6,"")) | P157: =IF($E157=0,"",IF(AND($F157>=P$2,$F157<=P$4),P$6,"")) | Q157: =IF($E157=0,"",IF(AND($F157>=Q$2,$F157<=Q$4),Q$6,"")) | R157: =IF($E157=0,"",IF(AND($F157>=R$2,$F157<=R$4),R$6,"")) | S157: =IF($E157=0,"",IF(AND($F157>=S$2,$F157<=S$4),S$6,"")) | ... X157: =IF($E157=0,"",IF(AND($F157>=X$2,$F157<=X$4),X$6,"")) | AA157: =IF($E157=1,"",IF(AND($F157>=AA$2,$F157<=AA$4),AA$6,"")) | AB157: =IF($E157=1,"",IF(AND($F157>=AB$2,$F157<=AB$4),AB$6,"")) | AC157: =IF($E157=1,"",IF(AND($F157>=AC$2,$F157<=AC$4),AC$6,"")) | AD157: =IF($E157=1,"",IF(AND($F157>=AD$2,$F157<=AD$4),AD$6,"")) | AE157: =IF($E157=1,"",IF(AND($F157>=AE$2,$F157<=AE$4),AE$6,"")) | AF157: =IF($E157=1,"",IF(AND($F157>=AF$2,$F157<=AF$4),AF$6,"")) | AG157: =IF($E157=1,"",IF(AND($F157>=AG$2,$F157<=AG$4),AG$6,"")) | AH157: =IF($E157=1,"",IF(AND($F157>=AH$2,$F157<=AH$4),AH$6,"")) | ... AL157: =IF($E157=1,"",IF(AND($F157>=AL$2,$F157<=AL$4),AL$6,"")) | AM157: =IF(H157="","",VLOOKUP(H157,popisky,4,0)) | AN157: =IF(ISERROR(HLOOKUP(H157,$L$1:$AL$5,5,0)),"",HLOOKUP(H157,$L$1:$AL$5,5,0)) | AO157: =IF(H157="","",VLOOKUP(H157,popisky,10,0)) | AP157: =IF(H157="","",VLOOKUP(H157,popisky,5,0) & " - " & VLOOKUP(H157,popisky,6,0))
A158: =IF(C157="","",MAX($A$7:A157)+1) | B158: =IF(C158<>"",MAX($B$7:B157)+1,"") | E158: =IF(C158="","",IF(MID(C158,LEN(C158),1)="á",0,1)) | H158: =CONCATENATE(L158,M158,N158,O158,P158,Q158,R158,S158,T158,U158,V158,W158,AA158,AB158,AC158,AD158,AE158,AF158,AG158,AH158,AI158,X158,Y158,Z158,AJ158,AK158,AL158) | I158: =IF(AO158="","",AO158 & " m") | J158: =IF(H158="","",VLOOKUP(H158,Kategorie!$A$4:$J$35,8,FALSE)) | L158: =IF($E158=0,"",IF(AND($F158>=L$2,$F158<=L$4),L$6,"")) | M158: =IF($E158=0,"",IF(AND($F158>=M$2,$F158<=M$4),M$6,"")) | N158: =IF($E158=0,"",IF(AND($F158>=N$2,$F158<=N$4),N$6,"")) | O158: =IF($E158=0,"",IF(AND($F158>=O$2,$F158<=O$4),O$6,"")) | P158: =IF($E158=0,"",IF(AND($F158>=P$2,$F158<=P$4),P$6,"")) | Q158: =IF($E158=0,"",IF(AND($F158>=Q$2,$F158<=Q$4),Q$6,"")) | R158: =IF($E158=0,"",IF(AND($F158>=R$2,$F158<=R$4),R$6,"")) | S158: =IF($E158=0,"",IF(AND($F158>=S$2,$F158<=S$4),S$6,"")) | ... X158: =IF($E158=0,"",IF(AND($F158>=X$2,$F158<=X$4),X$6,"")) | AA158: =IF($E158=1,"",IF(AND($F158>=AA$2,$F158<=AA$4),AA$6,"")) | AB158: =IF($E158=1,"",IF(AND($F158>=AB$2,$F158<=AB$4),AB$6,"")) | AC158: =IF($E158=1,"",IF(AND($F158>=AC$2,$F158<=AC$4),AC$6,"")) | AD158: =IF($E158=1,"",IF(AND($F158>=AD$2,$F158<=AD$4),AD$6,"")) | AE158: =IF($E158=1,"",IF(AND($F158>=AE$2,$F158<=AE$4),AE$6,"")) | AF158: =IF($E158=1,"",IF(AND($F158>=AF$2,$F158<=AF$4),AF$6,"")) | AG158: =IF($E158=1,"",IF(AND($F158>=AG$2,$F158<=AG$4),AG$6,"")) | AH158: =IF($E158=1,"",IF(AND($F158>=AH$2,$F158<=AH$4),AH$6,"")) | ... AL158: =IF($E158=1,"",IF(AND($F158>=AL$2,$F158<=AL$4),AL$6,"")) | AM158: =IF(H158="","",VLOOKUP(H158,popisky,4,0)) | AN158: =IF(ISERROR(HLOOKUP(H158,$L$1:$AL$5,5,0)),"",HLOOKUP(H158,$L$1:$AL$5,5,0)) | AO158: =IF(H158="","",VLOOKUP(H158,popisky,10,0)) | AP158: =IF(H158="","",VLOOKUP(H158,popisky,5,0) & " - " & VLOOKUP(H158,popisky,6,0))
A159: =IF(C158="","",MAX($A$7:A158)+1) | B159: =IF(C159<>"",MAX($B$7:B158)+1,"") | E159: =IF(C159="","",IF(MID(C159,LEN(C159),1)="á",0,1)) | H159: =CONCATENATE(L159,M159,N159,O159,P159,Q159,R159,S159,T159,U159,V159,W159,AA159,AB159,AC159,AD159,AE159,AF159,AG159,AH159,AI159,X159,Y159,Z159,AJ159,AK159,AL159) | I159: =IF(AO159="","",AO159 & " m") | J159: =IF(H159="","",VLOOKUP(H159,Kategorie!$A$4:$J$35,8,FALSE)) | L159: =IF($E159=0,"",IF(AND($F159>=L$2,$F159<=L$4),L$6,"")) | M159: =IF($E159=0,"",IF(AND($F159>=M$2,$F159<=M$4),M$6,"")) | N159: =IF($E159=0,"",IF(AND($F159>=N$2,$F159<=N$4),N$6,"")) | O159: =IF($E159=0,"",IF(AND($F159>=O$2,$F159<=O$4),O$6,"")) | P159: =IF($E159=0,"",IF(AND($F159>=P$2,$F159<=P$4),P$6,"")) | Q159: =IF($E159=0,"",IF(AND($F159>=Q$2,$F159<=Q$4),Q$6,"")) | R159: =IF($E159=0,"",IF(AND($F159>=R$2,$F159<=R$4),R$6,"")) | S159: =IF($E159=0,"",IF(AND($F159>=S$2,$F159<=S$4),S$6,"")) | ... X159: =IF($E159=0,"",IF(AND($F159>=X$2,$F159<=X$4),X$6,"")) | AA159: =IF($E159=1,"",IF(AND($F159>=AA$2,$F159<=AA$4),AA$6,"")) | AB159: =IF($E159=1,"",IF(AND($F159>=AB$2,$F159<=AB$4),AB$6,"")) | AC159: =IF($E159=1,"",IF(AND($F159>=AC$2,$F159<=AC$4),AC$6,"")) | AD159: =IF($E159=1,"",IF(AND($F159>=AD$2,$F159<=AD$4),AD$6,"")) | AE159: =IF($E159=1,"",IF(AND($F159>=AE$2,$F159<=AE$4),AE$6,"")) | AF159: =IF($E159=1,"",IF(AND($F159>=AF$2,$F159<=AF$4),AF$6,"")) | AG159: =IF($E159=1,"",IF(AND($F159>=AG$2,$F159<=AG$4),AG$6,"")) | AH159: =IF($E159=1,"",IF(AND($F159>=AH$2,$F159<=AH$4),AH$6,"")) | ... AL159: =IF($E159=1,"",IF(AND($F159>=AL$2,$F159<=AL$4),AL$6,"")) | AM159: =IF(H159="","",VLOOKUP(H159,popisky,4,0)) | AN159: =IF(ISERROR(HLOOKUP(H159,$L$1:$AL$5,5,0)),"",HLOOKUP(H159,$L$1:$AL$5,5,0)) | AO159: =IF(H159="","",VLOOKUP(H159,popisky,10,0)) | AP159: =IF(H159="","",VLOOKUP(H159,popisky,5,0) & " - " & VLOOKUP(H159,popisky,6,0))
A160: =IF(C159="","",MAX($A$7:A159)+1) | B160: =IF(C160<>"",MAX($B$7:B159)+1,"") | E160: =IF(C160="","",IF(MID(C160,LEN(C160),1)="á",0,1)) | H160: =CONCATENATE(L160,M160,N160,O160,P160,Q160,R160,S160,T160,U160,V160,W160,AA160,AB160,AC160,AD160,AE160,AF160,AG160,AH160,AI160,X160,Y160,Z160,AJ160,AK160,AL160) | I160: =IF(AO160="","",AO160 & " m") | J160: =IF(H160="","",VLOOKUP(H160,Kategorie!$A$4:$J$35,8,FALSE)) | L160: =IF($E160=0,"",IF(AND($F160>=L$2,$F160<=L$4),L$6,"")) | M160: =IF($E160=0,"",IF(AND($F160>=M$2,$F160<=M$4),M$6,"")) | N160: =IF($E160=0,"",IF(AND($F160>=N$2,$F160<=N$4),N$6,"")) | O160: =IF($E160=0,"",IF(AND($F160>=O$2,$F160<=O$4),O$6,"")) | P160: =IF($E160=0,"",IF(AND($F160>=P$2,$F160<=P$4),P$6,"")) | Q160: =IF($E160=0,"",IF(AND($F160>=Q$2,$F160<=Q$4),Q$6,"")) | R160: =IF($E160=0,"",IF(AND($F160>=R$2,$F160<=R$4),R$6,"")) | S160: =IF($E160=0,"",IF(AND($F160>=S$2,$F160<=S$4),S$6,"")) | ... X160: =IF($E160=0,"",IF(AND($F160>=X$2,$F160<=X$4),X$6,"")) | AA160: =IF($E160=1,"",IF(AND($F160>=AA$2,$F160<=AA$4),AA$6,"")) | AB160: =IF($E160=1,"",IF(AND($F160>=AB$2,$F160<=AB$4),AB$6,"")) | AC160: =IF($E160=1,"",IF(AND($F160>=AC$2,$F160<=AC$4),AC$6,"")) | AD160: =IF($E160=1,"",IF(AND($F160>=AD$2,$F160<=AD$4),AD$6,"")) | AE160: =IF($E160=1,"",IF(AND($F160>=AE$2,$F160<=AE$4),AE$6,"")) | AF160: =IF($E160=1,"",IF(AND($F160>=AF$2,$F160<=AF$4),AF$6,"")) | AG160: =IF($E160=1,"",IF(AND($F160>=AG$2,$F160<=AG$4),AG$6,"")) | AH160: =IF($E160=1,"",IF(AND($F160>=AH$2,$F160<=AH$4),AH$6,"")) | ... AL160: =IF($E160=1,"",IF(AND($F160>=AL$2,$F160<=AL$4),AL$6,"")) | AM160: =IF(H160="","",VLOOKUP(H160,popisky,4,0)) | AN160: =IF(ISERROR(HLOOKUP(H160,$L$1:$AL$5,5,0)),"",HLOOKUP(H160,$L$1:$AL$5,5,0)) | AO160: =IF(H160="","",VLOOKUP(H160,popisky,10,0)) | AP160: =IF(H160="","",VLOOKUP(H160,popisky,5,0) & " - " & VLOOKUP(H160,popisky,6,0))
A161: =IF(C160="","",MAX($A$7:A160)+1) | B161: =IF(C161<>"",MAX($B$7:B160)+1,"") | E161: =IF(C161="","",IF(MID(C161,LEN(C161),1)="á",0,1)) | H161: =CONCATENATE(L161,M161,N161,O161,P161,Q161,R161,S161,T161,U161,V161,W161,AA161,AB161,AC161,AD161,AE161,AF161,AG161,AH161,AI161,X161,Y161,Z161,AJ161,AK161,AL161) | I161: =IF(AO161="","",AO161 & " m") | J161: =IF(H161="","",VLOOKUP(H161,Kategorie!$A$4:$J$35,8,FALSE)) | L161: =IF($E161=0,"",IF(AND($F161>=L$2,$F161<=L$4),L$6,"")) | M161: =IF($E161=0,"",IF(AND($F161>=M$2,$F161<=M$4),M$6,"")) | N161: =IF($E161=0,"",IF(AND($F161>=N$2,$F161<=N$4),N$6,"")) | O161: =IF($E161=0,"",IF(AND($F161>=O$2,$F161<=O$4),O$6,"")) | P161: =IF($E161=0,"",IF(AND($F161>=P$2,$F161<=P$4),P$6,"")) | Q161: =IF($E161=0,"",IF(AND($F161>=Q$2,$F161<=Q$4),Q$6,"")) | R161: =IF($E161=0,"",IF(AND($F161>=R$2,$F161<=R$4),R$6,"")) | S161: =IF($E161=0,"",IF(AND($F161>=S$2,$F161<=S$4),S$6,"")) | ... X161: =IF($E161=0,"",IF(AND($F161>=X$2,$F161<=X$4),X$6,"")) | AA161: =IF($E161=1,"",IF(AND($F161>=AA$2,$F161<=AA$4),AA$6,"")) | AB161: =IF($E161=1,"",IF(AND($F161>=AB$2,$F161<=AB$4),AB$6,"")) | AC161: =IF($E161=1,"",IF(AND($F161>=AC$2,$F161<=AC$4),AC$6,"")) | AD161: =IF($E161=1,"",IF(AND($F161>=AD$2,$F161<=AD$4),AD$6,"")) | AE161: =IF($E161=1,"",IF(AND($F161>=AE$2,$F161<=AE$4),AE$6,"")) | AF161: =IF($E161=1,"",IF(AND($F161>=AF$2,$F161<=AF$4),AF$6,"")) | AG161: =IF($E161=1,"",IF(AND($F161>=AG$2,$F161<=AG$4),AG$6,"")) | AH161: =IF($E161=1,"",IF(AND($F161>=AH$2,$F161<=AH$4),AH$6,"")) | ... AL161: =IF($E161=1,"",IF(AND($F161>=AL$2,$F161<=AL$4),AL$6,"")) | AM161: =IF(H161="","",VLOOKUP(H161,popisky,4,0)) | AN161: =IF(ISERROR(HLOOKUP(H161,$L$1:$AL$5,5,0)),"",HLOOKUP(H161,$L$1:$AL$5,5,0)) | AO161: =IF(H161="","",VLOOKUP(H161,popisky,10,0)) | AP161: =IF(H161="","",VLOOKUP(H161,popisky,5,0) & " - " & VLOOKUP(H161,popisky,6,0))
A162: =IF(C161="","",MAX($A$7:A161)+1) | B162: =IF(C162<>"",MAX($B$7:B161)+1,"") | E162: =IF(C162="","",IF(MID(C162,LEN(C162),1)="á",0,1)) | H162: =CONCATENATE(L162,M162,N162,O162,P162,Q162,R162,S162,T162,U162,V162,W162,AA162,AB162,AC162,AD162,AE162,AF162,AG162,AH162,AI162,X162,Y162,Z162,AJ162,AK162,AL162) | I162: =IF(AO162="","",AO162 & " m") | J162: =IF(H162="","",VLOOKUP(H162,Kategorie!$A$4:$J$35,8,FALSE)) | L162: =IF($E162=0,"",IF(AND($F162>=L$2,$F162<=L$4),L$6,"")) | M162: =IF($E162=0,"",IF(AND($F162>=M$2,$F162<=M$4),M$6,"")) | N162: =IF($E162=0,"",IF(AND($F162>=N$2,$F162<=N$4),N$6,"")) | O162: =IF($E162=0,"",IF(AND($F162>=O$2,$F162<=O$4),O$6,"")) | P162: =IF($E162=0,"",IF(AND($F162>=P$2,$F162<=P$4),P$6,"")) | Q162: =IF($E162=0,"",IF(AND($F162>=Q$2,$F162<=Q$4),Q$6,"")) | R162: =IF($E162=0,"",IF(AND($F162>=R$2,$F162<=R$4),R$6,"")) | S162: =IF($E162=0,"",IF(AND($F162>=S$2,$F162<=S$4),S$6,"")) | ... X162: =IF($E162=0,"",IF(AND($F162>=X$2,$F162<=X$4),X$6,"")) | AA162: =IF($E162=1,"",IF(AND($F162>=AA$2,$F162<=AA$4),AA$6,"")) | AB162: =IF($E162=1,"",IF(AND($F162>=AB$2,$F162<=AB$4),AB$6,"")) | AC162: =IF($E162=1,"",IF(AND($F162>=AC$2,$F162<=AC$4),AC$6,"")) | AD162: =IF($E162=1,"",IF(AND($F162>=AD$2,$F162<=AD$4),AD$6,"")) | AE162: =IF($E162=1,"",IF(AND($F162>=AE$2,$F162<=AE$4),AE$6,"")) | AF162: =IF($E162=1,"",IF(AND($F162>=AF$2,$F162<=AF$4),AF$6,"")) | AG162: =IF($E162=1,"",IF(AND($F162>=AG$2,$F162<=AG$4),AG$6,"")) | AH162: =IF($E162=1,"",IF(AND($F162>=AH$2,$F162<=AH$4),AH$6,"")) | ... AL162: =IF($E162=1,"",IF(AND($F162>=AL$2,$F162<=AL$4),AL$6,"")) | AM162: =IF(H162="","",VLOOKUP(H162,popisky,4,0)) | AN162: =IF(ISERROR(HLOOKUP(H162,$L$1:$AL$5,5,0)),"",HLOOKUP(H162,$L$1:$AL$5,5,0)) | AO162: =IF(H162="","",VLOOKUP(H162,popisky,10,0)) | AP162: =IF(H162="","",VLOOKUP(H162,popisky,5,0) & " - " & VLOOKUP(H162,popisky,6,0))
A163: =IF(C162="","",MAX($A$7:A162)+1) | B163: =IF(C163<>"",MAX($B$7:B162)+1,"") | E163: =IF(C163="","",IF(MID(C163,LEN(C163),1)="á",0,1)) | H163: =CONCATENATE(L163,M163,N163,O163,P163,Q163,R163,S163,T163,U163,V163,W163,AA163,AB163,AC163,AD163,AE163,AF163,AG163,AH163,AI163,X163,Y163,Z163,AJ163,AK163,AL163) | I163: =IF(AO163="","",AO163 & " m") | J163: =IF(H163="","",VLOOKUP(H163,Kategorie!$A$4:$J$35,8,FALSE)) | L163: =IF($E163=0,"",IF(AND($F163>=L$2,$F163<=L$4),L$6,"")) | M163: =IF($E163=0,"",IF(AND($F163>=M$2,$F163<=M$4),M$6,"")) | N163: =IF($E163=0,"",IF(AND($F163>=N$2,$F163<=N$4),N$6,"")) | O163: =IF($E163=0,"",IF(AND($F163>=O$2,$F163<=O$4),O$6,"")) | P163: =IF($E163=0,"",IF(AND($F163>=P$2,$F163<=P$4),P$6,"")) | Q163: =IF($E163=0,"",IF(AND($F163>=Q$2,$F163<=Q$4),Q$6,"")) | R163: =IF($E163=0,"",IF(AND($F163>=R$2,$F163<=R$4),R$6,"")) | S163: =IF($E163=0,"",IF(AND($F163>=S$2,$F163<=S$4),S$6,"")) | ... X163: =IF($E163=0,"",IF(AND($F163>=X$2,$F163<=X$4),X$6,"")) | AA163: =IF($E163=1,"",IF(AND($F163>=AA$2,$F163<=AA$4),AA$6,"")) | AB163: =IF($E163=1,"",IF(AND($F163>=AB$2,$F163<=AB$4),AB$6,"")) | AC163: =IF($E163=1,"",IF(AND($F163>=AC$2,$F163<=AC$4),AC$6,"")) | AD163: =IF($E163=1,"",IF(AND($F163>=AD$2,$F163<=AD$4),AD$6,"")) | AE163: =IF($E163=1,"",IF(AND($F163>=AE$2,$F163<=AE$4),AE$6,"")) | AF163: =IF($E163=1,"",IF(AND($F163>=AF$2,$F163<=AF$4),AF$6,"")) | AG163: =IF($E163=1,"",IF(AND($F163>=AG$2,$F163<=AG$4),AG$6,"")) | AH163: =IF($E163=1,"",IF(AND($F163>=AH$2,$F163<=AH$4),AH$6,"")) | ... AL163: =IF($E163=1,"",IF(AND($F163>=AL$2,$F163<=AL$4),AL$6,"")) | AM163: =IF(H163="","",VLOOKUP(H163,popisky,4,0)) | AN163: =IF(ISERROR(HLOOKUP(H163,$L$1:$AL$5,5,0)),"",HLOOKUP(H163,$L$1:$AL$5,5,0)) | AO163: =IF(H163="","",VLOOKUP(H163,popisky,10,0)) | AP163: =IF(H163="","",VLOOKUP(H163,popisky,5,0) & " - " & VLOOKUP(H163,popisky,6,0))
A164: =IF(C163="","",MAX($A$7:A163)+1) | B164: =IF(C164<>"",MAX($B$7:B163)+1,"") | E164: =IF(C164="","",IF(MID(C164,LEN(C164),1)="á",0,1)) | H164: =CONCATENATE(L164,M164,N164,O164,P164,Q164,R164,S164,T164,U164,V164,W164,AA164,AB164,AC164,AD164,AE164,AF164,AG164,AH164,AI164,X164,Y164,Z164,AJ164,AK164,AL164) | I164: =IF(AO164="","",AO164 & " m") | J164: =IF(H164="","",VLOOKUP(H164,Kategorie!$A$4:$J$35,8,FALSE)) | L164: =IF($E164=0,"",IF(AND($F164>=L$2,$F164<=L$4),L$6,"")) | M164: =IF($E164=0,"",IF(AND($F164>=M$2,$F164<=M$4),M$6,"")) | N164: =IF($E164=0,"",IF(AND($F164>=N$2,$F164<=N$4),N$6,"")) | O164: =IF($E164=0,"",IF(AND($F164>=O$2,$F164<=O$4),O$6,"")) | P164: =IF($E164=0,"",IF(AND($F164>=P$2,$F164<=P$4),P$6,"")) | Q164: =IF($E164=0,"",IF(AND($F164>=Q$2,$F164<=Q$4),Q$6,"")) | R164: =IF($E164=0,"",IF(AND($F164>=R$2,$F164<=R$4),R$6,"")) | S164: =IF($E164=0,"",IF(AND($F164>=S$2,$F164<=S$4),S$6,"")) | ... X164: =IF($E164=0,"",IF(AND($F164>=X$2,$F164<=X$4),X$6,"")) | AA164: =IF($E164=1,"",IF(AND($F164>=AA$2,$F164<=AA$4),AA$6,"")) | AB164: =IF($E164=1,"",IF(AND($F164>=AB$2,$F164<=AB$4),AB$6,"")) | AC164: =IF($E164=1,"",IF(AND($F164>=AC$2,$F164<=AC$4),AC$6,"")) | AD164: =IF($E164=1,"",IF(AND($F164>=AD$2,$F164<=AD$4),AD$6,"")) | AE164: =IF($E164=1,"",IF(AND($F164>=AE$2,$F164<=AE$4),AE$6,"")) | AF164: =IF($E164=1,"",IF(AND($F164>=AF$2,$F164<=AF$4),AF$6,"")) | AG164: =IF($E164=1,"",IF(AND($F164>=AG$2,$F164<=AG$4),AG$6,"")) | AH164: =IF($E164=1,"",IF(AND($F164>=AH$2,$F164<=AH$4),AH$6,"")) | ... AL164: =IF($E164=1,"",IF(AND($F164>=AL$2,$F164<=AL$4),AL$6,"")) | AM164: =IF(H164="","",VLOOKUP(H164,popisky,4,0)) | AN164: =IF(ISERROR(HLOOKUP(H164,$L$1:$AL$5,5,0)),"",HLOOKUP(H164,$L$1:$AL$5,5,0)) | AO164: =IF(H164="","",VLOOKUP(H164,popisky,10,0)) | AP164: =IF(H164="","",VLOOKUP(H164,popisky,5,0) & " - " & VLOOKUP(H164,popisky,6,0))
A165: =IF(C164="","",MAX($A$7:A164)+1) | B165: =IF(C165<>"",MAX($B$7:B164)+1,"") | E165: =IF(C165="","",IF(MID(C165,LEN(C165),1)="á",0,1)) | H165: =CONCATENATE(L165,M165,N165,O165,P165,Q165,R165,S165,T165,U165,V165,W165,AA165,AB165,AC165,AD165,AE165,AF165,AG165,AH165,AI165,X165,Y165,Z165,AJ165,AK165,AL165) | I165: =IF(AO165="","",AO165 & " m") | J165: =IF(H165="","",VLOOKUP(H165,Kategorie!$A$4:$J$35,8,FALSE)) | L165: =IF($E165=0,"",IF(AND($F165>=L$2,$F165<=L$4),L$6,"")) | M165: =IF($E165=0,"",IF(AND($F165>=M$2,$F165<=M$4),M$6,"")) | N165: =IF($E165=0,"",IF(AND($F165>=N$2,$F165<=N$4),N$6,"")) | O165: =IF($E165=0,"",IF(AND($F165>=O$2,$F165<=O$4),O$6,"")) | P165: =IF($E165=0,"",IF(AND($F165>=P$2,$F165<=P$4),P$6,"")) | Q165: =IF($E165=0,"",IF(AND($F165>=Q$2,$F165<=Q$4),Q$6,"")) | R165: =IF($E165=0,"",IF(AND($F165>=R$2,$F165<=R$4),R$6,"")) | S165: =IF($E165=0,"",IF(AND($F165>=S$2,$F165<=S$4),S$6,"")) | ... X165: =IF($E165=0,"",IF(AND($F165>=X$2,$F165<=X$4),X$6,"")) | AA165: =IF($E165=1,"",IF(AND($F165>=AA$2,$F165<=AA$4),AA$6,"")) | AB165: =IF($E165=1,"",IF(AND($F165>=AB$2,$F165<=AB$4),AB$6,"")) | AC165: =IF($E165=1,"",IF(AND($F165>=AC$2,$F165<=AC$4),AC$6,"")) | AD165: =IF($E165=1,"",IF(AND($F165>=AD$2,$F165<=AD$4),AD$6,"")) | AE165: =IF($E165=1,"",IF(AND($F165>=AE$2,$F165<=AE$4),AE$6,"")) | AF165: =IF($E165=1,"",IF(AND($F165>=AF$2,$F165<=AF$4),AF$6,"")) | AG165: =IF($E165=1,"",IF(AND($F165>=AG$2,$F165<=AG$4),AG$6,"")) | AH165: =IF($E165=1,"",IF(AND($F165>=AH$2,$F165<=AH$4),AH$6,"")) | ... AL165: =IF($E165=1,"",IF(AND($F165>=AL$2,$F165<=AL$4),AL$6,"")) | AM165: =IF(H165="","",VLOOKUP(H165,popisky,4,0)) | AN165: =IF(ISERROR(HLOOKUP(H165,$L$1:$AL$5,5,0)),"",HLOOKUP(H165,$L$1:$AL$5,5,0)) | AO165: =IF(H165="","",VLOOKUP(H165,popisky,10,0)) | AP165: =IF(H165="","",VLOOKUP(H165,popisky,5,0) & " - " & VLOOKUP(H165,popisky,6,0))
... A355: =IF(C354="","",MAX($A$7:A354)+1) | B355: =IF(C355<>"",MAX($B$7:B354)+1,"") | E355: =IF(C355="","",IF(MID(C355,LEN(C355),1)="á",0,1)) | H355: =CONCATENATE(L355,M355,N355,O355,P355,Q355,R355,S355,T355,U355,V355,W355,AA355,AB355,AC355,AD355,AE355,AF355,AG355,AH355,AI355,X355,Y355,Z355,AJ355,AK355,AL355) | I355: =IF(AO355="","",AO355 & " m") | J355: =IF(H355="","",VLOOKUP(H355,Kategorie!$A$4:$J$35,8,FALSE)) | L355: =IF($E355=0,"",IF(AND($F355>=L$2,$F355<=L$4),L$6,"")) | M355: =IF($E355=0,"",IF(AND($F355>=M$2,$F355<=M$4),M$6,"")) | N355: =IF($E355=0,"",IF(AND($F355>=N$2,$F355<=N$4),N$6,"")) | O355: =IF($E355=0,"",IF(AND($F355>=O$2,$F355<=O$4),O$6,"")) | P355: =IF($E355=0,"",IF(AND($F355>=P$2,$F355<=P$4),P$6,"")) | Q355: =IF($E355=0,"",IF(AND($F355>=Q$2,$F355<=Q$4),Q$6,"")) | R355: =IF($E355=0,"",IF(AND($F355>=R$2,$F355<=R$4),R$6,"")) | S355: =IF($E355=0,"",IF(AND($F355>=S$2,$F355<=S$4),S$6,"")) | ... X355: =IF($E355=0,"",IF(AND($F355>=X$2,$F355<=X$4),X$6,"")) | AA355: =IF($E355=1,"",IF(AND($F355>=AA$2,$F355<=AA$4),AA$6,"")) | AB355: =IF($E355=1,"",IF(AND($F355>=AB$2,$F355<=AB$4),AB$6,"")) | AC355: =IF($E355=1,"",IF(AND($F355>=AC$2,$F355<=AC$4),AC$6,"")) | AD355: =IF($E355=1,"",IF(AND($F355>=AD$2,$F355<=AD$4),AD$6,"")) | AE355: =IF($E355=1,"",IF(AND($F355>=AE$2,$F355<=AE$4),AE$6,"")) | AF355: =IF($E355=1,"",IF(AND($F355>=AF$2,$F355<=AF$4),AF$6,"")) | AG355: =IF($E355=1,"",IF(AND($F355>=AG$2,$F355<=AG$4),AG$6,"")) | AH355: =IF($E355=1,"",IF(AND($F355>=AH$2,$F355<=AH$4),AH$6,"")) | ... AL355: =IF($E355=1,"",IF(AND($F355>=AL$2,$F355<=AL$4),AL$6,"")) | AM355: =IF(H355="","",VLOOKUP(H355,popisky,4,0)) | AN355: =IF(ISERROR(HLOOKUP(H355,$L$1:$AL$5,5,0)),"",HLOOKUP(H355,$L$1:$AL$5,5,0)) | AO355: =IF(H355="","",VLOOKUP(H355,popisky,10,0)) | AP355: =IF(H355="","",VLOOKUP(H355,popisky,5,0) & " - " & VLOOKUP(H355,popisky,6,0))
A356: xxxxxxxxxx | B356: xxxxxxxxxxx | C356: xxxxxxxxx | D356: xxxxxxxxxxxxxx | E356: xxxxxxxxxxxxxx | F356: xxxxxxxxxxxx | G356: xxxxxxxxxxxxxxxx | H356: =CONCATENATE(L356,M356,N356,O356,P356,Q356,R356,S356,T356,U356,V356,W356,AA356,AB356,AC356,AD356,AE356,AF356,AG356,AH356,AI356,X356,Y356,Z356,AJ356,AK356,AL356) -> xxxxxxxxxxxxxxxxxxxxxxxxxxxxxxxxxxxxxxxxxxxxxxxxxxxxxxxxxxxxxxxxxxxxxxxxxxxxxxxxxxxxxxxxxxxxxxxxxxxxxxxxxxxxxxxxxxxxxxxxxxxxxxxxxxxxxxxxxxxxxxxxxxxxxxxxxxxxxxxxxxxxxxxxxxxxxxxxxxxxxxxxxxxxxxxxxxxxxxxxxxxxxxxxxxxxxxxxxxxxxxxxxxxxxxxxxxxxxxxxxxxxxxxxxxxxxxxxxxxxxxxxxxxxxxxxxxxxxxxxxxxxxxxxxxxxxxxxxxxxxxxxxxxxxxxxxxxxxxxxxxxxxxxxxxxxxxxxxxxxxxxxxxxxxxxxxxxxxxxxxxxxxxxxxxxxxxxxxxxxxxxxxxxxxxxxxxxxxxxxxxxxx | I356: xxxxxxxxxxxxxxx | J356: xxxxxxxxxxxxxxx | K356: xxxxxxxxxxxxxxx | L356: xxxxxxxxxxxxxxx | M356: xxxxxxxxxxxxxxx | N356: xxxxxxxxxxxxxxx | O356: xxxxxxxxxxxxxxx | P356: xxxxxxxxxxxxxxx | Q356: xxxxxxxxxxxxxxx | R356: xxxxxxxxxxxxxxx | S356: xxxxxxxxxxxxxxx | T356: xxxxxxxxxxxxxxx | U356: xxxxxxxxxxxxxxx | V356: xxxxxxxxxxxxxxx | W356: xxxxxxxxxxxxxxx | X356: xxxxxxxxxxxxxxx | Y356: xxxxxxxxxxxxxxx | Z356: xxxxxxxxxxxxxxx | AA356: xxxxxxxxxxxxxxx | AB356: xxxxxxxxxxxxxxx | AC356: xxxxxxxxxxxxxxx | AD356: xxxxxxxxxxxxxxx | AE356: xxxxxxxxxxxxxxx | AF356: xxxxxxxxxxxxxxx | AG356: xxxxxxxxxxxxxxx | AH356: xxxxxxxxxxxxxxx | AI356: xxxxxxxxxxxxxxx | AJ356: xxxxxxxxxxxxxxx | AK356: xxxxxxxxxxxxxxx | AL356: xxxxxxxxxxxxxxx | AM356: xxxxxxxxxxxxxxx | AN356: xxxxxxxxxxxxxxx | AO356: xxxxxxxxxxxxxxx | AP356: xxxxxxxxxxxxxxx

Sheet kat_akce
G1: Název | H1: trať | I1: Rok starší | J1: rok mladší | K1: věk starší | L1: věk mladší | M1: poradi | P1: věk starší | Q1: věk mladší
A2: Chlapci | B2: 2010 | C2: a později 20 m | D2: =TRIM(MID(TRIM(C2),LEN(TRIM(C2))-4,5)) -> 20 m | E2: =TRIM(MID(C2,1,9)) -> a později | F2: =IF(ISERROR(VALUE(MID(E2,1,4))),E2,(VALUE(MID(E2,1,4)))) -> a později | G2: =IF(OR(MID(A2,1,1)="C",MID(A2,1,1)="M"),"C","D") & IF(M2>9,M2,"0" & M2) -> C01 | H2: 20 m | I2: =B2 -> 2010 | J2: =F2 -> a později | K2: =YEAR(TODAY())-I2 -> 16 | L2: =IF(J2="a později",0,IF(MID(J2,1,7)="a dříve",120,YEAR(TODAY())-J2)) -> 0 | M2: 1 | N2: VĚKOVÉ ROZDÍLY V ROCE 2015 | P2: 5 | Q2: 0
A3: Chlapci | B3: 2008 | C3: 2009 20 m | D3: =TRIM(MID(TRIM(C3),LEN(TRIM(C3))-4,5)) -> 20 m | E3: =TRIM(MID(C3,1,9)) -> 2009 | F3: =IF(ISERROR(VALUE(MID(E3,1,4))),E3,(VALUE(MID(E3,1,4)))) -> 2009 | G3: =IF(OR(MID(A3,1,1)="C",MID(A3,1,1)="M"),"C","D") & IF(M3>9,M3,"0" & M3) -> C02 | H3: 20 m | I3: =B3 -> 2008 | J3: =F3 -> 2009 | K3: =YEAR(TODAY())-I3 -> 18 | L3: =IF(J3="a později",0,IF(MID(J3,1,7)="a dříve",120,YEAR(TODAY())-J3)) -> 17 | M3: 2 | P3: 7 | Q3: 6
A4: Chlapci | B4: 2006 | C4: 2007 40 m | D4: =TRIM(MID(TRIM(C4),LEN(TRIM(C4))-4,5)) -> 40 m | E4: =TRIM(MID(C4,1,9)) -> 2007 | F4: =IF(ISERROR(VALUE(MID(E4,1,4))),E4,(VALUE(MID(E4,1,4)))) -> 2007 | G4: =IF(OR(MID(A4,1,1)="C",MID(A4,1,1)="M"),"C","D") & IF(M4>9,M4,"0" & M4) -> C03 | H4: 40 m | I4: =B4 -> 2006 | J4: =F4 -> 2007 | K4: =YEAR(TODAY())-I4 -> 20 | L4: =IF(J4="a později",0,IF(MID(J4,1,7)="a dříve",120,YEAR(TODAY())-J4)) -> 19 | M4: 3 | P4: 9 | Q4: 8
A5: Chlapci | B5: 2004 | C5: 2005 40 m | D5: =TRIM(MID(TRIM(C5),LEN(TRIM(C5))-4,5)) -> 40 m | E5: =TRIM(MID(C5,1,9)) -> 2005 | F5: =IF(ISERROR(VALUE(MID(E5,1,4))),E5,(VALUE(MID(E5,1,4)))) -> 2005 | G5: =IF(OR(MID(A5,1,1)="C",MID(A5,1,1)="M"),"C","D") & IF(M5>9,M5,"0" & M5) -> C04 | H5: 40 m | I5: =B5 -> 2004 | J5: =F5 -> 2005 | K5: =YEAR(TODAY())-I5 -> 22 | L5: =IF(J5="a později",0,IF(MID(J5,1,7)="a dříve",120,YEAR(TODAY())-J5)) -> 21 | M5: 4 | P5: 11 | Q5: 10
A6: Chlapci | B6: 2002 | C6: 2003 60 m | D6: =TRIM(MID(TRIM(C6),LEN(TRIM(C6))-4,5)) -> 60 m | E6: =TRIM(MID(C6,1,9)) -> 2003 | F6: =IF(ISERROR(VALUE(MID(E6,1,4))),E6,(VALUE(MID(E6,1,4)))) -> 2003 | G6: =IF(OR(MID(A6,1,1)="C",MID(A6,1,1)="M"),"C","D") & IF(M6>9,M6,"0" & M6) -> C05 | H6: 60 m | I6: =B6 -> 2002 | J6: =F6 -> 2003 | K6: =YEAR(TODAY())-I6 -> 24 | L6: =IF(J6="a později",0,IF(MID(J6,1,7)="a dříve",120,YEAR(TODAY())-J6)) -> 23 | M6: 5 | P6: 13 | Q6: 12
A7: Chlapci | B7: 2000 | C7: 2001 60 m | D7: =TRIM(MID(TRIM(C7),LEN(TRIM(C7))-4,5)) -> 60 m | E7: =TRIM(MID(C7,1,9)) -> 2001 | F7: =IF(ISERROR(VALUE(MID(E7,1,4))),E7,(VALUE(MID(E7,1,4)))) -> 2001 | G7: =IF(OR(MID(A7,1,1)="C",MID(A7,1,1)="M"),"C","D") & IF(M7>9,M7,"0" & M7) -> C06 | H7: 60 m | I7: =B7 -> 2000 | J7: =F7 -> 2001 | K7: =YEAR(TODAY())-I7 -> 26 | L7: =IF(J7="a později",0,IF(MID(J7,1,7)="a dříve",120,YEAR(TODAY())-J7)) -> 25 | M7: 6 | P7: 15 | Q7: 14
A8: Chlapci | B8: 1998 | C8: 1999 80 m | D8: =TRIM(MID(TRIM(C8),LEN(TRIM(C8))-4,5)) -> 80 m | E8: =TRIM(MID(C8,1,9)) -> 1999 | F8: =IF(ISERROR(VALUE(MID(E8,1,4))),E8,(VALUE(MID(E8,1,4)))) -> 1999 | G8: =IF(OR(MID(A8,1,1)="C",MID(A8,1,1)="M"),"C","D") & IF(M8>9,M8,"0" & M8) -> C07 | H8: 80 m | I8: =B8 -> 1998 | J8: =F8 -> 1999 | K8: =YEAR(TODAY())-I8 -> 28 | L8: =IF(J8="a později",0,IF(MID(J8,1,7)="a dříve",120,YEAR(TODAY())-J8)) -> 27 | M8: 7 | P8: 17 | Q8: 16
A9: Chlapci | B9: 1996 | C9: 1997 80 m | D9: =TRIM(MID(TRIM(C9),LEN(TRIM(C9))-4,5)) -> 80 m | E9: =TRIM(MID(C9,1,9)) -> 1997 | F9: =IF(ISERROR(VALUE(MID(E9,1,4))),E9,(VALUE(MID(E9,1,4)))) -> 1997 | G9: =IF(OR(MID(A9,1,1)="C",MID(A9,1,1)="M"),"C","D") & IF(M9>9,M9,"0" & M9) -> C08 | H9: 80 m | I9: =B9 -> 1996 | J9: =F9 -> 1997 | K9: =YEAR(TODAY())-I9 -> 30 | L9: =IF(J9="a později",0,IF(MID(J9,1,7)="a dříve",120,YEAR(TODAY())-J9)) -> 29 | M9: 8 | P9: 19 | Q9: 18
A10: Muži | B10: 1976 | C10: 1995 110 m | D10: =TRIM(MID(TRIM(C10),LEN(TRIM(C10))-4,5)) -> 110 m | E10: =TRIM(MID(C10,1,9)) -> 1995 | F10: =IF(ISERROR(VALUE(MID(E10,1,4))),E10,(VALUE(MID(E10,1,4)))) -> 1995 | G10: =IF(OR(MID(A10,1,1)="C",MID(A10,1,1)="M"),"C","D") & IF(M10>9,M10,"0" & M10) -> C09 | H10: 110 m | I10: =B10 -> 1976 | J10: =F10 -> 1995 | K10: =YEAR(TODAY())-I10 -> 50 | L10: =IF(J10="a později",0,IF(MID(J10,1,7)="a dříve",120,YEAR(TODAY())-J10)) -> 31 | M10: 9 | P10: 39 | Q10: 20
A11: Muži | B11: 1966 | C11: 1975 110 m | D11: =TRIM(MID(TRIM(C11),LEN(TRIM(C11))-4,5)) -> 110 m | E11: =TRIM(MID(C11,1,9)) -> 1975 | F11: =IF(ISERROR(VALUE(MID(E11,1,4))),E11,(VALUE(MID(E11,1,4)))) -> 1975 | G11: =IF(OR(MID(A11,1,1)="C",MID(A11,1,1)="M"),"C","D") & IF(M11>9,M11,"0" & M11) -> C10 | H11: 110 m | I11: =B11 -> 1966 | J11: =F11 -> 1975 | K11: =YEAR(TODAY())-I11 -> 60 | L11: =IF(J11="a později",0,IF(MID(J11,1,7)="a dříve",120,YEAR(TODAY())-J11)) -> 51 | M11: 10 | P11: 49 | Q11: 40
A12: Muži | B12: 1956 | C12: 1965 110 m | D12: =TRIM(MID(TRIM(C12),LEN(TRIM(C12))-4,5)) -> 110 m | E12: =TRIM(MID(C12,1,9)) -> 1965 | F12: =IF(ISERROR(VALUE(MID(E12,1,4))),E12,(VALUE(MID(E12,1,4)))) -> 1965 | G12: =IF(OR(MID(A12,1,1)="C",MID(A12,1,1)="M"),"C","D") & IF(M12>9,M12,"0" & M12) -> C11 | H12: 110 m | I12: =B12 -> 1956 | J12: =F12 -> 1965 | K12: =YEAR(TODAY())-I12 -> 70 | L12: =IF(J12="a později",0,IF(MID(J12,1,7)="a dříve",120,YEAR(TODAY())-J12)) -> 61 | M12: 11 | P12: 59 | Q12: 50
A13: Muži | B13: 1946 | C13: 1955 80 m | D13: =TRIM(MID(TRIM(C13),LEN(TRIM(C13))-4,5)) -> 80 m | E13: =TRIM(MID(C13,1,9)) -> 1955 | F13: =IF(ISERROR(VALUE(MID(E13,1,4))),E13,(VALUE(MID(E13,1,4)))) -> 1955 | G13: =IF(OR(MID(A13,1,1)="C",MID(A13,1,1)="M"),"C","D") & IF(M13>9,M13,"0" & M13) -> C12 | H13: 80 m | I13: =B13 -> 1946 | J13: =F13 -> 1955 | K13: =YEAR(TODAY())-I13 -> 80 | L13: =IF(J13="a později",0,IF(MID(J13,1,7)="a dříve",120,YEAR(TODAY())-J13)) -> 71 | M13: 12 | P13: 69 | Q13: 60
A14: Muži | B14: 1945 | C14: a dříve 80 m | D14: =TRIM(MID(TRIM(C14),LEN(TRIM(C14))-4,5)) -> 80 m | E14: =TRIM(MID(C14,1,9)) -> a dříve | F14: =IF(ISERROR(VALUE(MID(E14,1,4))),E14,(VALUE(MID(E14,1,4)))) -> a dříve | G14: =IF(OR(MID(A14,1,1)="C",MID(A14,1,1)="M"),"C","D") & IF(M14>9,M14,"0" & M14) -> C13 | H14: 80 m | I14: =B14 -> 1945 | J14: =F14 -> a dříve | K14: =YEAR(TODAY())-I14 -> 81 | L14: =IF(J14="a později",0,IF(MID(J14,1,7)="a dříve",120,YEAR(TODAY())-J14)) -> 120 | M14: 13 | P14: 70 | Q14: 120
... A25: Ženy | B25: 1970 | C25: a dříve 80 m | D25: =TRIM(MID(TRIM(C25),LEN(TRIM(C25))-4,5)) -> 80 m | E25: =TRIM(MID(C25,1,9)) -> a dříve | F25: =IF(ISERROR(VALUE(MID(E25,1,4))),E25,(VALUE(MID(E25,1,4)))) -> a dříve | G25: =IF(OR(MID(A25,1,1)="C",MID(A25,1,1)="M"),"C","D") & IF(M25>9,M25,"0" & M25) -> D11 | H25: 80 m | I25: =B25 -> 1970 | J25: =F25 -> a dříve | K25: =YEAR(TODAY())-I25 -> 56 | L25: =IF(J25="a později",0,IF(MID(J25,1,7)="a dříve",120,YEAR(TODAY())-J25)) -> 120 | M25: 11 | P25: 45 | Q25: 54
P26: 55 | Q26: 120
P27: 0
P28: 22

Sheet Kateg_2
D1: Dívky - 2009 a později 20 m | E1: d | I1: 1 | J1: Benjamínci D | K1: 2008 | L1: a mladší | M1: =IF(MID(L1,1,1)=" a","D","") | N1: d | O1: d | P1: Benjamínci D – 2009 a mladší
D2: Dívky - 2007 - 2008 20 m | E2: d | I2: 2 | J2: Atletická školka D | K2: 2006 | L2: 2007 | M2: =IF(MID(L2,1,1)=" a","D","") | N2: d | O2: d | P2: Atletická školka D - 2007, 2008
D3: Dívky - 2005 - 2006 40 m | E3: d | I3: 3 | J3: Minipřípravka D | K3: 2004 | L3: 2005 | M3: =IF(MID(L3,1,1)=" a","D","") | N3: d | O3: d | P3: Minipřípravka D - 2005, 2006
D4: Dívky - 2003 - 2004 40 m | E4: d | I4: 4 | J4: Přípravka D | K4: 2002 | L4: 2003 | M4: =IF(MID(L4,1,1)=" a","D","") | N4: d | O4: d | P4: Přípravka D - 2003, 2004
D5: Dívky - 2001 - 2002 60 m | E5: d | I5: 5 | J5: Mladší žákyně | K5: 2000 | L5: 2001 | M5: =IF(MID(L5,1,1)=" a","D","") | N5: d | O5: d | P5: Mladší žákyně - 2001, 2002
D6: Dívky - 1999 - 2000 60 m | E6: d | I6: 6 | J6: Starší žákyně | K6: 1998 | L6: 1999 | M6: =IF(MID(L6,1,1)=" a","D","") | N6: d | O6: d | P6: Starší žákyně - 1999, 2000
D7: Dívky - 1997 - 1998 80 m | E7: d | I7: 7 | J7: Dorostenky | K7: 1996 | L7: 1997 | M7: =IF(MID(L7,1,1)=" a","D","") | N7: d | O7: d | P7: Dorostenky - 1997, 1998
D8: Dívky - 1995 - 1996 80 m | E8: d | I8: 8 | J8: Juniorky | K8: 1994 | L8: 1995 | M8: =IF(MID(L8,1,1)=" a","D","") | N8: d | O8: d | P8: Juniorky - 1995, 1996
D9: Ženy - 1980 - 1994 110 m | E9: d | I9: 9 | J9: Ženy A | K9: 1993 | L9: 1979 | M9: =IF(MID(L9,1,1)=" a","D","") | N9: d | O9: d | P9: Ženy A - 1994 – 1980
D10: Ženy - 1979 - 1970 80 m | E10: d | I10: 10 | J10: Ženy C | K10: 1968 | L10: a starší | M10: =IF(MID(L10,1,1)=" a","D","") | N10: d | O10: d | P10: Ženy C - 1969 a starší
D11: Ženy - 1969 a starší 80 m | E11: d | I11: 11 | J11: Ženy B | K11: 1978 | L11: 1969 | M11: =IF(MID(L11,1,1)=" a","D","") | N11: d | O11: d | P11: Ženy B – 1979 - 1970
D12: Chlapci - 2009 a později 20 m | E12: m | I12: 1 | J12: Muži A | K12: 1993 | L12: 1974 | M12: =IF(MID(L12,1,1)=" a","D","") | N12: m | O12: m | P12: Muži A - 1994 – 1975
D13: Chlapci - 2007 - 2008 20 m | E13: m | I13: 2 | J13: Muži C | K13: 1963 | L13: 1954 | M13: =IF(MID(L13,1,1)=" a","D","") | N13: m | O13: m | P13: Muži C - 1964 – 1955
D14: Chlapci - 2005 - 2006 40 m | E14: m | I14: 3 | J14: Benjamínci H | K14: 2008 | L14: a mladší | M14: =IF(MID(L14,1,1)=" a","D","") | N14: m | O14: m | P14: Benjamínci H – 2009 a mladší
D15: Chlapci - 2003 - 2004 40 m | E15: m | I15: 4 | J15: Atletická školka H | K15: 2006 | L15: 2007 | M15: =IF(MID(L15,1,1)=" a","D","") | N15: m | O15: m | P15: Atletická školka H - 2007, 2008
D16: Chlapci - 2001 - 2002 60 m | E16: m | I16: 5 | J16: Minipřípravka H | K16: 2004 | L16: 2005 | M16: =IF(MID(L16,1,1)=" a","D","") | N16: m | O16: m | P16: Minipřípravka H - 2005, 2006
D17: Chlapci - 1999 - 2000 60 m | E17: m | I17: 6 | J17: Přípravka H | K17: 2002 | L17: 2003 | M17: =IF(MID(L17,1,1)=" a","D","") | N17: m | O17: m | P17: Přípravka H - 2003, 2004
D18: Chlapci - 1997 - 1998 80 m | E18: m | I18: 7 | J18: Mladší žáci | K18: 2000 | L18: 2001 | M18: =IF(MID(L18,1,1)=" a","D","") | N18: m | O18: m | P18: Mladší žáci - 2001, 2002
D19: Chlapci - 1995 - 1996 80 m | E19: m | I19: 8 | J19: Starší žáci | K19: 1998 | L19: 1999 | M19: =IF(MID(L19,1,1)=" a","D","") | N19: m | O19: m | P19: Starší žáci - 1999, 2000
D20: Muži - 1975 - 1994 110 m | E20: m | I20: 9 | J20: Dorostenci | K20: 1996 | L20: 1997 | M20: =IF(MID(L20,1,1)=" a","D","") | N20: m | O20: m | P20: Dorostenci - 1997, 1998
D21: Muži - 1965 - 1974 110 m | E21: m | I21: 10 | J21: Junioři | K21: 1994 | L21: 1995 | M21: =IF(MID(L21,1,1)=" a","D","") | N21: m | O21: m | P21: Junioři - 1995, 1996
D22: Muži - 1955 - 1964 110 m | E22: m | I22: 11 | J22: Muži B | K22: 1973 | L22: 1964 | M22: =IF(MID(L22,1,1)=" a","D","") | N22: m | O22: m | P22: Muži B - 1974 - 1965
D23: Muži - 1945 - 1954 80 m | E23: m | I23: 12 | J23: Muži D | K23: 1953 | L23: 1944 | M23: =IF(MID(L23,1,1)=" a","D","") | N23: m | O23: m | P23: Muži D - 1954 - 1945
D24: Muži - 1944 a dříve 80 m | E24: m | I24: 13 | J24: Muži E | K24: 1943 | L24: a starší | M24: =IF(MID(L24,1,1)=" a","D","") | N24: m | O24: m | P24: Muži E - 1944 a starší
D28: Vzor - | E28: =MID(D28,SEARCH("-",D28)+2,4) | F28: =MID(D28,SEARCH("-",D28)+7,LEN(D28))
D29: Dívky - 2009 a později 20 m | E29: =MID(D29,SEARCH("-",D29)+2,4) -> 2009 | F29: =MID(D29,SEARCH("-",D29)+7,LEN(D29)) -> a později 20 m | G29: a | H29: 2014 | I29: ěji 20 m | J29: zději 20 m | K29: 20 | L29: =IF(VALUE(E29)<H29,VALUE(E29),H29) -> 2009 | N29: =IF(VALUE(E29)>H29,VALUE(E29),H29) -> 2014 | P29: D01 | Q29: =K29 -> 20
D30: Dívky - 2007 - 2008 20 m | E30: =MID(D30,SEARCH("-",D30)+2,4) -> 2007 | F30: =MID(D30,SEARCH("-",D30)+7,LEN(D30)) -> - 2008 20 m | G30: - | H30: 2008 | I30: 20 m | J30: 08 20 m | K30: 20 | L30: =IF(VALUE(E30)<H30,VALUE(E30),H30) -> 2007 | N30: =IF(VALUE(E30)>H30,VALUE(E30),H30) -> 2008 | P30: D02 | Q30: =K30 -> 20
D31: Dívky - 2005 - 2006 40 m | E31: =MID(D31,SEARCH("-",D31)+2,4) -> 2005 | F31: =MID(D31,SEARCH("-",D31)+7,LEN(D31)) -> - 2006 40 m | G31: - | H31: 2006 | I31: 40 m | J31: 06 40 m | K31: 40 | L31: =IF(VALUE(E31)<H31,VALUE(E31),H31) -> 2005 | N31: =IF(VALUE(E31)>H31,VALUE(E31),H31) -> 2006 | P31: D03 | Q31: =K31 -> 40
D32: Dívky - 2003 - 2004 40 m | E32: =MID(D32,SEARCH("-",D32)+2,4) -> 2003 | F32: =MID(D32,SEARCH("-",D32)+7,LEN(D32)) -> - 2004 40 m | G32: - | H32: 2004 | I32: 40 m | J32: 04 40 m | K32: 40 | L32: =IF(VALUE(E32)<H32,VALUE(E32),H32) -> 2003 | N32: =IF(VALUE(E32)>H32,VALUE(E32),H32) -> 2004 | P32: D04 | Q32: =K32 -> 40
D33: Dívky - 2001 - 2002 60 m | E33: =MID(D33,SEARCH("-",D33)+2,4) -> 2001 | F33: =MID(D33,SEARCH("-",D33)+7,LEN(D33)) -> - 2002 60 m | G33: - | H33: 2002 | I33: 60 m | J33: 02 60 m | K33: 60 | L33: =IF(VALUE(E33)<H33,VALUE(E33),H33) -> 2001 | N33: =IF(VALUE(E33)>H33,VALUE(E33),H33) -> 2002 | P33: D05 | Q33: =K33 -> 60
D34: Dívky - 1999 - 2000 60 m | E34: =MID(D34,SEARCH("-",D34)+2,4) -> 1999 | F34: =MID(D34,SEARCH("-",D34)+7,LEN(D34)) -> - 2000 60 m | G34: - | H34: 2000 | I34: 60 m | J34: 00 60 m | K34: 60 | L34: =IF(VALUE(E34)<H34,VALUE(E34),H34) -> 1999 | N34: =IF(VALUE(E34)>H34,VALUE(E34),H34) -> 2000 | P34: D06 | Q34: =K34 -> 60
D35: Dívky - 1997 - 1998 80 m | E35: =MID(D35,SEARCH("-",D35)+2,4) -> 1997 | F35: =MID(D35,SEARCH("-",D35)+7,LEN(D35)) -> - 1998 80 m | G35: - | H35: 1998 | I35: 80 m | J35: 98 80 m | K35: 80 | L35: =IF(VALUE(E35)<H35,VALUE(E35),H35) -> 1997 | N35: =IF(VALUE(E35)>H35,VALUE(E35),H35) -> 1998 | P35: D07 | Q35: =K35 -> 80
D36: Dívky - 1995 - 1996 80 m | E36: =MID(D36,SEARCH("-",D36)+2,4) -> 1995 | F36: =MID(D36,SEARCH("-",D36)+7,LEN(D36)) -> - 1996 80 m | G36: - | H36: 1996 | I36: 80 m | J36: 96 80 m | K36: 80 | L36: =IF(VALUE(E36)<H36,VALUE(E36),H36) -> 1995 | N36: =IF(VALUE(E36)>H36,VALUE(E36),H36) -> 1996 | P36: D08 | Q36: =K36 -> 80
D37: Ženy - 1980 - 1994 110 m | E37: =MID(D37,SEARCH("-",D37)+2,4) -> 1980 | F37: =MID(D37,SEARCH("-",D37)+7,LEN(D37)) -> - 1994 110 m | G37: - | H37: 1994 | I37: 110 m | J37: 4 110 m | K37: 110 | L37: =IF(VALUE(E37)<H37,VALUE(E37),H37) -> 1980 | N37: =IF(VALUE(E37)>H37,VALUE(E37),H37) -> 1994 | P37: D09 | Q37: =K37 -> 110
D38: Ženy - 1979 - 1970 80 m | E38: =MID(D38,SEARCH("-",D38)+2,4) -> 1979 | F38: =MID(D38,SEARCH("-",D38)+7,LEN(D38)) -> - 1970 80 m | G38: - | H38: 1970 | I38: 80 m | J38: 970 80 m | K38: 80 | L38: =IF(VALUE(E38)<H38,VALUE(E38),H38) -> 1970 | N38: =IF(VALUE(E38)>H38,VALUE(E38),H38) -> 1979 | P38: D10 | Q38: =K38 -> 80
D39: Ženy - 1969 a starší 80 m | E39: =MID(D39,SEARCH("-",D39)+2,4) -> 1969 | F39: =MID(D39,SEARCH("-",D39)+7,LEN(D39)) -> a starší 80 m | G39: a | H39: 1900 | I39: ší 80 m | J39: tarší 80 m | K39: 80 | L39: =IF(VALUE(E39)<H39,VALUE(E39),H39) -> 1900 | N39: =IF(VALUE(E39)>H39,VALUE(E39),H39) -> 1969 | P39: D11 | Q39: =K39 -> 80
P40: D12 | Q40: 80
I41: 20 M | K41: 20 | L41: 1900 | P41: H | Q41: 20
D43: Chlapci - 2009 a později 20 m | E43: =MID(D43,SEARCH("-",D43)+2,4) -> 2009 | F43: =MID(D43,SEARCH("-",D43)+7,LEN(D43)) -> a později 20 m | G43: a | H43: 2014 | I43: ěji 20 m | J43: ozději 20 m | K43: 20 | L43: =IF(VALUE(E43)<H43,VALUE(E43),H43) -> 2009 | N43: =IF(VALUE(E43)>H43,VALUE(E43),H43) -> 2014 | P43: C01 | Q43: =K43 -> 20
D44: Chlapci - 2007 - 2008 20 m | E44: =MID(D44,SEARCH("-",D44)+2,4) -> 2007 | F44: =MID(D44,SEARCH("-",D44)+7,LEN(D44)) -> - 2008 20 m | G44: - | H44: 2008 | I44: 20 m | J44: 008 20 m | K44: 20 | L44: =IF(VALUE(E44)<H44,VALUE(E44),H44) -> 2007 | N44: =IF(VALUE(E44)>H44,VALUE(E44),H44) -> 2008 | P44: C02 | Q44: =K44 -> 20
D45: Chlapci - 2005 - 2006 40 m | E45: =MID(D45,SEARCH("-",D45)+2,4) -> 2005 | F45: =MID(D45,SEARCH("-",D45)+7,LEN(D45)) -> - 2006 40 m | G45: - | H45: 2006 | I45: 40 m | J45: 006 40 m | K45: 40 | L45: =IF(VALUE(E45)<H45,VALUE(E45),H45) -> 2005 | N45: =IF(VALUE(E45)>H45,VALUE(E45),H45) -> 2006 | P45: C03 | Q45: =K45 -> 40
D46: Chlapci - 2003 - 2004 40 m | E46: =MID(D46,SEARCH("-",D46)+2,4) -> 2003 | F46: =MID(D46,SEARCH("-",D46)+7,LEN(D46)) -> - 2004 40 m | G46: - | H46: 2004 | I46: 40 m | J46: 004 40 m | K46: 40 | L46: =IF(VALUE(E46)<H46,VALUE(E46),H46) -> 2003 | N46: =IF(VALUE(E46)>H46,VALUE(E46),H46) -> 2004 | P46: C04 | Q46: =K46 -> 40
D47: Chlapci - 2001 - 2002 60 m | E47: =MID(D47,SEARCH("-",D47)+2,4) -> 2001 | F47: =MID(D47,SEARCH("-",D47)+7,LEN(D47)) -> - 2002 60 m | G47: - | H47: 2002 | I47: 60 m | J47: 002 60 m | K47: 60 | L47: =IF(VALUE(E47)<H47,VALUE(E47),H47) -> 2001 | N47: =IF(VALUE(E47)>H47,VALUE(E47),H47) -> 2002 | P47: C05 | Q47: =K47 -> 60
D48: Chlapci - 1999 - 2000 60 m | E48: =MID(D48,SEARCH("-",D48)+2,4) -> 1999 | F48: =MID(D48,SEARCH("-",D48)+7,LEN(D48)) -> - 2000 60 m | G48: - | H48: 2000 | I48: 60 m | J48: 000 60 m | K48: 60 | L48: =IF(VALUE(E48)<H48,VALUE(E48),H48) -> 1999 | N48: =IF(VALUE(E48)>H48,VALUE(E48),H48) -> 2000 | P48: C06 | Q48: =K48 -> 60
D49: Chlapci - 1997 - 1998 80 m | E49: =MID(D49,SEARCH("-",D49)+2,4) -> 1997 | F49: =MID(D49,SEARCH("-",D49)+7,LEN(D49)) -> - 1998 80 m | G49: - | H49: 1998 | I49: 80 m | J49: 998 80 m | K49: 80 | L49: =IF(VALUE(E49)<H49,VALUE(E49),H49) -> 1997 | N49: =IF(VALUE(E49)>H49,VALUE(E49),H49) -> 1998 | P49: C07 | Q49: =K49 -> 80
D50: Chlapci - 1995 - 1996 80 m | E50: =MID(D50,SEARCH("-",D50)+2,4) -> 1995 | F50: =MID(D50,SEARCH("-",D50)+7,LEN(D50)) -> - 1996 80 m | G50: - | H50: 1996 | I50: 80 m | J50: 96 80 m | K50: 80 | L50: =IF(VALUE(E50)<H50,VALUE(E50),H50) -> 1995 | N50: =IF(VALUE(E50)>H50,VALUE(E50),H50) -> 1996 | P50: C08 | Q50: =K50 -> 80
D51: Muži - 1975 - 1994 110 m | E51: =MID(D51,SEARCH("-",D51)+2,4) -> 1975 | F51: =MID(D51,SEARCH("-",D51)+7,LEN(D51)) -> - 1994 110 m | G51: - | H51: 1994 | I51: 110 m | J51: 94 110 m | K51: 110 | L51: =IF(VALUE(E51)<H51,VALUE(E51),H51) -> 1975 | N51: =IF(VALUE(E51)>H51,VALUE(E51),H51) -> 1994 | P51: C09 | Q51: =K51 -> 110
D52: Muži - 1965 - 1974 110 m | E52: =MID(D52,SEARCH("-",D52)+2,4) -> 1965 | F52: =MID(D52,SEARCH("-",D52)+7,LEN(D52)) -> - 1974 110 m | G52: - | H52: 1974 | I52: 110 m | J52: 74 110 m | K52: 110 | L52: =IF(VALUE(E52)<H52,VALUE(E52),H52) -> 1965 | N52: =IF(VALUE(E52)>H52,VALUE(E52),H52) -> 1974 | P52: C10 | Q52: =K52 -> 110
D53: Muži - 1955 - 1964 110 m | E53: =MID(D53,SEARCH("-",D53)+2,4) -> 1955 | F53: =MID(D53,SEARCH("-",D53)+7,LEN(D53)) -> - 1964 110 m | G53: - | H53: 1964 | I53: 110 m | J53: 64 110 m | K53: 110 | L53: =IF(VALUE(E53)<H53,VALUE(E53),H53) -> 1955 | N53: =IF(VALUE(E53)>H53,VALUE(E53),H53) -> 1964 | P53: C11 | Q53: =K53 -> 110
D54: Muži - 1945 - 1954 80 m | E54: =MID(D54,SEARCH("-",D54)+2,4) -> 1945 | F54: =MID(D54,SEARCH("-",D54)+7,LEN(D54)) -> - 1954 80 m | G54: - | H54: 1954 | I54: 80 m | J54: 954 80 m | K54: 80 | L54: =IF(VALUE(E54)<H54,VALUE(E54),H54) -> 1945 | N54: =IF(VALUE(E54)>H54,VALUE(E54),H54) -> 1954 | P54: C12 | Q54: =K54 -> 80
D55: Muži - 1944 a dříve 80 m | E55: =MID(D55,SEARCH("-",D55)+2,4) -> 1944 | F55: =MID(D55,SEARCH("-",D55)+7,LEN(D55)) -> a dříve 80 m | G55: a | H55: 1900 | I55: e 80 m | J55: íve 80 m | K55: 80 | L55: =IF(VALUE(E55)<H55,VALUE(E55),H55) -> 1900 | N55: =IF(VALUE(E55)>H55,VALUE(E55),H55) -> 1944 | P55: C13 | Q55: =K55 -> 80
B59: 1 | C59: 2 | D59: 3 | E59: 4 | F59: 5 | G59: 6 | H59: 7 | I59: 8 | J59: 9 | K59: 10 | L59: 11 | M59: 12 | N59: 13 | O59: 14
C60: Pořadí ve skupině | H60: Dřive | I60: Později | J60: Kategorie | K60: Délka | L60: PEVNÁ | M60: PEVNÁ DÉLKA | N60: Skupina | O60: Počet | P60: Skupina | Q60: Počet | R60: Listina | S60: Věk
B61: =L61 -> D01 | C61: =IF(N61="","",COUNTIF($N$61:N61,N61)+N61*10) -> 11 | D61: D | E61: Benjamínci D | F61: =YEAR(NASTAVENÍ!$D$3)-kat_akce!P15 -> 2021 | G61: a mladší | H61: =IF(F61="","",IF(AND(MID(G61,1,1)=" ",F61<YEAR(TODAY())-10),YEAR(TODAY())-100,IF(F61<G61,F61,G61))) -> 2021 | I61: =IF(F61="","",IF(MID(G61,1,1)=" ",IF(F61>YEAR(TODAY())-30,YEAR(TODAY()),F61),IF(F61>G61,F61,G61))) -> 2026 | J61: =IF(H61="","",CONCATENATE(D61,TEXT(COUNTIF($D$60:D62,D61),"00"))) -> D02 | K61: =IF(J61="","",VALUE(VLOOKUP(J61,$P$29:$U$55,2,0))) -> 20 | L61: D01 | M61: 20 | N61: =IF(M61="","",IF(M61=20,1,IF(M61=40,2,IF(M61=60,3,IF(M61=80,4,5))))) -> 1 | O61: =IF(B61="","",COUNTIF(Vstup!$H$7:$H$652,B61)) -> 15 | P61: 1 | Q61: =COUNTIF($N$61:$N$89,P61) -> 5 | R61: =IF(OR(B61="",O61=0),"","L"&VLOOKUP(B61,Kategorie!$A$4:$BR$34,69,0)) -> L1 | S61: =IF(ISNUMBER(G61),kat_akce!Q15 & " - " & kat_akce!P15 &" let",kat_akce!P15 & " let " & G61) -> 5 let a mladší | T61: =IF(B61="","",CONCATENATE(E61," - ročník ",F61,IF(ISNUMBER(G61)," - "," "),G61," ",K61," m")) -> Benjamínci D - ročník 2021 a mladší 20 m
B62: =L62 -> D02 | C62: =IF(N62="","",COUNTIF($N$61:N62,N62)+N62*10) -> 12 | D62: D | E62: Atletická školka D | F62: =YEAR(NASTAVENÍ!$D$3)-kat_akce!P16 -> 2019 | G62: =YEAR(NASTAVENÍ!$D$3)-kat_akce!Q16 -> 2020 | H62: =IF(F62="","",IF(AND(MID(G62,1,1)=" ",F62<YEAR(TODAY())-10),YEAR(TODAY())-100,IF(F62<G62,F62,G62))) -> 2019 | I62: =IF(F62="","",IF(MID(G62,1,1)=" ",IF(F62>YEAR(TODAY())-30,YEAR(TODAY()),F62),IF(F62>G62,F62,G62))) -> 2020 | J62: =IF(H62="","",CONCATENATE(D62,TEXT(COUNTIF($D$61:D62,D62),"00"))) -> D02 | K62: =IF(J62="","",VALUE(VLOOKUP(J62,$P$29:$U$55,2,0))) -> 20 | L62: D02 | M62: 20 | N62: =IF(M62="","",IF(M62=20,1,IF(M62=40,2,IF(M62=60,3,IF(M62=80,4,5))))) -> 1 | O62: =IF(B62="","",COUNTIF(Vstup!$H$7:$H$652,B62)) -> 4 | P62: 2 | Q62: =COUNTIF($N$61:$N$89,P62) -> 4 | R62: =IF(OR(B62="",O62=0),"","L"&VLOOKUP(B62,Kategorie!$A$4:$BR$34,69,0)) -> L2 | S62: =IF(ISNUMBER(G62),kat_akce!Q16 & " - " & kat_akce!P16 &" let",kat_akce!P16 & " let " & G62) -> 6 - 7 let | T62: =IF(B62="","",CONCATENATE(E62," - ročník ",F62,IF(ISNUMBER(G62)," - "," "),G62," ",K62," m")) -> Atletická školka D - ročník 2019 - 2020 20 m
B63: =L63 -> D03 | C63: =IF(N63="","",COUNTIF($N$61:N63,N63)+N63*10) -> 21 | D63: D | E63: Minipřípravka D | F63: =YEAR(NASTAVENÍ!$D$3)-kat_akce!P17 -> 2017 | G63: =YEAR(NASTAVENÍ!$D$3)-kat_akce!Q17 -> 2018 | H63: =IF(F63="","",IF(AND(MID(G63,1,1)=" ",F63<YEAR(TODAY())-10),YEAR(TODAY())-100,IF(F63<G63,F63,G63))) -> 2017 | I63: =IF(F63="","",IF(MID(G63,1,1)=" ",IF(F63>YEAR(TODAY())-30,YEAR(TODAY()),F63),IF(F63>G63,F63,G63))) -> 2018 | J63: =IF(H63="","",CONCATENATE(D63,TEXT(COUNTIF($D$61:D63,D63),"00"))) -> D03 | K63: =IF(J63="","",VALUE(VLOOKUP(J63,$P$29:$U$55,2,0))) -> 40 | L63: D03 | M63: 40 | N63: =IF(M63="","",IF(M63=20,1,IF(M63=40,2,IF(M63=60,3,IF(M63=80,4,5))))) -> 2 | O63: =IF(B63="","",COUNTIF(Vstup!$H$7:$H$652,B63)) -> 6 | P63: 3 | Q63: =COUNTIF($N$61:$N$89,P63) -> 4 | R63: =IF(OR(B63="",O63=0),"","L"&VLOOKUP(B63,Kategorie!$A$4:$BR$34,69,0)) -> L5 | S63: =IF(ISNUMBER(G63),kat_akce!Q17 & " - " & kat_akce!P17 &" let",kat_akce!P17 & " let " & G63) -> 8 - 9 let | T63: =IF(B63="","",CONCATENATE(E63," - ročník ",F63,IF(ISNUMBER(G63)," - "," "),G63," ",K63," m")) -> Minipřípravka D - ročník 2017 - 2018 40 m
B64: =L64 -> D04 | C64: =IF(N64="","",COUNTIF($N$61:N64,N64)+N64*10) -> 22 | D64: D | E64: Přípravka D | F64: =YEAR(NASTAVENÍ!$D$3)-kat_akce!P18 -> 2015 | G64: =YEAR(NASTAVENÍ!$D$3)-kat_akce!Q18 -> 2016 | H64: =IF(F64="","",IF(AND(MID(G64,1,1)=" ",F64<YEAR(TODAY())-10),YEAR(TODAY())-100,IF(F64<G64,F64,G64))) -> 2015 | I64: =IF(F64="","",IF(MID(G64,1,1)=" ",IF(F64>YEAR(TODAY())-30,YEAR(TODAY()),F64),IF(F64>G64,F64,G64))) -> 2016 | J64: =IF(H64="","",CONCATENATE(D64,TEXT(COUNTIF($D$61:D64,D64),"00"))) -> D04 | K64: =IF(J64="","",VALUE(VLOOKUP(J64,$P$29:$U$55,2,0))) -> 40 | L64: D04 | M64: 40 | N64: =IF(M64="","",IF(M64=20,1,IF(M64=40,2,IF(M64=60,3,IF(M64=80,4,5))))) -> 2 | O64: =IF(B64="","",COUNTIF(Vstup!$H$7:$H$652,B64)) -> 7 | P64: 4 | Q64: =COUNTIF($N$61:$N$89,P64) -> 10 | R64: =IF(OR(B64="",O64=0),"","L"&VLOOKUP(B64,Kategorie!$A$4:$BR$34,69,0)) -> L7 | S64: =IF(ISNUMBER(G64),kat_akce!Q18 & " - " & kat_akce!P18 &" let",kat_akce!P18 & " let " & G64) -> 10 - 11 let | T64: =IF(B64="","",CONCATENATE(E64," - ročník ",F64,IF(ISNUMBER(G64)," - "," "),G64," ",K64," m")) -> Přípravka D - ročník 2015 - 2016 40 m
B65: =L65 -> D05 | C65: =IF(N65="","",COUNTIF($N$61:N65,N65)+N65*10) -> 31 | D65: D | E65: Mladší žákyně | F65: =YEAR(NASTAVENÍ!$D$3)-kat_akce!P19 -> 2013 | G65: =YEAR(NASTAVENÍ!$D$3)-kat_akce!Q19 -> 2014 | H65: =IF(F65="","",IF(AND(MID(G65,1,1)=" ",F65<YEAR(TODAY())-10),YEAR(TODAY())-100,IF(F65<G65,F65,G65))) -> 2013 | I65: =IF(F65="","",IF(MID(G65,1,1)=" ",IF(F65>YEAR(TODAY())-30,YEAR(TODAY()),F65),IF(F65>G65,F65,G65))) -> 2014 | J65: =IF(H65="","",CONCATENATE(D65,TEXT(COUNTIF($D$61:D65,D65),"00"))) -> D05 | K65: =IF(J65="","",VALUE(VLOOKUP(J65,$P$29:$U$55,2,0))) -> 60 | L65: D05 | M65: 60 | N65: =IF(M65="","",IF(M65=20,1,IF(M65=40,2,IF(M65=60,3,IF(M65=80,4,5))))) -> 3 | O65: =IF(B65="","",COUNTIF(Vstup!$H$7:$H$652,B65)) -> 2 | P65: 5 | Q65: =COUNTIF($N$61:$N$89,P65) -> 4 | R65: =IF(OR(B65="",O65=0),"","L"&VLOOKUP(B65,Kategorie!$A$4:$BR$34,69,0)) -> L8 | S65: =IF(ISNUMBER(G65),kat_akce!Q19 & " - " & kat_akce!P19 &" let",kat_akce!P19 & " let " & G65) -> 12 - 13 let | T65: =IF(B65="","",CONCATENATE(E65," - ročník ",F65,IF(ISNUMBER(G65)," - "," "),G65," ",K65," m")) -> Mladší žákyně - ročník 2013 - 2014 60 m
B66: =L66 -> D06 | C66: =IF(N66="","",COUNTIF($N$61:N66,N66)+N66*10) -> 32 | D66: D | E66: Starší žákyně | F66: =YEAR(NASTAVENÍ!$D$3)-kat_akce!P20 -> 2011 | G66: =YEAR(NASTAVENÍ!$D$3)-kat_akce!Q20 -> 2012 | H66: =IF(F66="","",IF(AND(MID(G66,1,1)=" ",F66<YEAR(TODAY())-10),YEAR(TODAY())-100,IF(F66<G66,F66,G66))) -> 2011 | I66: =IF(F66="","",IF(MID(G66,1,1)=" ",IF(F66>YEAR(TODAY())-30,YEAR(TODAY()),F66),IF(F66>G66,F66,G66))) -> 2012 | J66: =IF(H66="","",CONCATENATE(D66,TEXT(COUNTIF($D$61:D66,D66),"00"))) -> D06 | K66: =IF(J66="","",VALUE(VLOOKUP(J66,$P$29:$U$55,2,0))) -> 60 | L66: D06 | M66: 60 | N66: =IF(M66="","",IF(M66=20,1,IF(M66=40,2,IF(M66=60,3,IF(M66=80,4,5))))) -> 3 | O66: =IF(B66="","",COUNTIF(Vstup!$H$7:$H$652,B66)) -> 5 | R66: =IF(OR(B66="",O66=0),"","L"&VLOOKUP(B66,Kategorie!$A$4:$BR$34,69,0)) -> L8 | S66: =IF(ISNUMBER(G66),kat_akce!Q20 & " - " & kat_akce!P20 &" let",kat_akce!P20 & " let " & G66) -> 14 - 15 let | T66: =IF(B66="","",CONCATENATE(E66," - ročník ",F66,IF(ISNUMBER(G66)," - "," "),G66," ",K66," m")) -> Starší žákyně - ročník 2011 - 2012 60 m
