Workbook
Name kat: #REF!
Name kat_a_prepocet: kat_akce!$G$1:$M$25
Name kateg: Kategorie!$A$4:$L$35
Name KATEG_2: Kateg_2!$B$61:$B$87
Name kateg2: Kateg_2!$B$61:$K$89
Name popisky: Kateg_2!$B$61:$K$87
Name Sez_kat: NASTAVENÍ!$AX$14:$BF$38
Name vse: #REF!

Sheet oddíly
E1: =MAX(D4:D153) -> 31
A3: Popisky řádků | B3: Počet z Jednota - bydliště
A4: Vyškov | B4: 26 | D4: 1 | E4: =A4 -> Vyškov | F4: =B4 -> 26 | M4: Vnorovy
A5: Obřany | B5: 15 | D5: =IF(ISNUMBER(B5),MAX(D4:D4)+1,"") -> 2 | E5: =A5 -> Obřany | F5: =B5 -> 15 | M5: Hranice
A6: Domanín | B6: 14 | D6: =IF(ISNUMBER(B6),MAX(D5:D5)+1,"") -> 3 | E6: =A6 -> Domanín | F6: =B6 -> 14 | M6: Šitbořice
A7: Židenice | B7: 6 | D7: =IF(ISNUMBER(B7),MAX(D6:D6)+1,"") -> 4 | E7: =A7 -> Židenice | F7: =B7 -> 6 | M7: Polešovice
A8: Silůvky | B8: 5 | D8: =IF(ISNUMBER(B8),MAX(D7:D7)+1,"") -> 5 | E8: =A8 -> Silůvky | F8: =B8 -> 5 | M8: Domažlice
A9: Hranice | B9: 4 | D9: =IF(ISNUMBER(B9),MAX(D8:D8)+1,"") -> 6 | E9: =A9 -> Hranice | F9: =B9 -> 4 | M9: Vizovice
A10: Stará-Bělá | B10: 4 | D10: =IF(ISNUMBER(B10),MAX(D9:D9)+1,"") -> 7 | E10: =A10 -> Stará-Bělá | F10: =B10 -> 4 | M10: Zlín - Malenovice
A11: Šitbořice | B11: 4 | D11: =IF(ISNUMBER(B11),MAX(D10:D10)+1,"") -> 8 | E11: =A11 -> Šitbořice | F11: =B11 -> 4 | M11: Kunovice
A12: Polešovice | B12: 4 | D12: =IF(ISNUMBER(B12),MAX(D11:D11)+1,"") -> 9 | E12: =A12 -> Polešovice | F12: =B12 -> 4 | M12: Klimkovice
A13: Vnorovy | B13: 4 | D13: =IF(ISNUMBER(B13),MAX(D12:D12)+1,"") -> 10 | E13: =A13 -> Vnorovy | F13: =B13 -> 4 | M13: Orlice
A14: Halenkov-Huslenky | B14: 3 | D14: =IF(ISNUMBER(B14),MAX(D13:D13)+1,"") -> 11 | E14: =A14 -> Halenkov-Huslenky | F14: =B14 -> 3 | M14: Drnovice
A15: Domažlice | B15: 3 | D15: =IF(ISNUMBER(B15),MAX(D14:D14)+1,"") -> 12 | E15: =A15 -> Domažlice | F15: =B15 -> 3 | M15: Mor. Budějovice
A16: Valašké klobouky | B16: 3 | D16: =IF(ISNUMBER(B16),MAX(D15:D15)+1,"") -> 13 | E16: =A16 -> Valašké klobouky | F16: =B16 -> 3 | M16: Bystřice pod hostýnem
... A34: Dolní Dobrouč | B34: 1 | D34: =IF(ISNUMBER(B34),MAX(D33:D33)+1,"") -> 31 | E34: =A34 -> Dolní Dobrouč | F34: =B34 -> 1 | M34: Dolní Dobrouč
A35: (prázdné) | D35: =IF(ISNUMBER(B35),MAX(D34:D34)+1,"") | E35: =A35 -> (prázdné) | F35: =B35 -> 0
A36: Celkový součet | B36: 128 | D36: =IF(ISNUMBER(B36),MAX(D35:D35)+1,"") -> 1 | E36: =A36 -> Celkový součet | F36: =B36 -> 128
D37: =IF(ISNUMBER(B37),MAX(D36:D36)+1,"") | E37: =A37 -> 0 | F37: =B37 -> 0
D38: =IF(ISNUMBER(B38),MAX(D37:D37)+1,"") | E38: =A38 -> 0 | F38: =B38 -> 0
D39: =IF(ISNUMBER(B39),MAX(D38:D38)+1,"") | F39: =B39 -> 0
D40: =IF(ISNUMBER(B40),MAX(D39:D39)+1,"") | F40: =B40 -> 0
D41: =IF(ISNUMBER(B41),MAX(D40:D40)+1,"") | F41: =B41 -> 0
D42: =IF(ISNUMBER(B42),MAX(D41:D41)+1,"") | F42: =B42 -> 0
D43: =IF(ISNUMBER(B43),MAX(D42:D42)+1,"") | F43: =B43 -> 0
D44: =IF(ISNUMBER(B44),MAX(D43:D43)+1,"") | F44: =B44 -> 0
D45: =IF(ISNUMBER(B45),MAX(D44:D44)+1,"") | F45: =B45 -> 0
D46: =IF(ISNUMBER(B46),MAX(D45:D45)+1,"") | F46: =B46 -> 0
D47: =IF(ISNUMBER(B47),MAX(D46:D46)+1,"") | F47: =B47 -> 0
D48: =IF(ISNUMBER(B48),MAX(D47:D47)+1,"") | F48: =B48 -> 0
D49: =IF(ISNUMBER(B49),MAX(D48:D48)+1,"") | F49: =B49 -> 0
D50: =IF(ISNUMBER(B50),MAX(D49:D49)+1,"") | F50: =B50 -> 0
... D54: =IF(ISNUMBER(B54),MAX(D53:D53)+1,"") | F54: =B54 -> 0

Sheet Kategorie
B1: Kategorie | K1: =SUM(K4:K35) -> 137 | N1: Listina | CS1: pohlaví | CT1: Naz_T_Kat
E2: 8 | F2: 7 | G2: 7 | J2: 10 | N2: =SUM(N4:N34) -> 1 | O2: =SUM(O4:O34) -> 2 | P2: =SUM(P4:P34) -> 1 | Q2: =SUM(Q4:Q34) -> 1 | R2: =SUM(R4:R34) -> 1 | S2: =SUM(S4:S34) -> 2 | T2: =SUM(T4:T34) -> 1 | U2: =SUM(U4:U34) -> 2 | ... AL2: =SUM(AL4:AL34) -> 0
G3: rok narození | H3: sk | I3: Délka tratě | J3: kat. | K3: Počet v KAT | L3: Počet SK | N3: 1 | O3: 2 | P3: 3 | Q3: 4 | R3: 5 | S3: 6 | T3: 7 | U3: 8 | V3: 9 | W3: 10 | X3: 11 | Y3: 12 | Z3: 13 | AA3: 14 | AB3: 15 | AC3: 16 | AD3: 17 | AE3: 18 | AF3: 19 | AG3: 20 | AH3: 21 | AI3: 22 | AJ3: 23 | AK3: 24 | AL3: 25 | BQ3: v listině | BS3: Skupina
A4: =J4 -> D01 | B4: =IF(A4="","",VLOOKUP(Kategorie!A4,kateg2,4,0)) -> Benjamínci D | C4: do | D4: 11 | E4: =IF($J4="",0,VLOOKUP($J4,kateg2,E$2,0)) -> 2026 | F4: =IF($J4="",0,VLOOKUP($J4,kateg2,F$2,0)) -> 2021 | G4: =IF(E4="","",VLOOKUP($J4,kateg2,G$2,0) & "-" & VLOOKUP($J4,kateg2,E$2,0)) -> 2021-2026 | H4: =IF(I4=20,1,IF(I4=40,2,IF(I4=60,3,IF(I4=80,4,5)))) -> 1 | I4: 20 | J4: =IF(ISERROR(VLOOKUP(D4,Kateg_2!$C$61:$N$89,J$2,0)),"",VLOOKUP(D4,Kateg_2!$C$61:$N$89,J$2,0)) -> D01 | K4: =IF(J4="",0,HLOOKUP(J4,Vstup!$L$1:$AN$5,5,FALSE)) -> 15 | L4: =COUNTIF(Vstup!$J$7:$J$355,H4) -> 33 | M4: =N4&O4&P4&Q4&R4&S4&T4&U4&V4&W4&X4&Y4&Z4&AA4&AB4&AC4&AH4&AI4&AJ4&AK4&AL4&AD4&AE4&AF4&AG4 -> 1 | N4: 1 | AM4: =J4 -> D01 | AN4: Chlapci - | AO4: =CONCATENATE(AN4," ročník narození ",G4," ",I4," m") -> Chlapci - ročník narození 2021-2026 20 m | BQ4: =IF(ISERROR(MATCH(1,N4:AL4)),"",MATCH(1,N4:AL4)) -> 1 | BR4: =H4 -> 1 | BS4: 1 | BT4: =COUNTIF(Vstup!$J$7:$J$148,BS4) -> 33 | BV4: =IF($K4="","",N4*$K4) -> 15 | BW4: =IF($K4="","",O4*$K4) -> 0 | BX4: =IF($K4="","",P4*$K4) -> 0 | BY4: =IF($K4="","",Q4*$K4) -> 0 | BZ4: =IF($K4="","",R4*$K4) -> 0 | CA4: =IF($K4="","",S4*$K4) -> 0 | CB4: =IF($K4="","",T4*$K4) -> 0 | CC4: =IF($K4="","",U4*$K4) -> 0 | ... CR4: =IF($K4="","",AJ4*$K4) -> 0 | CS4: =IF(MID(A4,1,1)="D",0,1) -> 0 | CT4: =IF(B4="","",CONCATENATE(B4," - ročník ",G4," ",I4," m")) -> Benjamínci D - ročník 2021-2026 20 m | CU4: =IF(CT4="",0,COUNTIF(Vysledky!$E$4:$E$491,Kategorie!A4)) -> 0
A5: =J5 -> D02 | B5: =IF(A5="","",VLOOKUP(Kategorie!A5,kateg2,4,0)) -> Atletická školka D | C5: do | D5: 12 | E5: =IF($J5="",0,VLOOKUP($J5,kateg2,E$2,0)) -> 2020 | F5: =IF($J5="",0,VLOOKUP($J5,kateg2,F$2,0)) -> 2019 | G5: =IF(E5="","",VLOOKUP($J5,kateg2,G$2,0) & "-" & VLOOKUP($J5,kateg2,E$2,0)) -> 2019-2020 | H5: =IF(I5=20,1,IF(I5=40,2,IF(I5=60,3,IF(I5=80,4,5)))) -> 1 | I5: 20 | J5: =IF(ISERROR(VLOOKUP(D5,Kateg_2!$C$61:$N$89,J$2,0)),"",VLOOKUP(D5,Kateg_2!$C$61:$N$89,J$2,0)) -> D02 | K5: =IF(J5="",0,HLOOKUP(J5,Vstup!$L$1:$AN$5,5,FALSE)) -> 4 | M5: =N5&O5&P5&Q5&R5&S5&T5&U5&V5&W5&X5&Y5&Z5&AA5&AB5&AC5&AH5&AI5&AJ5&AK5&AL5&AD5&AE5&AF5&AG5 -> 1 | O5: 1 | AM5: =J5 -> D02 | AN5: Dívky - | AO5: =CONCATENATE(AN5," ročník narození ",G5," ",I5," m") -> Dívky - ročník narození 2019-2020 20 m | BQ5: =IF(ISERROR(MATCH(1,N5:AL5)),"",MATCH(1,N5:AL5)) -> 2 | BR5: =H5 -> 1 | BV5: =IF($K5="","",N5*$K5) -> 0 | BW5: =IF($K5="","",O5*$K5) -> 4 | BX5: =IF($K5="","",P5*$K5) -> 0 | BY5: =IF($K5="","",Q5*$K5) -> 0 | BZ5: =IF($K5="","",R5*$K5) -> 0 | CA5: =IF($K5="","",S5*$K5) -> 0 | CB5: =IF($K5="","",T5*$K5) -> 0 | CC5: =IF($K5="","",U5*$K5) -> 0 | ... CR5: =IF($K5="","",AJ5*$K5) -> 0 | CS5: =IF(MID(A5,1,1)="D",0,1) -> 0 | CT5: =IF(B5="","",CONCATENATE(B5," - ročník ",G5," ",I5," m")) -> Atletická školka D - ročník 2019-2020 20 m | CU5: =IF(CT5="",0,COUNTIF(Vysledky!$E$4:$E$491,Kategorie!A5)) -> 0
A6: =J6 -> H01 | B6: =IF(A6="","",VLOOKUP(Kategorie!A6,kateg2,4,0)) -> Hendikepovaní | C6: 7 | D6: 13 | E6: =IF($J6="",0,VLOOKUP($J6,kateg2,E$2,0)) -> 2026 | F6: =IF($J6="",0,VLOOKUP($J6,kateg2,F$2,0)) -> 2026 | G6: =IF(E6="","",VLOOKUP($J6,kateg2,G$2,0) & "-" & VLOOKUP($J6,kateg2,E$2,0)) -> 2026-2026 | H6: =IF(I6=20,1,IF(I6=40,2,IF(I6=60,3,IF(I6=80,4,5)))) -> 1 | I6: 20 | J6: =IF(ISERROR(VLOOKUP(D6,Kateg_2!$C$61:$N$89,J$2,0)),"",VLOOKUP(D6,Kateg_2!$C$61:$N$89,J$2,0)) -> H01 | K6: =IF(J6="",0,HLOOKUP(J6,Vstup!$L$1:$AN$5,5,FALSE)) -> 2 | M6: =N6&O6&P6&Q6&R6&S6&T6&U6&V6&W6&X6&Y6&Z6&AA6&AB6&AC6&AH6&AI6&AJ6&AK6&AL6&AD6&AE6&AF6&AG6 -> 1 | O6: 1 | AM6: =J6 -> H01 | AN6: Chlapci - | AO6: =CONCATENATE(AN6," ročník narození ",G6," ",I6," m") -> Chlapci - ročník narození 2026-2026 20 m | BQ6: =IF(ISERROR(MATCH(1,N6:AL6)),"",MATCH(1,N6:AL6)) -> 2 | BR6: =H6 -> 1 | BS6: 2 | BT6: =COUNTIF(Vstup!$J$7:$J$148,BS6) -> 19 | BV6: =IF($K6="","",N6*$K6) -> 0 | BW6: =IF($K6="","",O6*$K6) -> 2 | BX6: =IF($K6="","",P6*$K6) -> 0 | BY6: =IF($K6="","",Q6*$K6) -> 0 | BZ6: =IF($K6="","",R6*$K6) -> 0 | CA6: =IF($K6="","",S6*$K6) -> 0 | CB6: =IF($K6="","",T6*$K6) -> 0 | CC6: =IF($K6="","",U6*$K6) -> 0 | ... CR6: =IF($K6="","",AJ6*$K6) -> 0 | CS6: =IF(MID(A6,1,1)="D",0,1) -> 1 | CT6: =IF(B6="","",CONCATENATE(B6," - ročník ",G6," ",I6," m")) -> Hendikepovaní - ročník 2026-2026 20 m | CU6: =IF(CT6="",0,COUNTIF(Vysledky!$E$4:$E$491,Kategorie!A6)) -> 0
A7: =J7 -> C01 | B7: =IF(A7="","",VLOOKUP(Kategorie!A7,kateg2,4,0)) -> Benjamínci H | D7: 14 | E7: =IF($J7="",0,VLOOKUP($J7,kateg2,E$2,0)) -> 2026 | F7: =IF($J7="",0,VLOOKUP($J7,kateg2,F$2,0)) -> 2021 | G7: =IF(E7="","",VLOOKUP($J7,kateg2,G$2,0) & "-" & VLOOKUP($J7,kateg2,E$2,0)) -> 2021-2026 | H7: =IF(I7=20,1,IF(I7=40,2,IF(I7=60,3,IF(I7=80,4,5)))) -> 1 | I7: 20 | J7: =IF(ISERROR(VLOOKUP(D7,Kateg_2!$C$61:$N$89,J$2,0)),"",VLOOKUP(D7,Kateg_2!$C$61:$N$89,J$2,0)) -> C01 | K7: =IF(J7="",0,HLOOKUP(J7,Vstup!$L$1:$AN$5,5,FALSE)) -> 7 | M7: =N7&O7&P7&Q7&R7&S7&T7&U7&V7&W7&X7&Y7&Z7&AA7&AB7&AC7&AH7&AI7&AJ7&AK7&AL7&AD7&AE7&AF7&AG7 -> 1 | P7: 1 | BQ7: =IF(ISERROR(MATCH(1,N7:AL7)),"",MATCH(1,N7:AL7)) -> 3 | BR7: =H7 -> 1 | BV7: =IF($K7="","",N7*$K7) -> 0 | BW7: =IF($K7="","",O7*$K7) -> 0 | BX7: =IF($K7="","",P7*$K7) -> 7 | BY7: =IF($K7="","",Q7*$K7) -> 0 | BZ7: =IF($K7="","",R7*$K7) -> 0 | CA7: =IF($K7="","",S7*$K7) -> 0 | CB7: =IF($K7="","",T7*$K7) -> 0 | CC7: =IF($K7="","",U7*$K7) -> 0 | ... CR7: =IF($K7="","",AJ7*$K7) -> 0 | CS7: =IF(MID(A7,1,1)="D",0,1) -> 1 | CT7: =IF(B7="","",CONCATENATE(B7," - ročník ",G7," ",I7," m")) -> Benjamínci H - ročník 2021-2026 20 m | CU7: =IF(CT7="",0,COUNTIF(Vysledky!$E$4:$E$491,Kategorie!A7)) -> 0
A8: =J8 -> C02 | B8: =IF(A8="","",VLOOKUP(Kategorie!A8,kateg2,4,0)) -> Atletická školka H | C8: 7 | D8: 15 | E8: =IF($J8="",0,VLOOKUP($J8,kateg2,E$2,0)) -> 2020 | F8: =IF($J8="",0,VLOOKUP($J8,kateg2,F$2,0)) -> 2019 | G8: =IF(E8="","",VLOOKUP($J8,kateg2,G$2,0) & "-" & VLOOKUP($J8,kateg2,E$2,0)) -> 2019-2020 | H8: =IF(I8=20,1,IF(I8=40,2,IF(I8=60,3,IF(I8=80,4,5)))) -> 1 | I8: 20 | J8: =IF(ISERROR(VLOOKUP(D8,Kateg_2!$C$61:$N$89,J$2,0)),"",VLOOKUP(D8,Kateg_2!$C$61:$N$89,J$2,0)) -> C02 | K8: =IF(J8="",0,HLOOKUP(J8,Vstup!$L$1:$AN$5,5,FALSE)) -> 5 | M8: =N8&O8&P8&Q8&R8&S8&T8&U8&V8&W8&X8&Y8&Z8&AA8&AB8&AC8&AH8&AI8&AJ8&AK8&AL8&AD8&AE8&AF8&AG8 -> 1 | Q8: 1 | AM8: =J8 -> C02 | AN8: Dívky - | AO8: =CONCATENATE(AN8," ročník narození ",G8," ",I8," m") -> Dívky - ročník narození 2019-2020 20 m | BQ8: =IF(ISERROR(MATCH(1,N8:AL8)),"",MATCH(1,N8:AL8)) -> 4 | BR8: =H8 -> 1 | BV8: =IF($K8="","",N8*$K8) -> 0 | BW8: =IF($K8="","",O8*$K8) -> 0 | BX8: =IF($K8="","",P8*$K8) -> 0 | BY8: =IF($K8="","",Q8*$K8) -> 5 | BZ8: =IF($K8="","",R8*$K8) -> 0 | CA8: =IF($K8="","",S8*$K8) -> 0 | CB8: =IF($K8="","",T8*$K8) -> 0 | CC8: =IF($K8="","",U8*$K8) -> 0 | ... CR8: =IF($K8="","",AJ8*$K8) -> 0 | CS8: =IF(MID(A8,1,1)="D",0,1) -> 1 | CT8: =IF(B8="","",CONCATENATE(B8," - ročník ",G8," ",I8," m")) -> Atletická školka H - ročník 2019-2020 20 m | CU8: =IF(CT8="",0,COUNTIF(Vysledky!$E$4:$E$491,Kategorie!A8)) -> 0
A9: =J9 -> D03 | B9: =IF(A9="","",VLOOKUP(Kategorie!A9,kateg2,4,0)) -> Minipřípravka D | C9: 9 | D9: 21 | E9: =IF($J9="",0,VLOOKUP($J9,kateg2,E$2,0)) -> 2018 | F9: =IF($J9="",0,VLOOKUP($J9,kateg2,F$2,0)) -> 2017 | G9: =IF(E9="","",VLOOKUP($J9,kateg2,G$2,0) & "-" & VLOOKUP($J9,kateg2,E$2,0)) -> 2017-2018 | H9: =IF(I9=20,1,IF(I9=40,2,IF(I9=60,3,IF(I9=80,4,5)))) -> 2 | I9: 40 | J9: =IF(ISERROR(VLOOKUP(D9,Kateg_2!$C$61:$N$89,J$2,0)),"",VLOOKUP(D9,Kateg_2!$C$61:$N$89,J$2,0)) -> D03 | K9: =IF(J9="",0,HLOOKUP(J9,Vstup!$L$1:$AN$5,5,FALSE)) -> 6 | L9: =COUNTIF(Vstup!$J$7:$J$355,H9) -> 19 | M9: =N9&O9&P9&Q9&R9&S9&T9&U9&V9&W9&X9&Y9&Z9&AA9&AB9&AC9&AH9&AI9&AJ9&AK9&AL9&AD9&AE9&AF9&AG9 -> 1 | R9: 1 | AM9: =J9 -> D03 | AN9: Chlapci - | AO9: =CONCATENATE(AN9," ročník narození ",G9," ",I9," m") -> Chlapci - ročník narození 2017-2018 40 m | BQ9: =IF(ISERROR(MATCH(1,N9:AL9)),"",MATCH(1,N9:AL9)) -> 5 | BR9: =H9 -> 2 | BS9: 3 | BT9: =COUNTIF(Vstup!$J$7:$J$148,BS9) -> 15 | BV9: =IF($K9="","",N9*$K9) -> 0 | BW9: =IF($K9="","",O9*$K9) -> 0 | BX9: =IF($K9="","",P9*$K9) -> 0 | BY9: =IF($K9="","",Q9*$K9) -> 0 | BZ9: =IF($K9="","",R9*$K9) -> 6 | CA9: =IF($K9="","",S9*$K9) -> 0 | CB9: =IF($K9="","",T9*$K9) -> 0 | CC9: =IF($K9="","",U9*$K9) -> 0 | ... CR9: =IF($K9="","",AJ9*$K9) -> 0 | CS9: =IF(MID(A9,1,1)="D",0,1) -> 0 | CT9: =IF(B9="","",CONCATENATE(B9," - ročník ",G9," ",I9," m")) -> Minipřípravka D - ročník 2017-2018 40 m | CU9: =IF(CT9="",0,COUNTIF(Vysledky!$E$4:$E$491,Kategorie!A9)) -> 0
A10: =J10 -> D04 | B10: =IF(A10="","",VLOOKUP(Kategorie!A10,kateg2,4,0)) -> Přípravka D | C10: 9 | D10: 22 | E10: =IF($J10="",0,VLOOKUP($J10,kateg2,E$2,0)) -> 2016 | F10: =IF($J10="",0,VLOOKUP($J10,kateg2,F$2,0)) -> 2015 | G10: =IF(E10="","",VLOOKUP($J10,kateg2,G$2,0) & "-" & VLOOKUP($J10,kateg2,E$2,0)) -> 2015-2016 | H10: =IF(I10=20,1,IF(I10=40,2,IF(I10=60,3,IF(I10=80,4,5)))) -> 2 | I10: 40 | J10: =IF(ISERROR(VLOOKUP(D10,Kateg_2!$C$61:$N$89,J$2,0)),"",VLOOKUP(D10,Kateg_2!$C$61:$N$89,J$2,0)) -> D04 | K10: =IF(J10="",0,HLOOKUP(J10,Vstup!$L$1:$AN$5,5,FALSE)) -> 7 | M10: =N10&O10&P10&Q10&R10&S10&T10&U10&V10&W10&X10&Y10&Z10&AA10&AB10&AC10&AH10&AI10&AJ10&AK10&AL10&AD10&AE10&AF10&AG10 -> 1 | T10: 1 | AM10: =J10 -> D04 | AN10: Dívky - | AO10: =CONCATENATE(AN10," ročník narození ",G10," ",I10," m") -> Dívky - ročník narození 2015-2016 40 m | BQ10: =IF(ISERROR(MATCH(1,N10:AL10)),"",MATCH(1,N10:AL10)) -> 7 | BR10: =H10 -> 2 | BV10: =IF($K10="","",N10*$K10) -> 0 | BW10: =IF($K10="","",O10*$K10) -> 0 | BX10: =IF($K10="","",P10*$K10) -> 0 | BY10: =IF($K10="","",Q10*$K10) -> 0 | BZ10: =IF($K10="","",R10*$K10) -> 0 | CA10: =IF($K10="","",S10*$K10) -> 0 | CB10: =IF($K10="","",T10*$K10) -> 7 | CC10: =IF($K10="","",U10*$K10) -> 0 | ... CR10: =IF($K10="","",AJ10*$K10) -> 0 | CS10: =IF(MID(A10,1,1)="D",0,1) -> 0 | CT10: =IF(B10="","",CONCATENATE(B10," - ročník ",G10," ",I10," m")) -> Přípravka D - ročník 2015-2016 40 m | CU10: =IF(CT10="",0,COUNTIF(Vysledky!$E$4:$E$491,Kategorie!A10)) -> 0
A11: =J11 -> C03 | B11: =IF(A11="","",VLOOKUP(Kategorie!A11,kateg2,4,0)) -> Minipřípravka H | D11: 23 | E11: =IF($J11="",0,VLOOKUP($J11,kateg2,E$2,0)) -> 2018 | F11: =IF($J11="",0,VLOOKUP($J11,kateg2,F$2,0)) -> 2017 | G11: =IF(E11="","",VLOOKUP($J11,kateg2,G$2,0) & "-" & VLOOKUP($J11,kateg2,E$2,0)) -> 2017-2018 | H11: =IF(I11=20,1,IF(I11=40,2,IF(I11=60,3,IF(I11=80,4,5)))) -> 2 | I11: 40 | J11: =IF(ISERROR(VLOOKUP(D11,Kateg_2!$C$61:$N$89,J$2,0)),"",VLOOKUP(D11,Kateg_2!$C$61:$N$89,J$2,0)) -> C03 | K11: =IF(J11="",0,HLOOKUP(J11,Vstup!$L$1:$AN$5,5,FALSE)) -> 5 | M11: =N11&O11&P11&Q11&R11&S11&T11&U11&V11&W11&X11&Y11&Z11&AA11&AB11&AC11&AH11&AI11&AJ11&AK11&AL11&AD11&AE11&AF11&AG11 -> 1 | S11: 1 | BQ11: =IF(ISERROR(MATCH(1,N11:AL11)),"",MATCH(1,N11:AL11)) -> 6 | BR11: =H11 -> 2 | BV11: =IF($K11="","",N11*$K11) -> 0 | BW11: =IF($K11="","",O11*$K11) -> 0 | BX11: =IF($K11="","",P11*$K11) -> 0 | BY11: =IF($K11="","",Q11*$K11) -> 0 | BZ11: =IF($K11="","",R11*$K11) -> 0 | CA11: =IF($K11="","",S11*$K11) -> 5 | CB11: =IF($K11="","",T11*$K11) -> 0 | CC11: =IF($K11="","",U11*$K11) -> 0 | ... CR11: =IF($K11="","",AJ11*$K11) -> 0 | CS11: =IF(MID(A11,1,1)="D",0,1) -> 1 | CT11: =IF(B11="","",CONCATENATE(B11," - ročník ",G11," ",I11," m")) -> Minipřípravka H - ročník 2017-2018 40 m | CU11: =IF(CT11="",0,COUNTIF(Vysledky!$E$4:$E$491,Kategorie!A11)) -> 0
A12: =J12 -> C04 | B12: =IF(A12="","",VLOOKUP(Kategorie!A12,kateg2,4,0)) -> Přípravka H | C12: 11 | D12: 24 | E12: =IF($J12="",0,VLOOKUP($J12,kateg2,E$2,0)) -> 2016 | F12: =IF($J12="",0,VLOOKUP($J12,kateg2,F$2,0)) -> 2015 | G12: =IF(E12="","",VLOOKUP($J12,kateg2,G$2,0) & "-" & VLOOKUP($J12,kateg2,E$2,0)) -> 2015-2016 | H12: =IF(I12=20,1,IF(I12=40,2,IF(I12=60,3,IF(I12=80,4,5)))) -> 2 | I12: 40 | J12: =IF(ISERROR(VLOOKUP(D12,Kateg_2!$C$61:$N$89,J$2,0)),"",VLOOKUP(D12,Kateg_2!$C$61:$N$89,J$2,0)) -> C04 | K12: =IF(J12="",0,HLOOKUP(J12,Vstup!$L$1:$AN$5,5,FALSE)) -> 1 | M12: =N12&O12&P12&Q12&R12&S12&T12&U12&V12&W12&X12&Y12&Z12&AA12&AB12&AC12&AH12&AI12&AJ12&AK12&AL12&AD12&AE12&AF12&AG12 -> 1 | S12: 1 | AM12: =J12 -> C04 | AN12: Chlapci - | AO12: =CONCATENATE(AN12," ročník narození ",G12," ",I12," m") -> Chlapci - ročník narození 2015-2016 40 m | BQ12: =IF(ISERROR(MATCH(1,N12:AL12)),"",MATCH(1,N12:AL12)) -> 6 | BR12: =H12 -> 2 | BS12: 4 | BT12: =COUNTIF(Vstup!$J$7:$J$148,BS12) -> 39 | BV12: =IF($K12="","",N12*$K12) -> 0 | BW12: =IF($K12="","",O12*$K12) -> 0 | BX12: =IF($K12="","",P12*$K12) -> 0 | BY12: =IF($K12="","",Q12*$K12) -> 0 | BZ12: =IF($K12="","",R12*$K12) -> 0 | CA12: =IF($K12="","",S12*$K12) -> 1 | CB12: =IF($K12="","",T12*$K12) -> 0 | CC12: =IF($K12="","",U12*$K12) -> 0 | ... CR12: =IF($K12="","",AJ12*$K12) -> 0 | CS12: =IF(MID(A12,1,1)="D",0,1) -> 1 | CT12: =IF(B12="","",CONCATENATE(B12," - ročník ",G12," ",I12," m")) -> Přípravka H - ročník 2015-2016 40 m | CU12: =IF(CT12="",0,COUNTIF(Vysledky!$E$4:$E$491,Kategorie!A12)) -> 0
A13: =J13 | B13: =IF(A13="","",VLOOKUP(Kategorie!A13,kateg2,4,0)) | C13: 11 | D13: 25 | E13: =IF($J13="",0,VLOOKUP($J13,kateg2,E$2,0)) -> 0 | F13: =IF($J13="",0,VLOOKUP($J13,kateg2,F$2,0)) -> 0 | G13: =IF(E13="","",VLOOKUP($J13,kateg2,G$2,0) & "-" & VLOOKUP($J13,kateg2,E$2,0)) -> - | H13: =IF(I13=20,1,IF(I13=40,2,IF(I13=60,3,IF(I13=80,4,5)))) -> 2 | I13: 40 | J13: =IF(ISERROR(VLOOKUP(D13,Kateg_2!$C$61:$N$89,J$2,0)),"",VLOOKUP(D13,Kateg_2!$C$61:$N$89,J$2,0)) | K13: =IF(J13="",0,HLOOKUP(J13,Vstup!$L$1:$AN$5,5,FALSE)) -> 0 | M13: =N13&O13&P13&Q13&R13&S13&T13&U13&V13&W13&X13&Y13&Z13&AA13&AB13&AC13&AH13&AI13&AJ13&AK13&AL13&AD13&AE13&AF13&AG13 | AM13: =J13 | AN13: Dívky - | AO13: =CONCATENATE(AN13," ročník narození ",G13," ",I13," m") -> Dívky - ročník narození - 40 m | BQ13: =IF(ISERROR(MATCH(1,N13:AL13)),"",MATCH(1,N13:AL13)) | BR13: =H13 -> 2 | BV13: =IF($K13="","",N13*$K13) -> 0 | BW13: =IF($K13="","",O13*$K13) -> 0 | BX13: =IF($K13="","",P13*$K13) -> 0 | BY13: =IF($K13="","",Q13*$K13) -> 0 | BZ13: =IF($K13="","",R13*$K13) -> 0 | CA13: =IF($K13="","",S13*$K13) -> 0 | CB13: =IF($K13="","",T13*$K13) -> 0 | CC13: =IF($K13="","",U13*$K13) -> 0 | ... CR13: =IF($K13="","",AJ13*$K13) -> 0 | CS13: =IF(MID(A13,1,1)="D",0,1) -> 1 | CT13: =IF(B13="","",CONCATENATE(B13," - ročník ",G13," ",I13," m")) | CU13: =IF(CT13="",0,COUNTIF(Vysledky!$E$4:$E$491,Kategorie!A13)) -> 0
A14: =J14 -> D05 | B14: =IF(A14="","",VLOOKUP(Kategorie!A14,kateg2,4,0)) -> Mladší žákyně | C14: 13 | D14: 31 | E14: =IF($J14="",0,VLOOKUP($J14,kateg2,E$2,0)) -> 2014 | F14: =IF($J14="",0,VLOOKUP($J14,kateg2,F$2,0)) -> 2013 | G14: =IF(E14="","",VLOOKUP($J14,kateg2,G$2,0) & "-" & VLOOKUP($J14,kateg2,E$2,0)) -> 2013-2014 | H14: =IF(I14=20,1,IF(I14=40,2,IF(I14=60,3,IF(I14=80,4,5)))) -> 3 | I14: 60 | J14: =IF(ISERROR(VLOOKUP(D14,Kateg_2!$C$61:$N$89,J$2,0)),"",VLOOKUP(D14,Kateg_2!$C$61:$N$89,J$2,0)) -> D05 | K14: =IF(J14="",0,HLOOKUP(J14,Vstup!$L$1:$AN$5,5,FALSE)) -> 2 | L14: =COUNTIF(Vstup!$J$7:$J$148,H14) -> 15 | M14: =N14&O14&P14&Q14&R14&S14&T14&U14&V14&W14&X14&Y14&Z14&AA14&AB14&AC14&AH14&AI14&AJ14&AK14&AL14&AD14&AE14&AF14&AG14 -> 1 | U14: 1 | AM14: =J14 -> D05 | AN14: Chlapci - | AO14: =CONCATENATE(AN14," ročník narození ",G14," ",I14," m") -> Chlapci - ročník narození 2013-2014 60 m | BQ14: =IF(ISERROR(MATCH(1,N14:AL14)),"",MATCH(1,N14:AL14)) -> 8 | BR14: =H14 -> 3 | BS14: 5 | BT14: =COUNTIF(Vstup!$J$7:$J$355,BS14) -> 31 | BV14: =IF($K14="","",N14*$K14) -> 0 | BW14: =IF($K14="","",O14*$K14) -> 0 | BX14: =IF($K14="","",P14*$K14) -> 0 | BY14: =IF($K14="","",Q14*$K14) -> 0 | BZ14: =IF($K14="","",R14*$K14) -> 0 | CA14: =IF($K14="","",S14*$K14) -> 0 | CB14: =IF($K14="","",T14*$K14) -> 0 | CC14: =IF($K14="","",U14*$K14) -> 2 | ... CR14: =IF($K14="","",AJ14*$K14) -> 0 | CS14: =IF(MID(A14,1,1)="D",0,1) -> 0 | CT14: =IF(B14="","",CONCATENATE(B14," - ročník ",G14," ",I14," m")) -> Mladší žákyně - ročník 2013-2014 60 m | CU14: =IF(CT14="",0,COUNTIF(Vysledky!$E$4:$E$491,Kategorie!A14)) -> 0
A15: =J15 -> D06 | B15: =IF(A15="","",VLOOKUP(Kategorie!A15,kateg2,4,0)) -> Starší žákyně | C15: 13 | D15: 32 | E15: =IF($J15="",0,VLOOKUP($J15,kateg2,E$2,0)) -> 2012 | F15: =IF($J15="",0,VLOOKUP($J15,kateg2,F$2,0)) -> 2011 | G15: =IF(E15="","",VLOOKUP($J15,kateg2,G$2,0) & "-" & VLOOKUP($J15,kateg2,E$2,0)) -> 2011-2012 | H15: =IF(I15=20,1,IF(I15=40,2,IF(I15=60,3,IF(I15=80,4,5)))) -> 3 | I15: 60 | J15: =IF(ISERROR(VLOOKUP(D15,Kateg_2!$C$61:$N$89,J$2,0)),"",VLOOKUP(D15,Kateg_2!$C$61:$N$89,J$2,0)) -> D06 | K15: =IF(J15="",0,HLOOKUP(J15,Vstup!$L$1:$AN$5,5,FALSE)) -> 5 | M15: =N15&O15&P15&Q15&R15&S15&T15&U15&V15&W15&X15&Y15&Z15&AA15&AB15&AC15&AH15&AI15&AJ15&AK15&AL15&AD15&AE15&AF15&AG15 -> 1 | U15: 1 | AM15: =J15 -> D06 | AN15: Dívky - | AO15: =CONCATENATE(AN15," ročník narození ",G15," ",I15," m") -> Dívky - ročník narození 2011-2012 60 m | BQ15: =IF(ISERROR(MATCH(1,N15:AL15)),"",MATCH(1,N15:AL15)) -> 8 | BR15: =H15 -> 3 | BV15: =IF($K15="","",N15*$K15) -> 0 | BW15: =IF($K15="","",O15*$K15) -> 0 | BX15: =IF($K15="","",P15*$K15) -> 0 | BY15: =IF($K15="","",Q15*$K15) -> 0 | BZ15: =IF($K15="","",R15*$K15) -> 0 | CA15: =IF($K15="","",S15*$K15) -> 0 | CB15: =IF($K15="","",T15*$K15) -> 0 | CC15: =IF($K15="","",U15*$K15) -> 5 | ... CR15: =IF($K15="","",AJ15*$K15) -> 0 | CS15: =IF(MID(A15,1,1)="D",0,1) -> 0 | CT15: =IF(B15="","",CONCATENATE(B15," - ročník ",G15," ",I15," m")) -> Starší žákyně - ročník 2011-2012 60 m | CU15: =IF(CT15="",0,COUNTIF(Vysledky!$E$4:$E$491,Kategorie!A15)) -> 0
A16: =J16 -> C05 | B16: =IF(A16="","",VLOOKUP(Kategorie!A16,kateg2,4,0)) -> Mladší žáci | D16: 33 | E16: =IF($J16="",0,VLOOKUP($J16,kateg2,E$2,0)) -> 2014 | F16: =IF($J16="",0,VLOOKUP($J16,kateg2,F$2,0)) -> 2013 | G16: =IF(E16="","",VLOOKUP($J16,kateg2,G$2,0) & "-" & VLOOKUP($J16,kateg2,E$2,0)) -> 2013-2014 | H16: =IF(I16=20,1,IF(I16=40,2,IF(I16=60,3,IF(I16=80,4,5)))) -> 3 | I16: 60 | J16: =IF(ISERROR(VLOOKUP(D16,Kateg_2!$C$61:$N$89,J$2,0)),"",VLOOKUP(D16,Kateg_2!$C$61:$N$89,J$2,0)) -> C05 | K16: =IF(J16="",0,HLOOKUP(J16,Vstup!$L$1:$AN$5,5,FALSE)) -> 5 | M16: =N16&O16&P16&Q16&R16&S16&T16&U16&V16&W16&X16&Y16&Z16&AA16&AB16&AC16&AH16&AI16&AJ16&AK16&AL16&AD16&AE16&AF16&AG16 -> 1 | V16: 1 | BQ16: =IF(ISERROR(MATCH(1,N16:AL16)),"",MATCH(1,N16:AL16)) -> 9 | BR16: =H16 -> 3 | BV16: =IF($K16="","",N16*$K16) -> 0 | BW16: =IF($K16="","",O16*$K16) -> 0 | BX16: =IF($K16="","",P16*$K16) -> 0 | BY16: =IF($K16="","",Q16*$K16) -> 0 | BZ16: =IF($K16="","",R16*$K16) -> 0 | CA16: =IF($K16="","",S16*$K16) -> 0 | CB16: =IF($K16="","",T16*$K16) -> 0 | CC16: =IF($K16="","",U16*$K16) -> 0 | ... CR16: =IF($K16="","",AJ16*$K16) -> 0 | CS16: =IF(MID(A16,1,1)="D",0,1) -> 1 | CT16: =IF(B16="","",CONCATENATE(B16," - ročník ",G16," ",I16," m")) -> Mladší žáci - ročník 2013-2014 60 m | CU16: =IF(CT16="",0,COUNTIF(Vysledky!$E$4:$E$491,Kategorie!A16)) -> 0
A17: =J17 -> C06 | B17: =IF(A17="","",VLOOKUP(Kategorie!A17,kateg2,4,0)) -> Starší žáci | C17: 15 | D17: 34 | E17: =IF($J17="",0,VLOOKUP($J17,kateg2,E$2,0)) -> 2012 | F17: =IF($J17="",0,VLOOKUP($J17,kateg2,F$2,0)) -> 2011 | G17: =IF(E17="","",VLOOKUP($J17,kateg2,G$2,0) & "-" & VLOOKUP($J17,kateg2,E$2,0)) -> 2011-2012 | H17: =IF(I17=20,1,IF(I17=40,2,IF(I17=60,3,IF(I17=80,4,5)))) -> 3 | I17: 60 | J17: =IF(ISERROR(VLOOKUP(D17,Kateg_2!$C$61:$N$89,J$2,0)),"",VLOOKUP(D17,Kateg_2!$C$61:$N$89,J$2,0)) -> C06 | K17: =IF(J17="",0,HLOOKUP(J17,Vstup!$L$1:$AN$5,5,FALSE)) -> 3 | M17: =N17&O17&P17&Q17&R17&S17&T17&U17&V17&W17&X17&Y17&Z17&AA17&AB17&AC17&AH17&AI17&AJ17&AK17&AL17&AD17&AE17&AF17&AG17 -> 1 | V17: 1 | AM17: =J17 -> C06 | AN17: Chlapci - | AO17: =CONCATENATE(AN17," ročník narození ",G17," ",I17," m") -> Chlapci - ročník narození 2011-2012 60 m | BQ17: =IF(ISERROR(MATCH(1,N17:AL17)),"",MATCH(1,N17:AL17)) -> 9 | BR17: =H17 -> 3 | BV17: =IF($K17="","",N17*$K17) -> 0 | BW17: =IF($K17="","",O17*$K17) -> 0 | BX17: =IF($K17="","",P17*$K17) -> 0 | BY17: =IF($K17="","",Q17*$K17) -> 0 | BZ17: =IF($K17="","",R17*$K17) -> 0 | CA17: =IF($K17="","",S17*$K17) -> 0 | CB17: =IF($K17="","",T17*$K17) -> 0 | CC17: =IF($K17="","",U17*$K17) -> 0 | ... CR17: =IF($K17="","",AJ17*$K17) -> 0 | CS17: =IF(MID(A17,1,1)="D",0,1) -> 1 | CT17: =IF(B17="","",CONCATENATE(B17," - ročník ",G17," ",I17," m")) -> Starší žáci - ročník 2011-2012 60 m | CU17: =IF(CT17="",0,COUNTIF(Vysledky!$E$4:$E$491,Kategorie!A17)) -> 0
A18: =J18 | B18: =IF(A18="","",VLOOKUP(Kategorie!A18,kateg2,4,0)) | C18: 15 | D18: 35 | E18: =IF($J18="",0,VLOOKUP($J18,kateg2,E$2,0)) -> 0 | F18: =IF($J18="",0,VLOOKUP($J18,kateg2,F$2,0)) -> 0 | G18: =IF(E18="","",VLOOKUP($J18,kateg2,G$2,0) & "-" & VLOOKUP($J18,kateg2,E$2,0)) -> - | H18: =IF(I18=20,1,IF(I18=40,2,IF(I18=60,3,IF(I18=80,4,5)))) -> 3 | I18: 60 | J18: =IF(ISERROR(VLOOKUP(D18,Kateg_2!$C$61:$N$89,J$2,0)),"",VLOOKUP(D18,Kateg_2!$C$61:$N$89,J$2,0)) | K18: =IF(J18="",0,HLOOKUP(J18,Vstup!$L$1:$AN$5,5,FALSE)) -> 0 | M18: =N18&O18&P18&Q18&R18&S18&T18&U18&V18&W18&X18&Y18&Z18&AA18&AB18&AC18&AH18&AI18&AJ18&AK18&AL18&AD18&AE18&AF18&AG18 | AM18: =J18 | AN18: Dívky - | AO18: =CONCATENATE(AN18," ročník narození ",G18," ",I18," m") -> Dívky - ročník narození - 60 m | BQ18: =IF(ISERROR(MATCH(1,N18:AL18)),"",MATCH(1,N18:AL18)) | BR18: =H18 -> 3 | BV18: =IF($K18="","",N18*$K18) -> 0 | BW18: =IF($K18="","",O18*$K18) -> 0 | BX18: =IF($K18="","",P18*$K18) -> 0 | BY18: =IF($K18="","",Q18*$K18) -> 0 | BZ18: =IF($K18="","",R18*$K18) -> 0 | CA18: =IF($K18="","",S18*$K18) -> 0 | CB18: =IF($K18="","",T18*$K18) -> 0 | CC18: =IF($K18="","",U18*$K18) -> 0 | ... CR18: =IF($K18="","",AJ18*$K18) -> 0 | CS18: =IF(MID(A18,1,1)="D",0,1) -> 1 | CT18: =IF(B18="","",CONCATENATE(B18," - ročník ",G18," ",I18," m")) | CU18: =IF(CT18="",0,COUNTIF(Vysledky!$E$4:$E$491,Kategorie!A18)) -> 0
A19: =J19 -> D07 | B19: =IF(A19="","",VLOOKUP(Kategorie!A19,kateg2,4,0)) -> Dorostenky | C19: 17 | D19: 41 | E19: =IF($J19="",0,VLOOKUP($J19,kateg2,E$2,0)) -> 2010 | F19: =IF($J19="",0,VLOOKUP($J19,kateg2,F$2,0)) -> 2009 | G19: =IF(E19="","",VLOOKUP($J19,kateg2,G$2,0) & "-" & VLOOKUP($J19,kateg2,E$2,0)) -> 2009-2010 | H19: =IF(I19=20,1,IF(I19=40,2,IF(I19=60,3,IF(I19=80,4,5)))) -> 4 | I19: 80 | J19: =IF(ISERROR(VLOOKUP(D19,Kateg_2!$C$61:$N$89,J$2,0)),"",VLOOKUP(D19,Kateg_2!$C$61:$N$89,J$2,0)) -> D07 | K19: =IF(J19="",0,HLOOKUP(J19,Vstup!$L$1:$AN$5,5,FALSE)) -> 2 | L19: =COUNTIF(Vstup!$J$7:$J$355,H19) -> 39 | M19: =N19&O19&P19&Q19&R19&S19&T19&U19&V19&W19&X19&Y19&Z19&AA19&AB19&AC19&AH19&AI19&AJ19&AK19&AL19&AD19&AE19&AF19&AG19 -> 1 | W19: 1 | AM19: =J19 -> D07 | AN19: Chlapci - | AO19: =CONCATENATE(AN19," ročník narození ",G19," ",I19," m") -> Chlapci - ročník narození 2009-2010 80 m | BQ19: =IF(ISERROR(MATCH(1,N19:AL19)),"",MATCH(1,N19:AL19)) -> 10 | BR19: =H19 -> 4 | BS19: CELKEM | BT19: =SUM(BT4:BT17) -> 137 | BV19: =IF($K19="","",N19*$K19) -> 0 | BW19: =IF($K19="","",O19*$K19) -> 0 | BX19: =IF($K19="","",P19*$K19) -> 0 | BY19: =IF($K19="","",Q19*$K19) -> 0 | BZ19: =IF($K19="","",R19*$K19) -> 0 | CA19: =IF($K19="","",S19*$K19) -> 0 | CB19: =IF($K19="","",T19*$K19) -> 0 | CC19: =IF($K19="","",U19*$K19) -> 0 | ... CR19: =IF($K19="","",AJ19*$K19) -> 0 | CS19: =IF(MID(A19,1,1)="D",0,1) -> 0 | CT19: =IF(B19="","",CONCATENATE(B19," - ročník ",G19," ",I19," m")) -> Dorostenky - ročník 2009-2010 80 m | CU19: =IF(CT19="",0,COUNTIF(Vysledky!$E$4:$E$491,Kategorie!A19)) -> 0
A20: =J20 -> D08 | B20: =IF(A20="","",VLOOKUP(Kategorie!A20,kateg2,4,0)) -> Juniorky | C20: 17 | D20: 42 | E20: =IF($J20="",0,VLOOKUP($J20,kateg2,E$2,0)) -> 2008 | F20: =IF($J20="",0,VLOOKUP($J20,kateg2,F$2,0)) -> 2007 | G20: =IF(E20="","",VLOOKUP($J20,kateg2,G$2,0) & "-" & VLOOKUP($J20,kateg2,E$2,0)) -> 2007-2008 | H20: =IF(I20=20,1,IF(I20=40,2,IF(I20=60,3,IF(I20=80,4,5)))) -> 4 | I20: 80 | J20: =IF(ISERROR(VLOOKUP(D20,Kateg_2!$C$61:$N$89,J$2,0)),"",VLOOKUP(D20,Kateg_2!$C$61:$N$89,J$2,0)) -> D08 | K20: =IF(J20="",0,HLOOKUP(J20,Vstup!$L$1:$AN$5,5,FALSE)) -> 0 | M20: =N20&O20&P20&Q20&R20&S20&T20&U20&V20&W20&X20&Y20&Z20&AA20&AB20&AC20&AH20&AI20&AJ20&AK20&AL20&AD20&AE20&AF20&AG20 | AM20: =J20 -> D08 | AN20: Dívky - | AO20: =CONCATENATE(AN20," ročník narození ",G20," ",I20," m") -> Dívky - ročník narození 2007-2008 80 m | BQ20: =IF(ISERROR(MATCH(1,N20:AL20)),"",MATCH(1,N20:AL20)) | BR20: =H20 -> 4 | BV20: =IF($K20="","",N20*$K20) -> 0 | BW20: =IF($K20="","",O20*$K20) -> 0 | BX20: =IF($K20="","",P20*$K20) -> 0 | BY20: =IF($K20="","",Q20*$K20) -> 0 | BZ20: =IF($K20="","",R20*$K20) -> 0 | CA20: =IF($K20="","",S20*$K20) -> 0 | CB20: =IF($K20="","",T20*$K20) -> 0 | CC20: =IF($K20="","",U20*$K20) -> 0 | ... CR20: =IF($K20="","",AJ20*$K20) -> 0 | CS20: =IF(MID(A20,1,1)="D",0,1) -> 0 | CT20: =IF(B20="","",CONCATENATE(B20," - ročník ",G20," ",I20," m")) -> Juniorky - ročník 2007-2008 80 m | CU20: =IF(CT20="",0,COUNTIF(Vysledky!$E$4:$E$491,Kategorie!A20)) -> 0
A21: =J21 -> D10 | B21: =IF(A21="","",VLOOKUP(Kategorie!A21,kateg2,4,0)) -> Ženy B | D21: 43 | E21: =IF($J21="",0,VLOOKUP($J21,kateg2,E$2,0)) -> 1991 | F21: =IF($J21="",0,VLOOKUP($J21,kateg2,F$2,0)) -> 1982 | G21: =IF(E21="","",VLOOKUP($J21,kateg2,G$2,0) & "-" & VLOOKUP($J21,kateg2,E$2,0)) -> 1982-1991 | H21: =IF(I21=20,1,IF(I21=40,2,IF(I21=60,3,IF(I21=80,4,5)))) -> 4 | I21: 80 | J21: =IF(ISERROR(VLOOKUP(D21,Kateg_2!$C$61:$N$89,J$2,0)),"",VLOOKUP(D21,Kateg_2!$C$61:$N$89,J$2,0)) -> D10 | K21: =IF(J21="",0,HLOOKUP(J21,Vstup!$L$1:$AN$5,5,FALSE)) -> 9 | M21: =N21&O21&P21&Q21&R21&S21&T21&U21&V21&W21&X21&Y21&Z21&AA21&AB21&AC21&AH21&AI21&AJ21&AK21&AL21&AD21&AE21&AF21&AG21 -> 1 | X21: 1 | BQ21: =IF(ISERROR(MATCH(1,N21:AL21)),"",MATCH(1,N21:AL21)) -> 11 | BR21: =H21 -> 4 | BV21: =IF($K21="","",N21*$K21) -> 0 | BW21: =IF($K21="","",O21*$K21) -> 0 | BX21: =IF($K21="","",P21*$K21) -> 0 | BY21: =IF($K21="","",Q21*$K21) -> 0 | BZ21: =IF($K21="","",R21*$K21) -> 0 | CA21: =IF($K21="","",S21*$K21) -> 0 | CB21: =IF($K21="","",T21*$K21) -> 0 | CC21: =IF($K21="","",U21*$K21) -> 0 | ... CR21: =IF($K21="","",AJ21*$K21) -> 0 | CS21: =IF(MID(A21,1,1)="D",0,1) -> 0 | CT21: =IF(B21="","",CONCATENATE(B21," - ročník ",G21," ",I21," m")) -> Ženy B - ročník 1982-1991 80 m | CU21: =IF(CT21="",0,COUNTIF(Vysledky!$E$4:$E$491,Kategorie!A21)) -> 0
A22: =J22 -> D11 | B22: =IF(A22="","",VLOOKUP(Kategorie!A22,kateg2,4,0)) -> Ženy C | D22: 44 | E22: =IF($J22="",0,VLOOKUP($J22,kateg2,E$2,0)) -> 1981 | F22: =IF($J22="",0,VLOOKUP($J22,kateg2,F$2,0)) -> 1972 | G22: =IF(E22="","",VLOOKUP($J22,kateg2,G$2,0) & "-" & VLOOKUP($J22,kateg2,E$2,0)) -> 1972-1981 | H22: =IF(I22=20,1,IF(I22=40,2,IF(I22=60,3,IF(I22=80,4,5)))) -> 4 | I22: 80 | J22: =IF(ISERROR(VLOOKUP(D22,Kateg_2!$C$61:$N$89,J$2,0)),"",VLOOKUP(D22,Kateg_2!$C$61:$N$89,J$2,0)) -> D11 | K22: =IF(J22="",0,HLOOKUP(J22,Vstup!$L$1:$AN$5,5,FALSE)) -> 9 | M22: =N22&O22&P22&Q22&R22&S22&T22&U22&V22&W22&X22&Y22&Z22&AA22&AB22&AC22&AH22&AI22&AJ22&AK22&AL22&AD22&AE22&AF22&AG22 -> 1 | Y22: 1 | BQ22: =IF(ISERROR(MATCH(1,N22:AL22)),"",MATCH(1,N22:AL22)) -> 12 | BR22: =H22 -> 4 | BV22: =IF($K22="","",N22*$K22) -> 0 | BW22: =IF($K22="","",O22*$K22) -> 0 | BX22: =IF($K22="","",P22*$K22) -> 0 | BY22: =IF($K22="","",Q22*$K22) -> 0 | BZ22: =IF($K22="","",R22*$K22) -> 0 | CA22: =IF($K22="","",S22*$K22) -> 0 | CB22: =IF($K22="","",T22*$K22) -> 0 | CC22: =IF($K22="","",U22*$K22) -> 0 | ... CR22: =IF($K22="","",AJ22*$K22) -> 0 | CS22: =IF(MID(A22,1,1)="D",0,1) -> 0 | CT22: =IF(B22="","",CONCATENATE(B22," - ročník ",G22," ",I22," m")) -> Ženy C - ročník 1972-1981 80 m | CU22: =IF(CT22="",0,COUNTIF(Vysledky!$E$4:$E$491,Kategorie!A22)) -> 0
A23: =J23 -> D12 | B23: =IF(A23="","",VLOOKUP(Kategorie!A23,kateg2,4,0)) -> Ženy D | D23: 45 | E23: =IF($J23="",0,VLOOKUP($J23,kateg2,E$2,0)) -> 1971 | F23: =IF($J23="",0,VLOOKUP($J23,kateg2,F$2,0)) -> 1926 | G23: =IF(E23="","",VLOOKUP($J23,kateg2,G$2,0) & "-" & VLOOKUP($J23,kateg2,E$2,0)) -> 1926-1971 | H23: =IF(I23=20,1,IF(I23=40,2,IF(I23=60,3,IF(I23=80,4,5)))) -> 4 | I23: 80 | J23: =IF(ISERROR(VLOOKUP(D23,Kateg_2!$C$61:$N$89,J$2,0)),"",VLOOKUP(D23,Kateg_2!$C$61:$N$89,J$2,0)) -> D12 | K23: =IF(J23="",0,HLOOKUP(J23,Vstup!$L$1:$AN$5,5,FALSE)) -> 3 | M23: =N23&O23&P23&Q23&R23&S23&T23&U23&V23&W23&X23&Y23&Z23&AA23&AB23&AC23&AH23&AI23&AJ23&AK23&AL23&AD23&AE23&AF23&AG23 -> 1 | W23: 1 | BQ23: =IF(ISERROR(MATCH(1,N23:AL23)),"",MATCH(1,N23:AL23)) -> 10 | BR23: =H23 -> 4 | BV23: =IF($K23="","",N23*$K23) -> 0 | BW23: =IF($K23="","",O23*$K23) -> 0 | BX23: =IF($K23="","",P23*$K23) -> 0 | BY23: =IF($K23="","",Q23*$K23) -> 0 | BZ23: =IF($K23="","",R23*$K23) -> 0 | CA23: =IF($K23="","",S23*$K23) -> 0 | CB23: =IF($K23="","",T23*$K23) -> 0 | CC23: =IF($K23="","",U23*$K23) -> 0 | ... CR23: =IF($K23="","",AJ23*$K23) -> 0 | CS23: =IF(MID(A23,1,1)="D",0,1) -> 0 | CT23: =IF(B23="","",CONCATENATE(B23," - ročník ",G23," ",I23," m")) -> Ženy D - ročník 1926-1971 80 m | CU23: =IF(CT23="",0,COUNTIF(Vysledky!$E$4:$E$491,Kategorie!A23)) -> 0
A24: =J24 -> K01 | B24: =IF(A24="","",VLOOKUP(Kategorie!A24,kateg2,4,0)) -> Kněží | D24: 46 | E24: =IF($J24="",0,VLOOKUP($J24,kateg2,E$2,0)) -> 2026 | F24: =IF($J24="",0,VLOOKUP($J24,kateg2,F$2,0)) -> 1926 | G24: =IF(E24="","",VLOOKUP($J24,kateg2,G$2,0) & "-" & VLOOKUP($J24,kateg2,E$2,0)) -> 1926-2026 | H24: =IF(I24=20,1,IF(I24=40,2,IF(I24=60,3,IF(I24=80,4,5)))) -> 4 | I24: 80 | J24: =IF(ISERROR(VLOOKUP(D24,Kateg_2!$C$61:$N$89,J$2,0)),"",VLOOKUP(D24,Kateg_2!$C$61:$N$89,J$2,0)) -> K01 | K24: =IF(J24="",0,HLOOKUP(J24,Vstup!$L$1:$AN$5,5,FALSE)) -> 1 | M24: =N24&O24&P24&Q24&R24&S24&T24&U24&V24&W24&X24&Y24&Z24&AA24&AB24&AC24&AH24&AI24&AJ24&AK24&AL24&AD24&AE24&AF24&AG24 -> 1 | AA24: 1 | BQ24: =IF(ISERROR(MATCH(1,N24:AL24)),"",MATCH(1,N24:AL24)) -> 14 | BR24: =H24 -> 4 | BV24: =IF($K24="","",N24*$K24) -> 0 | BW24: =IF($K24="","",O24*$K24) -> 0 | BX24: =IF($K24="","",P24*$K24) -> 0 | BY24: =IF($K24="","",Q24*$K24) -> 0 | BZ24: =IF($K24="","",R24*$K24) -> 0 | CA24: =IF($K24="","",S24*$K24) -> 0 | CB24: =IF($K24="","",T24*$K24) -> 0 | CC24: =IF($K24="","",U24*$K24) -> 0 | ... CR24: =IF($K24="","",AJ24*$K24) -> 0 | CS24: =IF(MID(A24,1,1)="D",0,1) -> 1 | CT24: =IF(B24="","",CONCATENATE(B24," - ročník ",G24," ",I24," m")) -> Kněží - ročník 1926-2026 80 m | CU24: =IF(CT24="",0,COUNTIF(Vysledky!$E$4:$E$491,Kategorie!A24)) -> 0
A25: =J25 -> C07 | B25: =IF(A25="","",VLOOKUP(Kategorie!A25,kateg2,4,0)) -> Dorostenci | C25: nad | D25: 47 | E25: =IF($J25="",0,VLOOKUP($J25,kateg2,E$2,0)) -> 2010 | F25: =IF($J25="",0,VLOOKUP($J25,kateg2,F$2,0)) -> 2009 | G25: =IF(E25="","",VLOOKUP($J25,kateg2,G$2,0) & "-" & VLOOKUP($J25,kateg2,E$2,0)) -> 2009-2010 | H25: =IF(I25=20,1,IF(I25=40,2,IF(I25=60,3,IF(I25=80,4,5)))) -> 4 | I25: 80 | J25: =IF(ISERROR(VLOOKUP(D25,Kateg_2!$C$61:$N$89,J$2,0)),"",VLOOKUP(D25,Kateg_2!$C$61:$N$89,J$2,0)) -> C07 | K25: =IF(J25="",0,HLOOKUP(J25,Vstup!$L$1:$AN$5,5,FALSE)) -> 8 | M25: =N25&O25&P25&Q25&R25&S25&T25&U25&V25&W25&X25&Y25&Z25&AA25&AB25&AC25&AH25&AI25&AJ25&AK25&AL25&AD25&AE25&AF25&AG25 -> 1 | Z25: 1 | AM25: =J25 -> C07 | AN25: Ženy - | AO25: =CONCATENATE(AN25," ročník narození ",G25," ",I25," m") -> Ženy - ročník narození 2009-2010 80 m | BQ25: =IF(ISERROR(MATCH(1,N25:AL25)),"",MATCH(1,N25:AL25)) -> 13 | BR25: =H25 -> 4 | BV25: =IF($K25="","",N25*$K25) -> 0 | BW25: =IF($K25="","",O25*$K25) -> 0 | BX25: =IF($K25="","",P25*$K25) -> 0 | BY25: =IF($K25="","",Q25*$K25) -> 0 | BZ25: =IF($K25="","",R25*$K25) -> 0 | CA25: =IF($K25="","",S25*$K25) -> 0 | CB25: =IF($K25="","",T25*$K25) -> 0 | CC25: =IF($K25="","",U25*$K25) -> 0 | ... CR25: =IF($K25="","",AJ25*$K25) -> 0 | CS25: =IF(MID(A25,1,1)="D",0,1) -> 1 | CT25: =IF(B25="","",CONCATENATE(B25," - ročník ",G25," ",I25," m")) -> Dorostenci - ročník 2009-2010 80 m | CU25: =IF(CT25="",0,COUNTIF(Vysledky!$E$4:$E$491,Kategorie!A25)) -> 8
A26: =J26 -> C08 | B26: =IF(A26="","",VLOOKUP(Kategorie!A26,kateg2,4,0)) -> Junioři | C26: 60 | D26: 48 | E26: =IF($J26="",0,VLOOKUP($J26,kateg2,E$2,0)) -> 2008 | F26: =IF($J26="",0,VLOOKUP($J26,kateg2,F$2,0)) -> 2007 | G26: =IF(E26="","",VLOOKUP($J26,kateg2,G$2,0) & "-" & VLOOKUP($J26,kateg2,E$2,0)) -> 2007-2008 | H26: =IF(I26=20,1,IF(I26=40,2,IF(I26=60,3,IF(I26=80,4,5)))) -> 4 | I26: 80 | J26: =IF(ISERROR(VLOOKUP(D26,Kateg_2!$C$61:$N$89,J$2,0)),"",VLOOKUP(D26,Kateg_2!$C$61:$N$89,J$2,0)) -> C08 | K26: =IF(J26="",0,HLOOKUP(J26,Vstup!$L$1:$AN$5,5,FALSE)) -> 1 | M26: =N26&O26&P26&Q26&R26&S26&T26&U26&V26&W26&X26&Y26&Z26&AA26&AB26&AC26&AH26&AI26&AJ26&AK26&AL26&AD26&AE26&AF26&AG26 -> 1 | Z26: 1 | AM26: =J26 -> C08 | AN26: Muži - | AO26: =CONCATENATE(AN26," ročník narození ",G26," ",I26," m") -> Muži - ročník narození 2007-2008 80 m | BQ26: =IF(ISERROR(MATCH(1,N26:AL26)),"",MATCH(1,N26:AL26)) -> 13 | BR26: =H26 -> 4 | BV26: =IF($K26="","",N26*$K26) -> 0 | BW26: =IF($K26="","",O26*$K26) -> 0 | BX26: =IF($K26="","",P26*$K26) -> 0 | BY26: =IF($K26="","",Q26*$K26) -> 0 | BZ26: =IF($K26="","",R26*$K26) -> 0 | CA26: =IF($K26="","",S26*$K26) -> 0 | CB26: =IF($K26="","",T26*$K26) -> 0 | CC26: =IF($K26="","",U26*$K26) -> 0 | ... CR26: =IF($K26="","",AJ26*$K26) -> 0 | CS26: =IF(MID(A26,1,1)="D",0,1) -> 1 | CT26: =IF(B26="","",CONCATENATE(B26," - ročník ",G26," ",I26," m")) -> Junioři - ročník 2007-2008 80 m | CU26: =IF(CT26="",0,COUNTIF(Vysledky!$E$4:$E$491,Kategorie!A26)) -> 1
A27: =J27 -> C12 | B27: =IF(A27="","",VLOOKUP(Kategorie!A27,kateg2,4,0)) -> Muži D | C27: nad | D27: 49 | E27: =IF($J27="",0,VLOOKUP($J27,kateg2,E$2,0)) -> 1966 | F27: =IF($J27="",0,VLOOKUP($J27,kateg2,F$2,0)) -> 1957 | G27: =IF(E27="","",VLOOKUP($J27,kateg2,G$2,0) & "-" & VLOOKUP($J27,kateg2,E$2,0)) -> 1957-1966 | H27: =IF(I27=20,1,IF(I27=40,2,IF(I27=60,3,IF(I27=80,4,5)))) -> 4 | I27: 80 | J27: =IF(ISERROR(VLOOKUP(D27,Kateg_2!$C$61:$N$89,J$2,0)),"",VLOOKUP(D27,Kateg_2!$C$61:$N$89,J$2,0)) -> C12 | K27: =IF(J27="",0,HLOOKUP(J27,Vstup!$L$1:$AN$5,5,FALSE)) -> 6 | M27: =N27&O27&P27&Q27&R27&S27&T27&U27&V27&W27&X27&Y27&Z27&AA27&AB27&AC27&AH27&AI27&AJ27&AK27&AL27&AD27&AE27&AF27&AG27 -> 1 | AA27: 1 | AM27: =J27 -> C12 | AN27: Muži - | AO27: =CONCATENATE(AN27," ročník narození ",G27," ",I27," m") -> Muži - ročník narození 1957-1966 80 m | BQ27: =IF(ISERROR(MATCH(1,N27:AL27)),"",MATCH(1,N27:AL27)) -> 14 | BR27: =H27 -> 4 | BV27: =IF($K27="","",N27*$K27) -> 0 | BW27: =IF($K27="","",O27*$K27) -> 0 | BX27: =IF($K27="","",P27*$K27) -> 0 | BY27: =IF($K27="","",Q27*$K27) -> 0 | BZ27: =IF($K27="","",R27*$K27) -> 0 | CA27: =IF($K27="","",S27*$K27) -> 0 | CB27: =IF($K27="","",T27*$K27) -> 0 | CC27: =IF($K27="","",U27*$K27) -> 0 | ... CR27: =IF($K27="","",AJ27*$K27) -> 0 | CS27: =IF(MID(A27,1,1)="D",0,1) -> 1 | CT27: =IF(B27="","",CONCATENATE(B27," - ročník ",G27," ",I27," m")) -> Muži D - ročník 1957-1966 80 m | CU27: =IF(CT27="",0,COUNTIF(Vysledky!$E$4:$E$491,Kategorie!A27)) -> 0
A28: =J28 -> C13 | B28: =IF(A28="","",VLOOKUP(Kategorie!A28,kateg2,4,0)) -> Muži E | C28: 20 | D28: 55 | E28: =IF($J28="",0,VLOOKUP($J28,kateg2,E$2,0)) -> 1956 | F28: =IF($J28="",0,VLOOKUP($J28,kateg2,F$2,0)) -> 1926 | G28: =IF(E28="","",VLOOKUP($J28,kateg2,G$2,0) & "-" & VLOOKUP($J28,kateg2,E$2,0)) -> 1926-1956 | H28: =IF(I28=20,1,IF(I28=40,2,IF(I28=60,3,IF(I28=80,4,5)))) -> 5 | I28: 110 | J28: =IF(ISERROR(VLOOKUP(D28,Kateg_2!$C$61:$N$89,J$2,0)),"",VLOOKUP(D28,Kateg_2!$C$61:$N$89,J$2,0)) -> C13 | K28: =IF(J28="",0,HLOOKUP(J28,Vstup!$L$1:$AN$5,5,FALSE)) -> 4 | L28: =COUNTIF(Vstup!$J$7:$J$355,H28) -> 31 | M28: =N28&O28&P28&Q28&R28&S28&T28&U28&V28&W28&X28&Y28&Z28&AA28&AB28&AC28&AH28&AI28&AJ28&AK28&AL28&AD28&AE28&AF28&AG28 -> 1 | AA28: 1 | AM28: =J28 -> C13 | AN28: Chlapci - | AO28: =CONCATENATE(AN28," ročník narození ",G28," ",I28," m") -> Chlapci - ročník narození 1926-1956 110 m | BQ28: =IF(ISERROR(MATCH(1,N28:AL28)),"",MATCH(1,N28:AL28)) -> 14 | BR28: =H28 -> 5 | BV28: =IF($K28="","",N28*$K28) -> 0 | BW28: =IF($K28="","",O28*$K28) -> 0 | BX28: =IF($K28="","",P28*$K28) -> 0 | BY28: =IF($K28="","",Q28*$K28) -> 0 | BZ28: =IF($K28="","",R28*$K28) -> 0 | CA28: =IF($K28="","",S28*$K28) -> 0 | CB28: =IF($K28="","",T28*$K28) -> 0 | CC28: =IF($K28="","",U28*$K28) -> 0 | ... CR28: =IF($K28="","",AJ28*$K28) -> 0 | CS28: =IF(MID(A28,1,1)="D",0,1) -> 1 | CT28: =IF(B28="","",CONCATENATE(B28," - ročník ",G28," ",I28," m")) -> Muži E - ročník 1926-1956 110 m | CU28: =IF(CT28="",0,COUNTIF(Vysledky!$E$4:$E$491,Kategorie!A28)) -> 0
A29: =J29 -> D09 | B29: =IF(A29="","",VLOOKUP(Kategorie!A29,kateg2,4,0)) -> Ženy A | D29: 51 | E29: =IF($J29="",0,VLOOKUP($J29,kateg2,E$2,0)) -> 2006 | F29: =IF($J29="",0,VLOOKUP($J29,kateg2,F$2,0)) -> 1992 | G29: =IF(E29="","",VLOOKUP($J29,kateg2,G$2,0) & "-" & VLOOKUP($J29,kateg2,E$2,0)) -> 1992-2006 | H29: =IF(I29=20,1,IF(I29=40,2,IF(I29=60,3,IF(I29=80,4,5)))) -> 5 | I29: 110 | J29: =IF(ISERROR(VLOOKUP(D29,Kateg_2!$C$61:$N$89,J$2,0)),"",VLOOKUP(D29,Kateg_2!$C$61:$N$89,J$2,0)) -> D09 | K29: =IF(J29="",0,HLOOKUP(J29,Vstup!$L$1:$AN$5,5,FALSE)) -> 4 | M29: =N29&O29&P29&Q29&R29&S29&T29&U29&V29&W29&X29&Y29&Z29&AA29&AB29&AC29&AH29&AI29&AJ29&AK29&AL29&AD29&AE29&AF29&AG29 -> 1 | AB29: 1 | BQ29: =IF(ISERROR(MATCH(1,N29:AL29)),"",MATCH(1,N29:AL29)) -> 15 | BR29: =H29 -> 5 | BV29: =IF($K29="","",N29*$K29) -> 0 | BW29: =IF($K29="","",O29*$K29) -> 0 | BX29: =IF($K29="","",P29*$K29) -> 0 | BY29: =IF($K29="","",Q29*$K29) -> 0 | BZ29: =IF($K29="","",R29*$K29) -> 0 | CA29: =IF($K29="","",S29*$K29) -> 0 | CB29: =IF($K29="","",T29*$K29) -> 0 | CC29: =IF($K29="","",U29*$K29) -> 0 | ... CR29: =IF($K29="","",AJ29*$K29) -> 0 | CS29: =IF(MID(A29,1,1)="D",0,1) -> 0 | CT29: =IF(B29="","",CONCATENATE(B29," - ročník ",G29," ",I29," m")) -> Ženy A - ročník 1992-2006 110 m | CU29: =IF(CT29="",0,COUNTIF(Vysledky!$E$4:$E$491,Kategorie!A29)) -> 0
A30: =J30 -> C09 | B30: =IF(A30="","",VLOOKUP(Kategorie!A30,kateg2,4,0)) -> Muži A | D30: 52 | E30: =IF($J30="",0,VLOOKUP($J30,kateg2,E$2,0)) -> 2006 | F30: =IF($J30="",0,VLOOKUP($J30,kateg2,F$2,0)) -> 1987 | G30: =IF(E30="","",VLOOKUP($J30,kateg2,G$2,0) & "-" & VLOOKUP($J30,kateg2,E$2,0)) -> 1987-2006 | H30: =IF(I30=20,1,IF(I30=40,2,IF(I30=60,3,IF(I30=80,4,5)))) -> 5 | I30: 110 | J30: =IF(ISERROR(VLOOKUP(D30,Kateg_2!$C$61:$N$89,J$2,0)),"",VLOOKUP(D30,Kateg_2!$C$61:$N$89,J$2,0)) -> C09 | K30: =IF(J30="",0,HLOOKUP(J30,Vstup!$L$1:$AN$5,5,FALSE)) -> 9 | M30: =N30&O30&P30&Q30&R30&S30&T30&U30&V30&W30&X30&Y30&Z30&AA30&AB30&AC30&AH30&AI30&AJ30&AK30&AL30&AD30&AE30&AF30&AG30 -> 1 | AE30: 1 | BQ30: =IF(ISERROR(MATCH(1,N30:AL30)),"",MATCH(1,N30:AL30)) -> 18 | BR30: =H30 -> 5 | BV30: =IF($K30="","",N30*$K30) -> 0 | BW30: =IF($K30="","",O30*$K30) -> 0 | BX30: =IF($K30="","",P30*$K30) -> 0 | BY30: =IF($K30="","",Q30*$K30) -> 0 | BZ30: =IF($K30="","",R30*$K30) -> 0 | CA30: =IF($K30="","",S30*$K30) -> 0 | CB30: =IF($K30="","",T30*$K30) -> 0 | CC30: =IF($K30="","",U30*$K30) -> 0 | ... CR30: =IF($K30="","",AJ30*$K30) -> 0 | CS30: =IF(MID(A30,1,1)="D",0,1) -> 1 | CT30: =IF(B30="","",CONCATENATE(B30," - ročník ",G30," ",I30," m")) -> Muži A - ročník 1987-2006 110 m | CU30: =IF(CT30="",0,COUNTIF(Vysledky!$E$4:$E$491,Kategorie!A30)) -> 0
A31: =J31 -> C10 | B31: =IF(A31="","",VLOOKUP(Kategorie!A31,kateg2,4,0)) -> Muži B | C31: 20 | D31: 53 | E31: =IF($J31="",0,VLOOKUP($J31,kateg2,E$2,0)) -> 1986 | F31: =IF($J31="",0,VLOOKUP($J31,kateg2,F$2,0)) -> 1977 | G31: =IF(E31="","",VLOOKUP($J31,kateg2,G$2,0) & "-" & VLOOKUP($J31,kateg2,E$2,0)) -> 1977-1986 | H31: =IF(I31=20,1,IF(I31=40,2,IF(I31=60,3,IF(I31=80,4,5)))) -> 5 | I31: 110 | J31: =IF(ISERROR(VLOOKUP(D31,Kateg_2!$C$61:$N$89,J$2,0)),"",VLOOKUP(D31,Kateg_2!$C$61:$N$89,J$2,0)) -> C10 | K31: =IF(J31="",0,HLOOKUP(J31,Vstup!$L$1:$AN$5,5,FALSE)) -> 5 | M31: =N31&O31&P31&Q31&R31&S31&T31&U31&V31&W31&X31&Y31&Z31&AA31&AB31&AC31&AH31&AI31&AJ31&AK31&AL31&AD31&AE31&AF31&AG31 -> 1 | AD31: 1 | AM31: =J31 -> C10 | AN31: Ženy - | AO31: =CONCATENATE(AN31," ročník narození ",G31," ",I31," m") -> Ženy - ročník narození 1977-1986 110 m | BQ31: =IF(ISERROR(MATCH(1,N31:AL31)),"",MATCH(1,N31:AL31)) -> 17 | BR31: =H31 -> 5 | BV31: =IF($K31="","",N31*$K31) -> 0 | BW31: =IF($K31="","",O31*$K31) -> 0 | BX31: =IF($K31="","",P31*$K31) -> 0 | BY31: =IF($K31="","",Q31*$K31) -> 0 | BZ31: =IF($K31="","",R31*$K31) -> 0 | CA31: =IF($K31="","",S31*$K31) -> 0 | CB31: =IF($K31="","",T31*$K31) -> 0 | CC31: =IF($K31="","",U31*$K31) -> 0 | ... CR31: =IF($K31="","",AJ31*$K31) -> 0 | CS31: =IF(MID(A31,1,1)="D",0,1) -> 1 | CT31: =IF(B31="","",CONCATENATE(B31," - ročník ",G31," ",I31," m")) -> Muži B - ročník 1977-1986 110 m | CU31: =IF(CT31="",0,COUNTIF(Vysledky!$E$4:$E$491,Kategorie!A31)) -> 0
A32: =J32 -> C11 | B32: =IF(A32="","",VLOOKUP(Kategorie!A32,kateg2,4,0)) -> Muži C | C32: 40 | D32: 54 | E32: =IF($J32="",0,VLOOKUP($J32,kateg2,E$2,0)) -> 1976 | F32: =IF($J32="",0,VLOOKUP($J32,kateg2,F$2,0)) -> 1967 | G32: =IF(E32="","",VLOOKUP($J32,kateg2,G$2,0) & "-" & VLOOKUP($J32,kateg2,E$2,0)) -> 1967-1976 | H32: =IF(I32=20,1,IF(I32=40,2,IF(I32=60,3,IF(I32=80,4,5)))) -> 5 | I32: 110 | J32: =IF(ISERROR(VLOOKUP(D32,Kateg_2!$C$61:$N$89,J$2,0)),"",VLOOKUP(D32,Kateg_2!$C$61:$N$89,J$2,0)) -> C11 | K32: =IF(J32="",0,HLOOKUP(J32,Vstup!$L$1:$AN$5,5,FALSE)) -> 9 | M32: =N32&O32&P32&Q32&R32&S32&T32&U32&V32&W32&X32&Y32&Z32&AA32&AB32&AC32&AH32&AI32&AJ32&AK32&AL32&AD32&AE32&AF32&AG32 -> 1 | AC32: 1 | AM32: =J32 -> C11 | AN32: Muži - | AO32: =CONCATENATE(AN32," ročník narození ",G32," ",I32," m") -> Muži - ročník narození 1967-1976 110 m | BQ32: =IF(ISERROR(MATCH(1,N32:AL32)),"",MATCH(1,N32:AL32)) -> 16 | BR32: =H32 -> 5 | BV32: =IF($K32="","",N32*$K32) -> 0 | BW32: =IF($K32="","",O32*$K32) -> 0 | BX32: =IF($K32="","",P32*$K32) -> 0 | BY32: =IF($K32="","",Q32*$K32) -> 0 | BZ32: =IF($K32="","",R32*$K32) -> 0 | CA32: =IF($K32="","",S32*$K32) -> 0 | CB32: =IF($K32="","",T32*$K32) -> 0 | CC32: =IF($K32="","",U32*$K32) -> 0 | ... CR32: =IF($K32="","",AJ32*$K32) -> 0 | CS32: =IF(MID(A32,1,1)="D",0,1) -> 1 | CT32: =IF(B32="","",CONCATENATE(B32," - ročník ",G32," ",I32," m")) -> Muži C - ročník 1967-1976 110 m | CU32: =IF(CT32="",0,COUNTIF(Vysledky!$E$4:$E$491,Kategorie!A32)) -> 0
A33: =J33 | B33: =IF(A33="","",VLOOKUP(Kategorie!A33,kateg2,4,0)) | C33: 50 | D33: 56 | E33: =IF($J33="",0,VLOOKUP($J33,kateg2,E$2,0)) -> 0 | F33: =IF($J33="",0,VLOOKUP($J33,kateg2,F$2,0)) -> 0 | G33: =IF(E33="","",VLOOKUP($J33,kateg2,G$2,0) & "-" & VLOOKUP($J33,kateg2,E$2,0)) -> - | H33: =IF(I33=20,1,IF(I33=40,2,IF(I33=60,3,IF(I33=80,4,5)))) -> 5 | I33: 110 | J33: =IF(ISERROR(VLOOKUP(D33,Kateg_2!$C$61:$N$89,J$2,0)),"",VLOOKUP(D33,Kateg_2!$C$61:$N$89,J$2,0)) | K33: =IF(J33="",0,HLOOKUP(J33,Vstup!$L$1:$AN$5,5,FALSE)) -> 0 | M33: =N33&O33&P33&Q33&R33&S33&T33&U33&V33&W33&X33&Y33&Z33&AA33&AB33&AC33&AH33&AI33&AJ33&AK33&AL33&AD33&AE33&AF33&AG33 | AM33: =J33 | AN33: Muži - | AO33: =CONCATENATE(AN33," ročník narození ",G33," ",I33," m") -> Muži - ročník narození - 110 m | BQ33: =IF(ISERROR(MATCH(1,N33:AL33)),"",MATCH(1,N33:AL33)) | BR33: =H33 -> 5 | BV33: =IF($K33="","",N33*$K33) -> 0 | BW33: =IF($K33="","",O33*$K33) -> 0 | BX33: =IF($K33="","",P33*$K33) -> 0 | BY33: =IF($K33="","",Q33*$K33) -> 0 | BZ33: =IF($K33="","",R33*$K33) -> 0 | CA33: =IF($K33="","",S33*$K33) -> 0 | CB33: =IF($K33="","",T33*$K33) -> 0 | CC33: =IF($K33="","",U33*$K33) -> 0 | ... CR33: =IF($K33="","",AJ33*$K33) -> 0 | CS33: =IF(MID(A33,1,1)="D",0,1) -> 1 | CT33: =IF(B33="","",CONCATENATE(B33," - ročník ",G33," ",I33," m")) | CU33: =IF(CT33="",0,COUNTIF(Vysledky!$E$4:$E$491,Kategorie!A33)) -> 0
J34: =IF(ISERROR(VLOOKUP(D34,Kateg_2!$C$61:$N$89,J$2,0)),"",VLOOKUP(D34,Kateg_2!$C$61:$N$89,J$2,0)) | BQ34: =IF(ISERROR(MATCH(1,N34:AL34)),"",MATCH(1,N34:AL34)) | BR34: =H34 -> 0
M35: =N35&O35&P35&Q35&R35&S35&T35&U35&V35&W35&X35&Y35&Z35&AA35&AB35&AC35&AH35&AI35&AJ35&AK35&AL35 | BV35: =N35*$K35 -> 0 | BW35: =O35*$K35 -> 0 | BX35: =P35*$K35 -> 0 | BY35: =Q35*$K35 -> 0 | BZ35: =R35*$K35 -> 0 | CA35: =S35*$K35 -> 0 | CB35: =T35*$K35 -> 0 | CC35: =U35*$K35 -> 0 | ... CK35: =AC35*$K35 -> 0 | CL35: =AH35*$K35 -> 0 | CM35: =AI35*$K35 -> 0 | CN35: =AJ35*$K35 -> 0 | CO35: =AK35*$K35 -> 0 | CP35: =AL35*$K35 -> 0
K36: =SUM(K4:K33) -> 137 | N36: =BV36 -> 15 | O36: =BW36 -> 6 | P36: =BX36 -> 7 | Q36: =BY36 -> 5 | R36: =BZ36 -> 6 | S36: =CA36 -> 6 | T36: =CB36 -> 7 | U36: =CC36 -> 7 | ... AJ36: =CR36 -> 0 | AK36: =CT36 -> 0 | AL36: =CU36 -> 0 | BV36: =SUM(BV4:BV35) -> 15 | BW36: =SUM(BW4:BW35) -> 6 | BX36: =SUM(BX4:BX35) -> 7 | BY36: =SUM(BY4:BY35) -> 5 | BZ36: =SUM(BZ4:BZ35) -> 6 | CA36: =SUM(CA4:CA35) -> 6 | CB36: =SUM(CB4:CB35) -> 7 | CC36: =SUM(CC4:CC35) -> 7 | ... CR36: =SUM(CR4:CR35) -> 0
E37: + | J37: Počet cen (1 - 3 pořadí): | K37: =pocet_cen(K4:K35) -> #NAME? | M37: 1 | N37: D01 | O37: D02 | P37: C01 | Q37: C02 | R37: D03 | S37: C03 | T37: D04 | U37: D05 | V37: C05 | W37: D07 | X37: D10 | Y37: D11 | Z37: C07 | AA37: K01 | AB37: D09 | AC37: C11 | AD37: C10 | AE37: C09
M38: 2 | O38: H01 | S38: C04 | U38: D06 | V38: C06 | W38: D12 | Z38: C08 | AA38: C12
M39: 3 | AA39: C13
M40: 4
...

Sheet Vstup
B1: Skupina | C1: POČET | D1: Skupina | E1: POČET | F1: Název: | G1: BĚH K BOŽÍMU HROBU SV. Hostýn | L1: =L6 -> C01 | M1: =M6 -> C02 | N1: =N6 -> C03 | O1: =O6 -> C04 | P1: =P6 -> C05 | Q1: =Q6 -> C06 | R1: =R6 -> C07 | S1: =S6 -> C08 | ... AL1: =AL6 -> D12 | AS1: Datum
B2: 1 | C2: =COUNTIF($J$7:$J$137,B2) -> 33 | D2: 4 | E2: =COUNTIF($J$7:$J$137,D2) -> 37 | L2: =VLOOKUP(L6,kateg2,7,FALSE) -> 2021 | M2: =VLOOKUP(M6,kateg2,7,FALSE) -> 2019 | N2: =VLOOKUP(N6,kateg2,7,FALSE) -> 2017 | O2: =VLOOKUP(O6,kateg2,7,FALSE) -> 2015 | P2: =VLOOKUP(P6,kateg2,7,FALSE) -> 2013 | Q2: =VLOOKUP(Q6,kateg2,7,FALSE) -> 2011 | R2: =VLOOKUP(R6,kateg2,7,FALSE) -> 2009 | S2: =VLOOKUP(S6,kateg2,7,FALSE) -> 2007 | ... AL2: =VLOOKUP(AL6,kateg2,7,FALSE) -> 1926 | AS2: =NASTAVENÍ!$D$3 -> 46256
B3: 2 | C3: =COUNTIF($J$7:$J$137,B3) -> 19 | D3: 5 | E3: =COUNTIF($J$7:$J$137,D3) -> 27 | AR3: Dnes je: | AS3: =TODAY() -> 46269
B4: 3 | C4: =COUNTIF($J$7:$J$137,B4) -> 15 | D4: CELKEM | E4: =SUM(C2:C4,E2:E3) -> 131 | J4: =IF(ISERROR(VLOOKUP(D4,Kateg_2!$C$61:$N$89,J$2,0)),"",VLOOKUP(D4,Kateg_2!$C$61:$N$89,J$2,0)) | L4: =VLOOKUP(L6,kateg2,8,FALSE) -> 2026 | M4: =VLOOKUP(M6,kateg2,8,FALSE) -> 2020 | N4: =VLOOKUP(N6,kateg2,8,FALSE) -> 2018 | O4: =VLOOKUP(O6,kateg2,8,FALSE) -> 2016 | P4: =VLOOKUP(P6,kateg2,8,FALSE) -> 2014 | Q4: =VLOOKUP(Q6,kateg2,8,FALSE) -> 2012 | R4: =VLOOKUP(R6,kateg2,8,FALSE) -> 2010 | S4: =VLOOKUP(S6,kateg2,8,FALSE) -> 2008 | ... AL4: =VLOOKUP(AL6,kateg2,8,FALSE) -> 1971
J5: POČTY: | L5: =COUNTIF($H$7:$H$355,L6) -> 7 | M5: =COUNTIF($H$7:$H$355,M6) -> 5 | N5: =COUNTIF($H$7:$H$355,N6) -> 5 | O5: =COUNTIF($H$7:$H$355,O6) -> 1 | P5: =COUNTIF($H$7:$H$355,P6) -> 5 | Q5: =COUNTIF($H$7:$H$355,Q6) -> 3 | R5: =COUNTIF($H$7:$H$355,R6) -> 8 | S5: =COUNTIF($H$7:$H$355,S6) -> 1 | ... AL5: =COUNTIF($H$7:$H$355,AL6) -> 3
A6: Poř.čis. | B6: Startovní číslo | C6: Příjmení | D6: Jméno | E6: muž/žena | F6: Ročník narození | G6: Jednota - bydliště | H6: kategorie | I6: Vzdálenost | J6: SK. | L6: C01 | M6: C02 | N6: C03 | O6: C04 | P6: C05 | Q6: C06 | R6: C07 | S6: C08 | T6: C09 | U6: C10 | V6: C11 | W6: C12 | X6: C13 | Y6: H01 | Z6: K01 | AA6: D01 | AB6: D02 | AC6: D03 | AD6: D04 | AE6: D05 | AF6: D06 | AG6: D07 | AH6: D08 | AI6: D09 | AJ6: D10 | AK6: D11 | AL6: D12 | AM6: KATEGORIE | AN6: POČ. | AO6: [ m ] | AP6: ročníky
A7: 1 | B7: 2 | C7: Kynštová | D7: Anna | E7: 0 | F7: 2014 | G7: Vysoké Mýto | H7: D05 | I7: =IF(AO7="","",AO7 & " m") -> 60 m | J7: =IF(H7="","",VLOOKUP(H7,Kategorie!$A$4:$J$35,8,FALSE)) -> 3 | L7: =IF($E7=0,"",IF(AND($F7>=L$2,$F7<=L$4),L$6,"")) | M7: =IF($E7=0,"",IF(AND($F7>=M$2,$F7<=M$4),M$6,"")) | U7: =IF($E7=0,"",IF(AND($F7>=U$2,$F7<=U$4),U$6,"")) | V7: =IF($E7=0,"",IF(AND($F7>=V$2,$F7<=V$4),V$6,"")) | W7: =IF($E7=0,"",IF(AND($F7>=W$2,$F7<=W$4),W$6,"")) | X7: =IF($E7=0,"",IF(AND($F7>=X$2,$F7<=X$4),X$6,"")) | AA7: =IF($E7=1,"",IF(AND($F7>=AA$2,$F7<=AA$4),AA$6,"")) | AB7: =IF($E7=1,"",IF(AND($F7>=AB$2,$F7<=AB$4),AB$6,"")) | AC7: =IF($E7=1,"",IF(AND($F7>=AC$2,$F7<=AC$4),AC$6,"")) | AD7: =IF($E7=1,"",IF(AND($F7>=AD$2,$F7<=AD$4),AD$6,"")) | AE7: =IF($E7=1,"",IF(AND($F7>=AE$2,$F7<=AE$4),AE$6,"")) -> D05 | AF7: =IF($E7=1,"",IF(AND($F7>=AF$2,$F7<=AF$4),AF$6,"")) | AG7: =IF($E7=1,"",IF(AND($F7>=AG$2,$F7<=AG$4),AG$6,"")) | AH7: =IF($E7=1,"",IF(AND($F7>=AH$2,$F7<=AH$4),AH$6,"")) | ... AL7: =IF($E7=1,"",IF(AND($F7>=AL$2,$F7<=AL$4),AL$6,"")) | AM7: =IF(H7="","",VLOOKUP(H7,popisky,4,0)) -> Mladší žákyně | AN7: =IF(ISERROR(HLOOKUP(H7,$L$1:$AL$5,5,0)),"",HLOOKUP(H7,$L$1:$AL$5,5,0)) -> 2 | AO7: =IF(H7="","",VLOOKUP(H7,popisky,10,0)) -> 60 | AP7: =IF(H7="","",VLOOKUP(H7,popisky,5,0) & " - " & VLOOKUP(H7,popisky,6,0)) -> 2013 - 2014
A8: =IF(C7="","",MAX($A$7:A7)+1) -> 2 | B8: 3 | C8: Kynštová | D8: Marie | E8: 0 | F8: 2010 | G8: Vysoké Mýto | H8: D07 | I8: =IF(AO8="","",AO8 & " m") -> 80 m | J8: =IF(H8="","",VLOOKUP(H8,Kategorie!$A$4:$J$35,8,FALSE)) -> 4 | L8: =IF($E8=0,"",IF(AND($F8>=L$2,$F8<=L$4),L$6,"")) | M8: =IF($E8=0,"",IF(AND($F8>=M$2,$F8<=M$4),M$6,"")) | N8: =IF($E8=0,"",IF(AND($F8>=N$2,$F8<=N$4),N$6,"")) | U8: =IF($E8=0,"",IF(AND($F8>=U$2,$F8<=U$4),U$6,"")) | V8: =IF($E8=0,"",IF(AND($F8>=V$2,$F8<=V$4),V$6,"")) | W8: =IF($E8=0,"",IF(AND($F8>=W$2,$F8<=W$4),W$6,"")) | X8: =IF($E8=0,"",IF(AND($F8>=X$2,$F8<=X$4),X$6,"")) | AA8: =IF($E8=1,"",IF(AND($F8>=AA$2,$F8<=AA$4),AA$6,"")) | AB8: =IF($E8=1,"",IF(AND($F8>=AB$2,$F8<=AB$4),AB$6,"")) | AC8: =IF($E8=1,"",IF(AND($F8>=AC$2,$F8<=AC$4),AC$6,"")) | AD8: =IF($E8=1,"",IF(AND($F8>=AD$2,$F8<=AD$4),AD$6,"")) | AE8: =IF($E8=1,"",IF(AND($F8>=AE$2,$F8<=AE$4),AE$6,"")) | AF8: =IF($E8=1,"",IF(AND($F8>=AF$2,$F8<=AF$4),AF$6,"")) | AG8: =IF($E8=1,"",IF(AND($F8>=AG$2,$F8<=AG$4),AG$6,"")) -> D07 | AH8: =IF($E8=1,"",IF(AND($F8>=AH$2,$F8<=AH$4),AH$6,"")) | ... AL8: =IF($E8=1,"",IF(AND($F8>=AL$2,$F8<=AL$4),AL$6,"")) | AM8: =IF(H8="","",VLOOKUP(H8,popisky,4,0)) -> Dorostenky | AN8: =IF(ISERROR(HLOOKUP(H8,$L$1:$AL$5,5,0)),"",HLOOKUP(H8,$L$1:$AL$5,5,0)) -> 2 | AO8: =IF(H8="","",VLOOKUP(H8,popisky,10,0)) -> 80 | AP8: =IF(H8="","",VLOOKUP(H8,popisky,5,0) & " - " & VLOOKUP(H8,popisky,6,0)) -> 2009 - 2010
A9: =IF(C8="","",MAX($A$7:A8)+1) -> 3 | B9: 4 | C9: Kynštová | D9: Marie | E9: 0 | F9: 1983 | G9: Vysoké Mýto | H9: D10 | I9: =IF(AO9="","",AO9 & " m") -> 80 m | J9: =IF(H9="","",VLOOKUP(H9,Kategorie!$A$4:$J$35,8,FALSE)) -> 4 | L9: =IF($E9=0,"",IF(AND($F9>=L$2,$F9<=L$4),L$6,"")) | M9: =IF($E9=0,"",IF(AND($F9>=M$2,$F9<=M$4),M$6,"")) | N9: =IF($E9=0,"",IF(AND($F9>=N$2,$F9<=N$4),N$6,"")) | U9: =IF($E9=0,"",IF(AND($F9>=U$2,$F9<=U$4),U$6,"")) | V9: =IF($E9=0,"",IF(AND($F9>=V$2,$F9<=V$4),V$6,"")) | W9: =IF($E9=0,"",IF(AND($F9>=W$2,$F9<=W$4),W$6,"")) | X9: =IF($E9=0,"",IF(AND($F9>=X$2,$F9<=X$4),X$6,"")) | AA9: =IF($E9=1,"",IF(AND($F9>=AA$2,$F9<=AA$4),AA$6,"")) | AB9: =IF($E9=1,"",IF(AND($F9>=AB$2,$F9<=AB$4),AB$6,"")) | AC9: =IF($E9=1,"",IF(AND($F9>=AC$2,$F9<=AC$4),AC$6,"")) | AD9: =IF($E9=1,"",IF(AND($F9>=AD$2,$F9<=AD$4),AD$6,"")) | AE9: =IF($E9=1,"",IF(AND($F9>=AE$2,$F9<=AE$4),AE$6,"")) | AF9: =IF($E9=1,"",IF(AND($F9>=AF$2,$F9<=AF$4),AF$6,"")) | AG9: =IF($E9=1,"",IF(AND($F9>=AG$2,$F9<=AG$4),AG$6,"")) | AH9: =IF($E9=1,"",IF(AND($F9>=AH$2,$F9<=AH$4),AH$6,"")) | ... AL9: =IF($E9=1,"",IF(AND($F9>=AL$2,$F9<=AL$4),AL$6,"")) | AM9: =IF(H9="","",VLOOKUP(H9,popisky,4,0)) -> Ženy B | AN9: =IF(ISERROR(HLOOKUP(H9,$L$1:$AL$5,5,0)),"",HLOOKUP(H9,$L$1:$AL$5,5,0)) -> 9 | AO9: =IF(H9="","",VLOOKUP(H9,popisky,10,0)) -> 80 | AP9: =IF(H9="","",VLOOKUP(H9,popisky,5,0) & " - " & VLOOKUP(H9,popisky,6,0)) -> 1991 - 1982
A10: =IF(C9="","",MAX($A$7:A9)+1) -> 4 | B10: 5 | C10: Brázdilová | D10: Amélie | E10: 0 | F10: 2022 | G10: Fryšták | H10: D01 | I10: =IF(AO10="","",AO10 & " m") -> 20 m | J10: =IF(H10="","",VLOOKUP(H10,Kategorie!$A$4:$J$35,8,FALSE)) -> 1 | L10: =IF($E10=0,"",IF(AND($F10>=L$2,$F10<=L$4),L$6,"")) | M10: =IF($E10=0,"",IF(AND($F10>=M$2,$F10<=M$4),M$6,"")) | N10: =IF($E10=0,"",IF(AND($F10>=N$2,$F10<=N$4),N$6,"")) | U10: =IF($E10=0,"",IF(AND($F10>=U$2,$F10<=U$4),U$6,"")) | V10: =IF($E10=0,"",IF(AND($F10>=V$2,$F10<=V$4),V$6,"")) | W10: =IF($E10=0,"",IF(AND($F10>=W$2,$F10<=W$4),W$6,"")) | X10: =IF($E10=0,"",IF(AND($F10>=X$2,$F10<=X$4),X$6,"")) | AA10: =IF($E10=1,"",IF(AND($F10>=AA$2,$F10<=AA$4),AA$6,"")) -> D01 | AB10: =IF($E10=1,"",IF(AND($F10>=AB$2,$F10<=AB$4),AB$6,"")) | AC10: =IF($E10=1,"",IF(AND($F10>=AC$2,$F10<=AC$4),AC$6,"")) | AD10: =IF($E10=1,"",IF(AND($F10>=AD$2,$F10<=AD$4),AD$6,"")) | AE10: =IF($E10=1,"",IF(AND($F10>=AE$2,$F10<=AE$4),AE$6,"")) | AF10: =IF($E10=1,"",IF(AND($F10>=AF$2,$F10<=AF$4),AF$6,"")) | AG10: =IF($E10=1,"",IF(AND($F10>=AG$2,$F10<=AG$4),AG$6,"")) | AH10: =IF($E10=1,"",IF(AND($F10>=AH$2,$F10<=AH$4),AH$6,"")) | ... AL10: =IF($E10=1,"",IF(AND($F10>=AL$2,$F10<=AL$4),AL$6,"")) | AM10: =IF(H10="","",VLOOKUP(H10,popisky,4,0)) -> Benjamínci D | AN10: =IF(ISERROR(HLOOKUP(H10,$L$1:$AL$5,5,0)),"",HLOOKUP(H10,$L$1:$AL$5,5,0)) -> 15 | AO10: =IF(H10="","",VLOOKUP(H10,popisky,10,0)) -> 20 | AP10: =IF(H10="","",VLOOKUP(H10,popisky,5,0) & " - " & VLOOKUP(H10,popisky,6,0)) -> 2021 - a mladší
A11: =IF(C10="","",MAX($A$7:A10)+1) -> 5 | B11: 6 | C11: Brázdilová | D11: Natálie | E11: 0 | F11: 2022 | G11: Fryšták | H11: D01 | I11: =IF(AO11="","",AO11 & " m") -> 20 m | J11: =IF(H11="","",VLOOKUP(H11,Kategorie!$A$4:$J$35,8,FALSE)) -> 1 | L11: =IF($E11=0,"",IF(AND($F11>=L$2,$F11<=L$4),L$6,"")) | M11: =IF($E11=0,"",IF(AND($F11>=M$2,$F11<=M$4),M$6,"")) | N11: =IF($E11=0,"",IF(AND($F11>=N$2,$F11<=N$4),N$6,"")) | U11: =IF($E11=0,"",IF(AND($F11>=U$2,$F11<=U$4),U$6,"")) | V11: =IF($E11=0,"",IF(AND($F11>=V$2,$F11<=V$4),V$6,"")) | W11: =IF($E11=0,"",IF(AND($F11>=W$2,$F11<=W$4),W$6,"")) | X11: =IF($E11=0,"",IF(AND($F11>=X$2,$F11<=X$4),X$6,"")) | AA11: =IF($E11=1,"",IF(AND($F11>=AA$2,$F11<=AA$4),AA$6,"")) -> D01 | AB11: =IF($E11=1,"",IF(AND($F11>=AB$2,$F11<=AB$4),AB$6,"")) | AC11: =IF($E11=1,"",IF(AND($F11>=AC$2,$F11<=AC$4),AC$6,"")) | AD11: =IF($E11=1,"",IF(AND($F11>=AD$2,$F11<=AD$4),AD$6,"")) | AE11: =IF($E11=1,"",IF(AND($F11>=AE$2,$F11<=AE$4),AE$6,"")) | AF11: =IF($E11=1,"",IF(AND($F11>=AF$2,$F11<=AF$4),AF$6,"")) | AG11: =IF($E11=1,"",IF(AND($F11>=AG$2,$F11<=AG$4),AG$6,"")) | AH11: =IF($E11=1,"",IF(AND($F11>=AH$2,$F11<=AH$4),AH$6,"")) | ... AL11: =IF($E11=1,"",IF(AND($F11>=AL$2,$F11<=AL$4),AL$6,"")) | AM11: =IF(H11="","",VLOOKUP(H11,popisky,4,0)) -> Benjamínci D | AN11: =IF(ISERROR(HLOOKUP(H11,$L$1:$AL$5,5,0)),"",HLOOKUP(H11,$L$1:$AL$5,5,0)) -> 15 | AO11: =IF(H11="","",VLOOKUP(H11,popisky,10,0)) -> 20 | AP11: =IF(H11="","",VLOOKUP(H11,popisky,5,0) & " - " & VLOOKUP(H11,popisky,6,0)) -> 2021 - a mladší
A12: =IF(C11="","",MAX($A$7:A11)+1) -> 6 | B12: 7 | C12: Brázdil | D12: Maxmilián | E12: 1 | F12: 2021 | G12: Holešov | H12: C01 | I12: =IF(AO12="","",AO12 & " m") -> 20 m | J12: =IF(H12="","",VLOOKUP(H12,Kategorie!$A$4:$J$35,8,FALSE)) -> 1 | L12: =IF($E12=0,"",IF(AND($F12>=L$2,$F12<=L$4),L$6,"")) -> C01 | M12: =IF($E12=0,"",IF(AND($F12>=M$2,$F12<=M$4),M$6,"")) | N12: =IF($E12=0,"",IF(AND($F12>=N$2,$F12<=N$4),N$6,"")) | U12: =IF($E12=0,"",IF(AND($F12>=U$2,$F12<=U$4),U$6,"")) | V12: =IF($E12=0,"",IF(AND($F12>=V$2,$F12<=V$4),V$6,"")) | W12: =IF($E12=0,"",IF(AND($F12>=W$2,$F12<=W$4),W$6,"")) | X12: =IF($E12=0,"",IF(AND($F12>=X$2,$F12<=X$4),X$6,"")) | AA12: =IF($E12=1,"",IF(AND($F12>=AA$2,$F12<=AA$4),AA$6,"")) | AB12: =IF($E12=1,"",IF(AND($F12>=AB$2,$F12<=AB$4),AB$6,"")) | AC12: =IF($E12=1,"",IF(AND($F12>=AC$2,$F12<=AC$4),AC$6,"")) | AD12: =IF($E12=1,"",IF(AND($F12>=AD$2,$F12<=AD$4),AD$6,"")) | AE12: =IF($E12=1,"",IF(AND($F12>=AE$2,$F12<=AE$4),AE$6,"")) | AF12: =IF($E12=1,"",IF(AND($F12>=AF$2,$F12<=AF$4),AF$6,"")) | AG12: =IF($E12=1,"",IF(AND($F12>=AG$2,$F12<=AG$4),AG$6,"")) | AH12: =IF($E12=1,"",IF(AND($F12>=AH$2,$F12<=AH$4),AH$6,"")) | ... AL12: =IF($E12=1,"",IF(AND($F12>=AL$2,$F12<=AL$4),AL$6,"")) | AM12: =IF(H12="","",VLOOKUP(H12,popisky,4,0)) -> Benjamínci H | AN12: =IF(ISERROR(HLOOKUP(H12,$L$1:$AL$5,5,0)),"",HLOOKUP(H12,$L$1:$AL$5,5,0)) -> 7 | AO12: =IF(H12="","",VLOOKUP(H12,popisky,10,0)) -> 20 | AP12: =IF(H12="","",VLOOKUP(H12,popisky,5,0) & " - " & VLOOKUP(H12,popisky,6,0)) -> 2021 - a mladší
